BEGIN:VCALENDAR
VERSION:2.0
PRODID:-//MAX Ottawa - ECPv6.15.20//NONSGML v1.0//EN
CALSCALE:GREGORIAN
METHOD:PUBLISH
X-ORIGINAL-URL:https://maxottawa.ca
X-WR-CALDESC:Events for MAX Ottawa
REFRESH-INTERVAL;VALUE=DURATION:PT1H
X-Robots-Tag:noindex
X-PUBLISHED-TTL:PT1H
BEGIN:VTIMEZONE
TZID:America/Toronto
BEGIN:DAYLIGHT
TZOFFSETFROM:-0500
TZOFFSETTO:-0400
TZNAME:EDT
DTSTART:20230312T070000
END:DAYLIGHT
BEGIN:STANDARD
TZOFFSETFROM:-0400
TZOFFSETTO:-0500
TZNAME:EST
DTSTART:20231105T060000
END:STANDARD
BEGIN:DAYLIGHT
TZOFFSETFROM:-0500
TZOFFSETTO:-0400
TZNAME:EDT
DTSTART:20240310T070000
END:DAYLIGHT
BEGIN:STANDARD
TZOFFSETFROM:-0400
TZOFFSETTO:-0500
TZNAME:EST
DTSTART:20241103T060000
END:STANDARD
BEGIN:DAYLIGHT
TZOFFSETFROM:-0500
TZOFFSETTO:-0400
TZNAME:EDT
DTSTART:20250309T070000
END:DAYLIGHT
BEGIN:STANDARD
TZOFFSETFROM:-0400
TZOFFSETTO:-0500
TZNAME:EST
DTSTART:20251102T060000
END:STANDARD
END:VTIMEZONE
BEGIN:VEVENT
DTSTART;TZID=America/Toronto:20241127T180000
DTEND;TZID=America/Toronto:20241127T200000
DTSTAMP:20260419T213410
CREATED:20241029T203610Z
LAST-MODIFIED:20241105T202324Z
UID:10000194-1732730400-1732737600@maxottawa.ca
SUMMARY:Drag Me To Trivia
DESCRIPTION:Join the Carleton Communication Society (CCS) for an unforgettable evening of fun\, fabulousness\, and fierce competition at Drag Me to Trivia! Dive into the excitement with trivia that celebrates pop culture\, media\, and everything in between—all hosted by one of Ottawa’s most dazzling drag performers. Expect an electric atmosphere\, fabulous performances\, and questions that challenge your knowledge and spark lively debates. Whether you’re a trivia aficionado or just looking for a great time with friends\, this is the event you won’t want to miss.So\, dust off your trivia skills\, gather your friends\, and prepare to be entertained! Get ready for a night where knowledge meets glitter at Drag Me to Trivia!
URL:https://maxottawa.ca/list/drag-me-to-trivia/
LOCATION:Ollie’s Pub\, 1125 Colonel By Dr.\, Ottawa\, Ontario\, K1S5B7\, Canada
CATEGORIES:Drag & Burlesque,Social
ORGANIZER;CN="Carleton Communication Society":MAILTO:carletoncuss@gmail.com
END:VEVENT
END:VCALENDAR