BEGIN:VCALENDAR
VERSION:2.0
PRODID:-//MAX Ottawa - ECPv6.15.20//NONSGML v1.0//EN
CALSCALE:GREGORIAN
METHOD:PUBLISH
X-ORIGINAL-URL:https://maxottawa.ca
X-WR-CALDESC:Events for MAX Ottawa
REFRESH-INTERVAL;VALUE=DURATION:PT1H
X-Robots-Tag:noindex
X-PUBLISHED-TTL:PT1H
BEGIN:VTIMEZONE
TZID:America/Toronto
BEGIN:DAYLIGHT
TZOFFSETFROM:-0500
TZOFFSETTO:-0400
TZNAME:EDT
DTSTART:20240310T070000
END:DAYLIGHT
BEGIN:STANDARD
TZOFFSETFROM:-0400
TZOFFSETTO:-0500
TZNAME:EST
DTSTART:20241103T060000
END:STANDARD
BEGIN:DAYLIGHT
TZOFFSETFROM:-0500
TZOFFSETTO:-0400
TZNAME:EDT
DTSTART:20250309T070000
END:DAYLIGHT
BEGIN:STANDARD
TZOFFSETFROM:-0400
TZOFFSETTO:-0500
TZNAME:EST
DTSTART:20251102T060000
END:STANDARD
BEGIN:DAYLIGHT
TZOFFSETFROM:-0500
TZOFFSETTO:-0400
TZNAME:EDT
DTSTART:20260308T070000
END:DAYLIGHT
BEGIN:STANDARD
TZOFFSETFROM:-0400
TZOFFSETTO:-0500
TZNAME:EST
DTSTART:20261101T060000
END:STANDARD
END:VTIMEZONE
BEGIN:VEVENT
DTSTART;TZID=America/Toronto:20250712T193000
DTEND;TZID=America/Toronto:20250712T223000
DTSTAMP:20260424T062934
CREATED:20250708T193724Z
LAST-MODIFIED:20250708T193805Z
UID:10003212-1752348600-1752359400@maxottawa.ca
SUMMARY:Sunset Social
DESCRIPTION:Sunset Social 🌅— Your Summer Courtyard Gathering \n\n\n\nHosted by Coloroom Collective \n\n\n\nJoin us on Saturday\, July 12th\, for Sunset Social\, a vibrant summer event held outdoors in the courtyard of Club SAW. Running from 7:30 to 10:30 PM (doors at 7:00)\, this gathering brings together community\, music\, and good energy in a space made to feel warm\, joyful\, and welcoming. \n\n\n\nWith music by Jayel\, DJ Lani\, and DJ Rhoze\, you can expect a carefully curated vibe — whether you’re catching a dance or vibing with friends by the bar. A selection of local vendors will also be popping up with special offerings\, so come ready to browse\, sip\, dance\, and connect. \n\n\n\nSunset Social is a 19+ event and will take place in a fully accessible venue with gender-neutral washrooms available onsite. In the event of rain\, programming will continue indoors.All are welcome. Come as you are — and if you can\, bring someone along. See you there! \n\n\n\nNo refunds\, unless the date of the event is changed or cancelled* \n\n\n\nPlease note that photos and videos will be taken during the event for marketing purposes. By purchasing a ticket\, you consent to the use of these media materials for promotional activities. \n\n\n\n——— \n\n\n\nThis event is hosted by Coloroom Collective — a community-rooted initiative centering Queer and BIPOC voices through intentional\, joy-filled events & gatherings. We host moments of presence and celebration — created with care\, tenderness\, and play.
URL:https://maxottawa.ca/list/sunset-social/
LOCATION:SAW\, 67 Nicholas St\, Ottawa\, ON\, K1N 7B9\, Canada
END:VEVENT
BEGIN:VEVENT
DTSTART;TZID=America/Toronto:20250705T113000
DTEND;TZID=America/Toronto:20250705T133000
DTSTAMP:20260424T062934
CREATED:20250702T033840Z
LAST-MODIFIED:20250702T033859Z
UID:10003206-1751715000-1751722200@maxottawa.ca
SUMMARY:Actively Vibing
DESCRIPTION:Ottawa! This summer\, we’re keeping you booked\, busy\, and very much active! Yes\, you’ve heard me🙂‍↕️ \n\n\n\nJoin us this Saturday\, July 5th for our first-ever Active Club session!Don’t worry\, this isn’t your typical running club — it’s beginner-friendly fitness with a focus on fun\, movement\, and good vibes. \n\n\n\nBig thanks to the City of Ottawa for their support in making this possible. While the sessions are free\, always\, one-time PWYC donations are welcome to help support the full summer planning. Just DM us if you’d like to contribute 🤎 \n\n\n\n📍 Where: Terry Fox Athletic Facility – 2960 Riverside Dr🕦 When: Every Saturday from 11:30 AM to 1:30 PM💪 What: physical training and there’s barely any running! Just put on a gym fit\, come train—or not… just come to chill and vibe with us ✨Places are limited so secure your spot via the link below🤎
URL:https://maxottawa.ca/list/actively-vibing/
LOCATION:Terry Fox Athletic Facility\, 2960 Riverside Dr.\, Ottawa\, Ontario\, K1V 8N4\, Canada
CATEGORIES:Ottawa,Regular programming,Social,Sports and recreation
END:VEVENT
END:VCALENDAR