BEGIN:VCALENDAR
VERSION:2.0
PRODID:-//MAX Ottawa - ECPv6.15.20//NONSGML v1.0//EN
CALSCALE:GREGORIAN
METHOD:PUBLISH
X-ORIGINAL-URL:https://maxottawa.ca
X-WR-CALDESC:Events for MAX Ottawa
REFRESH-INTERVAL;VALUE=DURATION:PT1H
X-Robots-Tag:noindex
X-PUBLISHED-TTL:PT1H
BEGIN:VTIMEZONE
TZID:America/Toronto
BEGIN:DAYLIGHT
TZOFFSETFROM:-0500
TZOFFSETTO:-0400
TZNAME:EDT
DTSTART:20250309T070000
END:DAYLIGHT
BEGIN:STANDARD
TZOFFSETFROM:-0400
TZOFFSETTO:-0500
TZNAME:EST
DTSTART:20251102T060000
END:STANDARD
BEGIN:DAYLIGHT
TZOFFSETFROM:-0500
TZOFFSETTO:-0400
TZNAME:EDT
DTSTART:20260308T070000
END:DAYLIGHT
BEGIN:STANDARD
TZOFFSETFROM:-0400
TZOFFSETTO:-0500
TZNAME:EST
DTSTART:20261101T060000
END:STANDARD
BEGIN:DAYLIGHT
TZOFFSETFROM:-0500
TZOFFSETTO:-0400
TZNAME:EDT
DTSTART:20270314T070000
END:DAYLIGHT
BEGIN:STANDARD
TZOFFSETFROM:-0400
TZOFFSETTO:-0500
TZNAME:EST
DTSTART:20271107T060000
END:STANDARD
END:VTIMEZONE
BEGIN:VEVENT
DTSTART;TZID=America/Toronto:20260208T160000
DTEND;TZID=America/Toronto:20260208T164500
DTSTAMP:20260423T033129
CREATED:20260116T212032Z
LAST-MODIFIED:20260116T212334Z
UID:10004427-1770566400-1770569100@maxottawa.ca
SUMMARY:"Re:Construct(ion)" (Version française)
DESCRIPTION:Re:Construct(ion)\n\n\n\nUn homme trans et son alter-ego cisgenre vous présentent une méditation guidée—non\, un atelier de peinture — en fait\, non\, une bagarre — n’importe quoi pour que ça fonctionne\, cette fois-ci. Par son texte poétique\, surprenant et irrévérencieux\, Re:Construction met à l’épreuve la masculinité parfaite. \n\n\n\nCréé par Even Gilchrist\n\n\n\nInterprétaté par Émanuel Dubbeldam et Sean Sonier \n\n\n\nMise en scène par Sarah J. Culkin \n\n\n\nScénographie par Even Gilchrist \n\n\n\nÉclairages par Claire Sonmor \n\n\n\nConception sonore et composition musicale par Lindsey Walker \n\n\n\nSurtitres par Claudia Kulay \n\n\n\nRégie par Jennie Emms \n\n\n\nProduction de la tournée par Mac Brock \n\n\n\n—  \n\n\n\n14+ | Participation du public\, Jeux de lumières stroboscopiques\, Language mature\, Sexualité\, Flashs de vidéos\, Dysphorie de genre \n\n\n\nDurée du spectacle : 45 minutes \n\n\n\nEntrées accessibles : Les entrées accessibles se trouvent au 10\, avenue Daly et au 67\, rue Nicholas.
URL:https://maxottawa.ca/list/reconstruction-version-francaise/2026-02-08/
LOCATION:Arts Court\, 2 Daly Ave.\, Ottawa\, Ontario\, K1N 6E2\, Canada
CATEGORIES:En français,Market or festival,Ottawa
ORGANIZER;CN="Donkey Dog Theatre":MAILTO:donkeydogtheatre@gmail.com
END:VEVENT
BEGIN:VEVENT
DTSTART;TZID=America/Toronto:20260207T190000
DTEND;TZID=America/Toronto:20260207T194500
DTSTAMP:20260423T033129
CREATED:20260116T183956Z
LAST-MODIFIED:20260116T184001Z
UID:10004412-1770490800-1770493500@maxottawa.ca
SUMMARY:"Re:Construct(ion)" at undercurrents
DESCRIPTION:ABOUT THE SHOW\n\n\n\nA trans man and his idealized cis self greet onlookers and invite them to be their most authentic\, relaxed selves… or else. Through a ritual-like process—cake-decorating\, sharing stories of being seen exactly as they want to be\, interactive (and competitive) drawing exercises\, and question after question after question after question after question—the two make every painstaking effort to get it right this time. They collide. They write letters. They try to show each other what they see. They explain the physics of making a pad adhere to the sides of boxer shorts. Confetti falls. Cake flies. They interrogate the ever-changing distance between what is and what could be. They make a pretty big mess. And every time\, they try again.  \n\n\n\nABOUT UNDERCURRENTS\n\n\n\nFor over a decade\, Ottawa’s undercurrents festival has been showcasing some of the most innovative and thought-provoking works of art from local and national artists. The programming is diverse and always fresh\, featuring everything from experimental theatre to live music performances\, from solo shows to full productions. The undercurrents team believes in giving a platform to emerging artists and voices that are underrepresented in mainstream media.  \n\n\n\nACCESSIBILITY \n\n\n\nVenue: wheelchair accessible  \n\n\n\nShow: Audience Participation\, Flashing Lights/Video\, Mature Language\, Sexual Content\, Gender Dysphoria.  \n\n\n\nEar plugs provided.  \n\n\n\nRecommended for ages 14+.  \n\n\n\nApprox 45-minute runtime.  \n\n\n\nPerformed either in English or French\, with surtitles in the opposite language. Audio description available for English performance on February 7 at 7 pm.  \n\n\n\nMore information on accessibility on the undercurrents website: https://ottawafringe.com/show/reconstruct/
URL:https://maxottawa.ca/list/reconstruction-at-undercurrents/2026-02-07/
LOCATION:Arts Court\, 2 Daly Ave.\, Ottawa\, Ontario\, K1N 6E2\, Canada
CATEGORIES:Market or festival,Ottawa
ORGANIZER;CN="Donkey Dog Theatre":MAILTO:donkeydogtheatre@gmail.com
END:VEVENT
BEGIN:VEVENT
DTSTART;TZID=America/Toronto:20260206T203000
DTEND;TZID=America/Toronto:20260206T211500
DTSTAMP:20260423T033129
CREATED:20260116T183956Z
LAST-MODIFIED:20260116T184001Z
UID:10004411-1770409800-1770412500@maxottawa.ca
SUMMARY:"Re:Construct(ion)" at undercurrents
DESCRIPTION:ABOUT THE SHOW\n\n\n\nA trans man and his idealized cis self greet onlookers and invite them to be their most authentic\, relaxed selves… or else. Through a ritual-like process—cake-decorating\, sharing stories of being seen exactly as they want to be\, interactive (and competitive) drawing exercises\, and question after question after question after question after question—the two make every painstaking effort to get it right this time. They collide. They write letters. They try to show each other what they see. They explain the physics of making a pad adhere to the sides of boxer shorts. Confetti falls. Cake flies. They interrogate the ever-changing distance between what is and what could be. They make a pretty big mess. And every time\, they try again.  \n\n\n\nABOUT UNDERCURRENTS\n\n\n\nFor over a decade\, Ottawa’s undercurrents festival has been showcasing some of the most innovative and thought-provoking works of art from local and national artists. The programming is diverse and always fresh\, featuring everything from experimental theatre to live music performances\, from solo shows to full productions. The undercurrents team believes in giving a platform to emerging artists and voices that are underrepresented in mainstream media.  \n\n\n\nACCESSIBILITY \n\n\n\nVenue: wheelchair accessible  \n\n\n\nShow: Audience Participation\, Flashing Lights/Video\, Mature Language\, Sexual Content\, Gender Dysphoria.  \n\n\n\nEar plugs provided.  \n\n\n\nRecommended for ages 14+.  \n\n\n\nApprox 45-minute runtime.  \n\n\n\nPerformed either in English or French\, with surtitles in the opposite language. Audio description available for English performance on February 7 at 7 pm.  \n\n\n\nMore information on accessibility on the undercurrents website: https://ottawafringe.com/show/reconstruct/
URL:https://maxottawa.ca/list/reconstruction-at-undercurrents/2026-02-06/
LOCATION:Arts Court\, 2 Daly Ave.\, Ottawa\, Ontario\, K1N 6E2\, Canada
CATEGORIES:Market or festival,Ottawa
ORGANIZER;CN="Donkey Dog Theatre":MAILTO:donkeydogtheatre@gmail.com
END:VEVENT
BEGIN:VEVENT
DTSTART;TZID=America/Toronto:20260205T203000
DTEND;TZID=America/Toronto:20260205T211500
DTSTAMP:20260423T033129
CREATED:20260116T212032Z
LAST-MODIFIED:20260116T212334Z
UID:10004426-1770323400-1770326100@maxottawa.ca
SUMMARY:"Re:Construct(ion)" (Version française)
DESCRIPTION:Re:Construct(ion)\n\n\n\nUn homme trans et son alter-ego cisgenre vous présentent une méditation guidée—non\, un atelier de peinture — en fait\, non\, une bagarre — n’importe quoi pour que ça fonctionne\, cette fois-ci. Par son texte poétique\, surprenant et irrévérencieux\, Re:Construction met à l’épreuve la masculinité parfaite. \n\n\n\nCréé par Even Gilchrist\n\n\n\nInterprétaté par Émanuel Dubbeldam et Sean Sonier \n\n\n\nMise en scène par Sarah J. Culkin \n\n\n\nScénographie par Even Gilchrist \n\n\n\nÉclairages par Claire Sonmor \n\n\n\nConception sonore et composition musicale par Lindsey Walker \n\n\n\nSurtitres par Claudia Kulay \n\n\n\nRégie par Jennie Emms \n\n\n\nProduction de la tournée par Mac Brock \n\n\n\n—  \n\n\n\n14+ | Participation du public\, Jeux de lumières stroboscopiques\, Language mature\, Sexualité\, Flashs de vidéos\, Dysphorie de genre \n\n\n\nDurée du spectacle : 45 minutes \n\n\n\nEntrées accessibles : Les entrées accessibles se trouvent au 10\, avenue Daly et au 67\, rue Nicholas.
URL:https://maxottawa.ca/list/reconstruction-version-francaise/2026-02-05/
LOCATION:Arts Court\, 2 Daly Ave.\, Ottawa\, Ontario\, K1N 6E2\, Canada
CATEGORIES:En français,Market or festival,Ottawa
ORGANIZER;CN="Donkey Dog Theatre":MAILTO:donkeydogtheatre@gmail.com
END:VEVENT
END:VCALENDAR