BEGIN:VCALENDAR
VERSION:2.0
PRODID:-//MAX Ottawa - ECPv6.15.20//NONSGML v1.0//EN
CALSCALE:GREGORIAN
METHOD:PUBLISH
X-WR-CALNAME:MAX Ottawa
X-ORIGINAL-URL:https://maxottawa.ca
X-WR-CALDESC:Events for MAX Ottawa
REFRESH-INTERVAL;VALUE=DURATION:PT1H
X-Robots-Tag:noindex
X-PUBLISHED-TTL:PT1H
BEGIN:VTIMEZONE
TZID:America/Toronto
BEGIN:DAYLIGHT
TZOFFSETFROM:-0500
TZOFFSETTO:-0400
TZNAME:EDT
DTSTART:20230312T070000
END:DAYLIGHT
BEGIN:STANDARD
TZOFFSETFROM:-0400
TZOFFSETTO:-0500
TZNAME:EST
DTSTART:20231105T060000
END:STANDARD
BEGIN:DAYLIGHT
TZOFFSETFROM:-0500
TZOFFSETTO:-0400
TZNAME:EDT
DTSTART:20240310T070000
END:DAYLIGHT
BEGIN:STANDARD
TZOFFSETFROM:-0400
TZOFFSETTO:-0500
TZNAME:EST
DTSTART:20241103T060000
END:STANDARD
BEGIN:DAYLIGHT
TZOFFSETFROM:-0500
TZOFFSETTO:-0400
TZNAME:EDT
DTSTART:20250309T070000
END:DAYLIGHT
BEGIN:STANDARD
TZOFFSETFROM:-0400
TZOFFSETTO:-0500
TZNAME:EST
DTSTART:20251102T060000
END:STANDARD
END:VTIMEZONE
BEGIN:VEVENT
DTSTART;TZID=America/Toronto:20241215T200000
DTEND;TZID=America/Toronto:20241215T220000
DTSTAMP:20260424T122856
CREATED:20241030T185442Z
LAST-MODIFIED:20241106T153051Z
UID:10001274-1734292800-1734300000@maxottawa.ca
SUMMARY:Sunday Night Tennis
DESCRIPTION:Meet members of Gay Lesbian Tennis Ottawa at novice/advanced doubles tennis every Sunday.
URL:https://maxottawa.ca/list/sunday-night-tennis/2024-12-15/
LOCATION:Tennis Centre West Ottawa\, 120 Greenview Ave.\, Ottawa\, Ontario\, K2B8J8\, Canada
CATEGORIES:Sports and recreation
ORGANIZER;CN="Gay Lesbian Tennis Ottawa":MAILTO:gltennisottawa@gmail.com
END:VEVENT
BEGIN:VEVENT
DTSTART;TZID=America/Toronto:20241208T200000
DTEND;TZID=America/Toronto:20241208T220000
DTSTAMP:20260424T122856
CREATED:20241030T185442Z
LAST-MODIFIED:20241106T153051Z
UID:10001273-1733688000-1733695200@maxottawa.ca
SUMMARY:Sunday Night Tennis
DESCRIPTION:Meet members of Gay Lesbian Tennis Ottawa at novice/advanced doubles tennis every Sunday.
URL:https://maxottawa.ca/list/sunday-night-tennis/2024-12-08/
LOCATION:Tennis Centre West Ottawa\, 120 Greenview Ave.\, Ottawa\, Ontario\, K2B8J8\, Canada
CATEGORIES:Sports and recreation
ORGANIZER;CN="Gay Lesbian Tennis Ottawa":MAILTO:gltennisottawa@gmail.com
END:VEVENT
BEGIN:VEVENT
DTSTART;TZID=America/Toronto:20241201T200000
DTEND;TZID=America/Toronto:20241201T220000
DTSTAMP:20260424T122856
CREATED:20241030T185442Z
LAST-MODIFIED:20241106T153051Z
UID:10001272-1733083200-1733090400@maxottawa.ca
SUMMARY:Sunday Night Tennis
DESCRIPTION:Meet members of Gay Lesbian Tennis Ottawa at novice/advanced doubles tennis every Sunday.
URL:https://maxottawa.ca/list/sunday-night-tennis/2024-12-01/
LOCATION:Tennis Centre West Ottawa\, 120 Greenview Ave.\, Ottawa\, Ontario\, K2B8J8\, Canada
CATEGORIES:Sports and recreation
ORGANIZER;CN="Gay Lesbian Tennis Ottawa":MAILTO:gltennisottawa@gmail.com
END:VEVENT
BEGIN:VEVENT
DTSTART;TZID=America/Toronto:20241124T200000
DTEND;TZID=America/Toronto:20241124T220000
DTSTAMP:20260424T122856
CREATED:20241030T185442Z
LAST-MODIFIED:20241106T153051Z
UID:10001271-1732478400-1732485600@maxottawa.ca
SUMMARY:Sunday Night Tennis
DESCRIPTION:Meet members of Gay Lesbian Tennis Ottawa at novice/advanced doubles tennis every Sunday.
URL:https://maxottawa.ca/list/sunday-night-tennis/2024-11-24/
LOCATION:Tennis Centre West Ottawa\, 120 Greenview Ave.\, Ottawa\, Ontario\, K2B8J8\, Canada
CATEGORIES:Sports and recreation
ORGANIZER;CN="Gay Lesbian Tennis Ottawa":MAILTO:gltennisottawa@gmail.com
END:VEVENT
BEGIN:VEVENT
DTSTART;TZID=America/Toronto:20241117T200000
DTEND;TZID=America/Toronto:20241117T220000
DTSTAMP:20260424T122856
CREATED:20241030T185442Z
LAST-MODIFIED:20241106T153051Z
UID:10001270-1731873600-1731880800@maxottawa.ca
SUMMARY:Sunday Night Tennis
DESCRIPTION:Meet members of Gay Lesbian Tennis Ottawa at novice/advanced doubles tennis every Sunday.
URL:https://maxottawa.ca/list/sunday-night-tennis/2024-11-17/
LOCATION:Tennis Centre West Ottawa\, 120 Greenview Ave.\, Ottawa\, Ontario\, K2B8J8\, Canada
CATEGORIES:Sports and recreation
ORGANIZER;CN="Gay Lesbian Tennis Ottawa":MAILTO:gltennisottawa@gmail.com
END:VEVENT
BEGIN:VEVENT
DTSTART;TZID=America/Toronto:20241110T200000
DTEND;TZID=America/Toronto:20241110T220000
DTSTAMP:20260424T122856
CREATED:20241030T185442Z
LAST-MODIFIED:20241106T153051Z
UID:10001269-1731268800-1731276000@maxottawa.ca
SUMMARY:Sunday Night Tennis
DESCRIPTION:Meet members of Gay Lesbian Tennis Ottawa at novice/advanced doubles tennis every Sunday.
URL:https://maxottawa.ca/list/sunday-night-tennis/2024-11-10/
LOCATION:Tennis Centre West Ottawa\, 120 Greenview Ave.\, Ottawa\, Ontario\, K2B8J8\, Canada
CATEGORIES:Sports and recreation
ORGANIZER;CN="Gay Lesbian Tennis Ottawa":MAILTO:gltennisottawa@gmail.com
END:VEVENT
BEGIN:VEVENT
DTSTART;TZID=America/Toronto:20241103T200000
DTEND;TZID=America/Toronto:20241103T220000
DTSTAMP:20260424T122856
CREATED:20241030T185442Z
LAST-MODIFIED:20241106T153051Z
UID:10001268-1730664000-1730671200@maxottawa.ca
SUMMARY:Sunday Night Tennis
DESCRIPTION:Meet members of Gay Lesbian Tennis Ottawa at novice/advanced doubles tennis every Sunday.
URL:https://maxottawa.ca/list/sunday-night-tennis/2024-11-03/
LOCATION:Tennis Centre West Ottawa\, 120 Greenview Ave.\, Ottawa\, Ontario\, K2B8J8\, Canada
CATEGORIES:Sports and recreation
ORGANIZER;CN="Gay Lesbian Tennis Ottawa":MAILTO:gltennisottawa@gmail.com
END:VEVENT
END:VCALENDAR