BEGIN:VCALENDAR
VERSION:2.0
PRODID:-//MAX Ottawa - ECPv6.15.20//NONSGML v1.0//EN
CALSCALE:GREGORIAN
METHOD:PUBLISH
X-WR-CALNAME:MAX Ottawa
X-ORIGINAL-URL:https://maxottawa.ca
X-WR-CALDESC:Events for MAX Ottawa
REFRESH-INTERVAL;VALUE=DURATION:PT1H
X-Robots-Tag:noindex
X-PUBLISHED-TTL:PT1H
BEGIN:VTIMEZONE
TZID:America/Toronto
BEGIN:DAYLIGHT
TZOFFSETFROM:-0500
TZOFFSETTO:-0400
TZNAME:EDT
DTSTART:20240310T070000
END:DAYLIGHT
BEGIN:STANDARD
TZOFFSETFROM:-0400
TZOFFSETTO:-0500
TZNAME:EST
DTSTART:20241103T060000
END:STANDARD
BEGIN:DAYLIGHT
TZOFFSETFROM:-0500
TZOFFSETTO:-0400
TZNAME:EDT
DTSTART:20250309T070000
END:DAYLIGHT
BEGIN:STANDARD
TZOFFSETFROM:-0400
TZOFFSETTO:-0500
TZNAME:EST
DTSTART:20251102T060000
END:STANDARD
BEGIN:DAYLIGHT
TZOFFSETFROM:-0500
TZOFFSETTO:-0400
TZNAME:EDT
DTSTART:20260308T070000
END:DAYLIGHT
BEGIN:STANDARD
TZOFFSETFROM:-0400
TZOFFSETTO:-0500
TZNAME:EST
DTSTART:20261101T060000
END:STANDARD
END:VTIMEZONE
BEGIN:VEVENT
DTSTART;TZID=America/Toronto:20250831T190000
DTEND;TZID=America/Toronto:20250831T210000
DTSTAMP:20260425T141027
CREATED:20250828T154228Z
LAST-MODIFIED:20250828T154233Z
UID:10003420-1756666800-1756674000@maxottawa.ca
SUMMARY:Art-N-Tell
DESCRIPTION:Art-N-Tell is show and tell for artists to show their favourite piece to a crowd who cares! \n\n\n\nIf you want to show your art\, bring it with you or come ready to perform it! You’ll put your name in a hat with 7 names being pulled each night! \n\n\n\nWhether you are coming to view or show\, everyone will pay a $5 entry fee that will then be divided between the artists that talk about their art. \n\n\n\nAre you an artist? do you miss show and tell? do you want to talk about all your cool stuff to other artists that genuinely care? \n\n\n\nCome hang out the last Sunday of every month at PourBoy Pub – Ottawa\, ON – Next one August 25th Doors open at 7pm!
URL:https://maxottawa.ca/list/art-n-tell-2/
LOCATION:Pour Boy\, 495 Somerset St. W\, Ottawa\, Ontario\, K1R 5J7\, Canada
CATEGORIES:Art,Ottawa,Social
END:VEVENT
BEGIN:VEVENT
DTSTART;TZID=America/Toronto:20250629T190000
DTEND;TZID=America/Toronto:20250629T220000
DTSTAMP:20260425T141027
CREATED:20250624T193933Z
LAST-MODIFIED:20250624T193945Z
UID:10003187-1751223600-1751234400@maxottawa.ca
SUMMARY:Art-N-Tell
DESCRIPTION:ART-N-TELL IS BACK SUNDAY JUNE 29th! 🎉❤️🎨 \n\n\n\nSo what’s Art-N-Tell all about?🎤🎸🖼️✍️ \n\n\n\nIt’s your chance to share whatever you’ve been creating—whether it’s polished and ready or still in progress. Paintings\, poems\, songs\, sketches\, fashion\, whatever you’re working on—we want to see it! Not ready to share yet? Come hang out and support your fellow artists. \n\n\n\nHere’s the scoop: \n\n\n\n💥 It’s FREE! \n\n\n\nNo cover\, no gatekeeping—just a fun\, open space for artists of all levels to come together. We love making it easy for people to engage with and support local art. \n\n\n\n🎩 Want to share something? Toss your name in the hat when you arrive—everyone gets a turn. It’s a low-pressure\, high-love kind of night. \n\n\n\n🎨 The only “rule”: whatever you bring must be something you’ve created or added your artistic touch to. No projector available\, but laptops are totally fine if you’re showing something digital. \n\n\n\nJoin us for a cozy night of creativity\, community\, and some of Ottawa’s most inspiring hidden talents. Let’s make next Sunday night something special. 💫❤️
URL:https://maxottawa.ca/list/art-n-tell/
LOCATION:Pour Boy\, 495 Somerset St. W\, Ottawa\, Ontario\, K1R 5J7\, Canada
CATEGORIES:Art,Nightlife,Ottawa,Social
END:VEVENT
END:VCALENDAR