BEGIN:VCALENDAR
VERSION:2.0
PRODID:-//MAX Ottawa - ECPv6.15.20//NONSGML v1.0//EN
CALSCALE:GREGORIAN
METHOD:PUBLISH
X-WR-CALNAME:MAX Ottawa
X-ORIGINAL-URL:https://maxottawa.ca
X-WR-CALDESC:Events for MAX Ottawa
REFRESH-INTERVAL;VALUE=DURATION:PT1H
X-Robots-Tag:noindex
X-PUBLISHED-TTL:PT1H
BEGIN:VTIMEZONE
TZID:America/Toronto
BEGIN:DAYLIGHT
TZOFFSETFROM:-0500
TZOFFSETTO:-0400
TZNAME:EDT
DTSTART:20240310T070000
END:DAYLIGHT
BEGIN:STANDARD
TZOFFSETFROM:-0400
TZOFFSETTO:-0500
TZNAME:EST
DTSTART:20241103T060000
END:STANDARD
BEGIN:DAYLIGHT
TZOFFSETFROM:-0500
TZOFFSETTO:-0400
TZNAME:EDT
DTSTART:20250309T070000
END:DAYLIGHT
BEGIN:STANDARD
TZOFFSETFROM:-0400
TZOFFSETTO:-0500
TZNAME:EST
DTSTART:20251102T060000
END:STANDARD
BEGIN:DAYLIGHT
TZOFFSETFROM:-0500
TZOFFSETTO:-0400
TZNAME:EDT
DTSTART:20260308T070000
END:DAYLIGHT
BEGIN:STANDARD
TZOFFSETFROM:-0400
TZOFFSETTO:-0500
TZNAME:EST
DTSTART:20261101T060000
END:STANDARD
END:VTIMEZONE
BEGIN:VEVENT
DTSTART;TZID=America/Toronto:20251212T210000
DTEND;TZID=America/Toronto:20251213T020000
DTSTAMP:20260420T134826
CREATED:20251126T183821Z
LAST-MODIFIED:20251126T183826Z
UID:10003772-1765573200-1765591200@maxottawa.ca
SUMMARY:Queen & Queer
DESCRIPTION:Queens of Ottawa! 😍 \n\n\n\nGuess who’s back? Your favorite lesboqueer dance party returns\, and we couldn’t be more excited to see you again!  \n\n\n\nEdition after edition\, Ottawa has truly become our second home\, and we can’t wait to celebrate with you once more. \n\n\n\nAnd this one’s extra special: \n\n\n\nA venue we’ve never been to before | Our 4th Ottawa edition | Our last party of the year | And… our 4th anniversary! 🥳🥳 \n\n\n\nWhat an honor to celebrate this milestone with you all! 🤩 \n\n\n\n📅December 12  \n\n\n\n📍SAW Club \n\n\n\nGet ready for a night dedicated to the lesboqueer community\, with the best crowd in the city and our amazing allies. \n\n\n\nFor our anniversary\, we’re switching things up! Expect your signature house and afro grooves\, with a twist of pop\, latin\, and Caribbean energy. \n\n\n\n🎧DJ Sam (OTT/MTL) \n\n\n\n🎧 DJ Karyen (OTT) \n\n\n\n🎧 DJ Zabella (OTT) \n\n\n\nPlus: hot performers all night long! \n\n\n\n🌈 WHO WE ARE \n\n\n\nQUEEN & QUEER isn’t just a Montréal-based group\, we’re a queer travelling collective creating events across cities to connect\, uplift\, and celebrate queerness wherever it thrives. Ottawa has truly become a second home for us. We’re not a big production\, just two passionate souls\, Sam & Maryline\, working with zero public funding to create safe\, festive\, and inclusive spaces for the lesboqueer community. (And fun fact: one of us actually spends half their time in Ottawa\, so yes\, we really do feel at home here ) \n\n\n\n🌈 OUR MISSION \n\n\n\nBeyond creating safe and festive spaces for the lesboqueer community and allies\, our mission is to highlight and uplift female and gender-diverse artists\, from DJs to dancers and circus performers. \n\n\n\n🌈 MUSIC IS THE ANSWER \n\n\n\nQUEEN & QUEER events are safe spaces that prioritize LGBTQ2SIA+ women\, non-binary\, and trans folks while warmly welcoming allies. We have zero tolerance for discrimination of any kind: no homophobia\, sexism\, transphobia\, racism\, or harassment. Our parties celebrate diversity\, inclusion\, and joy whether you’re 20 or 60\, no matter your background\, you’ll always have a place on our dance floor.
URL:https://maxottawa.ca/list/queen-queer-2/
LOCATION:SAW\, 67 Nicholas St\, Ottawa\, ON\, K1N 7B9\, Canada
CATEGORIES:Live music,Nightlife,Ottawa,Parties
END:VEVENT
BEGIN:VEVENT
DTSTART;TZID=America/Toronto:20250822T190000
DTEND;TZID=America/Toronto:20250823T020000
DTSTAMP:20260420T134826
CREATED:20250725T194422Z
LAST-MODIFIED:20250821T172313Z
UID:10003345-1755889200-1755914400@maxottawa.ca
SUMMARY:Queen & Queer
DESCRIPTION:AUGUST 22: QUEEN & QUEER is beyond excited to take over Ottawa with not one but 2 events!😮😍 \n\n\n\nOccupy the space\, that’s what we do every time we throw a dance party\, and Ottawa has truly become our new home. Huge and special thank you to @fiertecappride for their trust and for giving us the freedom to express ourselves. \n\n\n\n🪩Burlesque💥Afro dance🪩 Waacking💥 Drag kings🎧 And of course\, the hottest DJs in the city! \n\n\n\nTwo events\, two different vibes:💥The Main Stage : big\, bold\, and bursting with energy \n\n\n\n🌙 The After Party\, at @27club_ottawa for a more intimate dance party\, by and for the lesboqueer community 🌈 \n\n\n\nBecause at the end of the day… Music is the answer. So let’s be PROUD. Let’s be BEAUTIFUL. \n\n\n\nCome celebrate with us ❤️ \n\n\n\n🔥🔥🔥🔥🔥🔥🔥 \n\n\n\n22 AOÛT : QUEEN & QUEER est plus qu’excité·e de prendre d’assaut Ottawa avec non pas un… mais 2 événements! 😮😍 \n\n\n\nOccuper l’espace\, c’est ce qu’on fait à chaque fois qu’on organise une soirée\, et Ottawa est réellement devenue notre nouvelle maison. Un immense merci à @fiertecappride pour leur confiance et pour nous donner la liberté de nous exprimer. \n\n\n\n🪩 Burlesque💥 Afro dance🪩 Waacking💥 Drag kings🎧 Et bien sûr… les DJs les plus hot de la ville! \n\n\n\n✨ Deux événements\, deux vibes différentes :💥 Main Stage – grandiose\, explosif et rempli d’énergie avec un line up de fou! \n\n\n\n🌙 After Party au @27club_ottawa\, une soirée intime mais full énergique\, par et pour la communauté lesboqueer 🌈 \n\n\n\nOn t’attend sur le dancefloor pour célébrer la Fierté! parmi nous.
URL:https://maxottawa.ca/list/queen-queer/
LOCATION:The 27 Club\, 27 York St\, Ottawa\, ON\, K1N 5S7\, Canada
CATEGORIES:Nightlife,Ottawa,Parties,Pride
END:VEVENT
BEGIN:VEVENT
DTSTART;TZID=America/Toronto:20250606T210000
DTEND;TZID=America/Toronto:20250607T020000
DTSTAMP:20260420T134826
CREATED:20250519T223214Z
LAST-MODIFIED:20250601T161452Z
UID:10002811-1749243600-1749261600@maxottawa.ca
SUMMARY:Queen and Queer Ottawa
DESCRIPTION:Hey Queens of Ottawa 🌈🌈 \n\n\n\nAfter the HUGE success of our first edition\, and due to popular demand\, we’re coming back stronger — and this time in a whole new space! \n\n\n\nWARNING: BIG PARTY AHEAD!! As you know\, at Queen & Queer\, we love to do things BIG. So\, exceptionally\, we’ve booked the entire building just for you!  \n\n\n\nWhat to expect?  \n\n\n\n2 rooms and 2 dancefloors  \n\n\n\nThat means: 2 times more energy\, 2 times more fun\, 2 times more DJs… and 2 times more queerness! \n\n\n\nON THE LINEUP 🔉 \n\n\n\nMain room: House and Dance  \n\n\n\nSecond room: Latino\, Afro and Urban beats \n\n\n\nYou got it… we’re super excited to bring the Queen & Queer vibe back to your city! 😍 \n\n\n\nTickets sold out super fast the first time\, so if you missed our first party — hurry up! \n\n\n\n Let’s go les lesboqueer! 🏳️‍🌈🏳️‍⚧️ We’re counting on you to OCCUPY THE SPACE! \n\n\n\nWHO ARE WE? \n\n\n\nFor those who don’t know us yet\, QUEEN & QUEER is the story of two friends who decided in 2021 to create Dance Parties for LGBTQ2SIA+ women in Montreal… all in a safe and welcoming space. Today\, QUEEN & QUEER has become the largest Lesbo-Queer party on the Montreal scene\, attracting a growing community. After Sherbrooke and Quebec City\, we’ve chosen Ottawa as our next destination\, and we can’t wait to meet you again! \n\n\n\nOUR MISSION \n\n\n\nBeyond creating festive and safe spaces for the Lesbo-Queer community and their allies\, our mission is to highlight the talent of female artists\, whether they’re DJs\, dancers\, or from the circus arts community. \n\n\n\nMUSIC IS THE ANSWER \n\n\n\nQUEEN & QUEER parties are safe spaces prioritizing LGBTQ2SIA+ women\, non-binary people\, and trans folks. Allies are welcome too! We have a zero-tolerance policy for any form of discrimination: homophobia\, sexism\, transphobia\, racism\, or harassment have no place at our events. Our events are recognized for celebrating diversity and promoting inclusion. Whether you’re 20 or 60 years old\, and no matter your cultural background\, you’ll find your place with us.
URL:https://maxottawa.ca/list/queen-and-queer-ottawa/
LOCATION:Berlin Nightclub\, 56 Byward Market Sq\, Ottawa\, Ontario\, K1N 7A2\, Canada
CATEGORIES:Nightlife,Ottawa,Parties
END:VEVENT
END:VCALENDAR