BEGIN:VCALENDAR
VERSION:2.0
PRODID:-//MAX Ottawa - ECPv6.15.20//NONSGML v1.0//EN
CALSCALE:GREGORIAN
METHOD:PUBLISH
X-ORIGINAL-URL:https://maxottawa.ca
X-WR-CALDESC:Events for MAX Ottawa
REFRESH-INTERVAL;VALUE=DURATION:PT1H
X-Robots-Tag:noindex
X-PUBLISHED-TTL:PT1H
BEGIN:VTIMEZONE
TZID:America/Toronto
BEGIN:DAYLIGHT
TZOFFSETFROM:-0500
TZOFFSETTO:-0400
TZNAME:EDT
DTSTART:20230312T070000
END:DAYLIGHT
BEGIN:STANDARD
TZOFFSETFROM:-0400
TZOFFSETTO:-0500
TZNAME:EST
DTSTART:20231105T060000
END:STANDARD
BEGIN:DAYLIGHT
TZOFFSETFROM:-0500
TZOFFSETTO:-0400
TZNAME:EDT
DTSTART:20240310T070000
END:DAYLIGHT
BEGIN:STANDARD
TZOFFSETFROM:-0400
TZOFFSETTO:-0500
TZNAME:EST
DTSTART:20241103T060000
END:STANDARD
BEGIN:DAYLIGHT
TZOFFSETFROM:-0500
TZOFFSETTO:-0400
TZNAME:EDT
DTSTART:20250309T070000
END:DAYLIGHT
BEGIN:STANDARD
TZOFFSETFROM:-0400
TZOFFSETTO:-0500
TZNAME:EST
DTSTART:20251102T060000
END:STANDARD
BEGIN:DAYLIGHT
TZOFFSETFROM:-0500
TZOFFSETTO:-0400
TZNAME:EDT
DTSTART:20260308T070000
END:DAYLIGHT
BEGIN:STANDARD
TZOFFSETFROM:-0400
TZOFFSETTO:-0500
TZNAME:EST
DTSTART:20261101T060000
END:STANDARD
END:VTIMEZONE
BEGIN:VEVENT
DTSTART;TZID=America/Toronto:20250910T190000
DTEND;TZID=America/Toronto:20250910T223000
DTSTAMP:20260422T180901
CREATED:20250828T155153Z
LAST-MODIFIED:20250828T155202Z
UID:10003421-1757530800-1757543400@maxottawa.ca
SUMMARY:Stud Country {Achey Breaky Heart Line Dancing}
DESCRIPTION:Doors: 7:00 PM | Lessons: 8:30 PM \n\n\n\nGet ready for a fun-filled night of queer line dancing!  Queering613 is excited to bring you a new monthly event inspired by Stud Country out of LA\, featuring a half dance lesson\, half (country) dance party vibes. Let’s get hundreds of boots stomping  and Wrangler-clad hips shaking on the dance floor!  \n\n\n\n Jason Bett has been teaching dance for over 17 years and knows how to get everyone moving — from jive and swing to two-step and west coast swing!  \n\n\n\nHe’s deeply involved in the queer community in Ottawa  and brings energy\, fun\, and a whole lot of  to the dance floor! \n\n\n\nWhether you’re a beginner\, intermediate\, or someone with two left feet \, Jason’s got something exciting planned just for you  \n\n\n\n Join us on September 10th — you won’t want to miss it!  \n\n\n\nWhether you’re there to dance\, hang out with friends \, or just watch the action from the sidelines \, everyone is welcome to join in on the fun! Dressing to theme is highly encouraged – think chaps\, straps\, and spurs!  \n\n\n\nWhat to Expect: \n\n\n\nOverflowing Craft Brew  – Enjoy a wide selection of craft beers throughout the night. \n\n\n\nInclusive Space  – All genders and sexualities are welcome. \n\n\n\nAccessible Venue  – Overflow Brewing is a physically accessible venue\, with an accessible entrance and washrooms. There is an outdoor patio\, weather permitting.  \n\n\n\nImportant Notes: \n\n\n\nParticipation in the dance lesson is optional – feel free to join in or enjoy the atmosphere with your friends.  \n\n\n\nWe aim to create a fun\, safer space for everyone to enjoy\, and we’re committed to making sure this event is welcoming and accessible.  \n\n\n\nYour feedback is always welcome! Feel free to reach out to us anytime at queering613@gmail.com.  \n\n\n\nSpecial Thanks: \n\n\n\nOverflow Brewing for hosting us in their fantastic space: overflowbeer.com \n\n\n\nJason Bett for sharing his dance expertise!  \n\n\n\nWe also acknowledge that this event takes place on unceded Algonquin Territory\, land that was never surrendered.
URL:https://maxottawa.ca/list/stud-country-achey-breaky-heart-line-dancing/
LOCATION:Overflow Brewery\, 2477 Kaladar ave.\, Ottawa\, Ontario\, K1V 8B9\, Canada
CATEGORIES:Educational,Nightlife,Ottawa,Social
ORGANIZER;CN="Queering 613":MAILTO:queering613@gmail.com
END:VEVENT
BEGIN:VEVENT
DTSTART;TZID=America/Toronto:20250821T183000
DTEND;TZID=America/Toronto:20250821T233000
DTSTAMP:20260422T180901
CREATED:20250711T212950Z
LAST-MODIFIED:20250714T212212Z
UID:10003240-1755801000-1755819000@maxottawa.ca
SUMMARY:Queers & Beers Pride Edition
DESCRIPTION:🌈 QUEERS & BEERS: PRIDE EDITION🎤 feat. BLK PRL📍 Overflow Brewing — 2477 Kaladar Ave\, Ottawa📅 Thursday\, August 21\, 2025🕡 Doors: 6:30 PM | 🎶 Performances: 8:00 PM🎟️ $15 in advance | $20 at the door🔞 19+ | All genders & sexualities welcome \n\n\n\n⸻ \n\n\n\nGet ready to vibe with your people at the PRIDE edition of Queers & Beers 💫 \n\n\n\nWe’re taking over @overflowbeer for a night of craft brews\, queer joy\, and unforgettable live music. Come solo\, bring your crew\, or find your next crush here — 🫶 \n\n\n\n🎶 LINEUP: \n\n\n\n💿 BLK PRL (aka Sandy Duperval)Montreal-born powerhouse singer\, DJ & producer. Think Whitney Houston soul + Frankie Knuckles energy. She’s toured Europe\, Asia\, & the Middle East — now she’s bringing her House of Love to Ottawa.🎧 Check out her single “BREATHE” — available everywhere. \n\n\n\n💥 OK Naledi (w/ Kira on drums)Ottawa’s own queer\, Motswana-Canadian artist bringing bold vocals and electrifying stage presence. \n\n\n\n🎨 PLUS: Free live face painting from 6–8 PM!✨ Add a little sparkle (or a LOT). Limited spots — come early! \n\n\n\n🌈 First time? Coming alone?We got you — say hi to our Gay Greet Team 💖 They’re here to welcome you\, help you meet new folks & get comfy. \n\n\n\n⸻ \n\n\n\n🫶 SOCIAL HOUR: 6:30 PM🎤 SHOW: 8:00 PM💸 TICKETS: $15 online | $20 at the door \n\n\n\nCome for the beer\, stay for the music\, leave with a full heart 💖 \n\n\n\n♿ ACCESSIBILITY: Overflow Brewing is fully accessible with an accessible entrance & washrooms. Outdoor patio if weather allows!
URL:https://maxottawa.ca/list/queers-beers-pride-edition-2/
LOCATION:Overflow Brewery\, 2477 Kaladar ave.\, Ottawa\, Ontario\, K1V 8B9\, Canada
CATEGORIES:Nightlife,Ottawa,Parties,Social
ORGANIZER;CN="Queering 613":MAILTO:queering613@gmail.com
END:VEVENT
BEGIN:VEVENT
DTSTART;TZID=America/Toronto:20250718T180000
DTEND;TZID=America/Toronto:20250718T233000
DTSTAMP:20260422T180901
CREATED:20250708T205721Z
LAST-MODIFIED:20250715T165802Z
UID:10003217-1752861600-1752881400@maxottawa.ca
SUMMARY:Queers & Beers
DESCRIPTION:🌈 QUEERS & BEERS is back at Lowertown Brewery in the Byward Market! 🍻 Join us Friday\, July 18 for an indoor/outdoor hangout (weather depending) with great brews\, cool queers\, and chill vibes. \n\n\n\n✨ All genders & sexualities welcome👯 Come solo\, with friends\, or leave with new ones🗣️ Chat\, chill\, flirt—or just vibe♿️ Accessible space + patio \n\n\n\n📍 Lowertown Brewery – 73 York St\, Ottawa⏰ Friday\, July 18💌 queering613@gmail.com \n\n\n\nLet’s raise a glass on unceded Algonquin Territory and keep building community 💖
URL:https://maxottawa.ca/list/queers-beers-5/
LOCATION:Lowertown Brewery\, 73 York St.\, Ottawa\, Ontario\, K1N 5T2\, Canada
CATEGORIES:Nightlife,Ottawa,Parties,Social
ORGANIZER;CN="Queering 613":MAILTO:queering613@gmail.com
END:VEVENT
BEGIN:VEVENT
DTSTART;TZID=America/Toronto:20250613T180000
DTEND;TZID=America/Toronto:20250613T230000
DTSTAMP:20260422T180901
CREATED:20250603T182032Z
LAST-MODIFIED:20250609T164751Z
UID:10003120-1749837600-1749855600@maxottawa.ca
SUMMARY:Queers & Beers: Capital Pride Run Fundraiser
DESCRIPTION:🍻🏳️‍🌈 QUEERS & BEERS: National Capital Pride Run Edition! 🏳️‍🌈🍻📍 Queen St. Fare – 170 Queen Street📅 Friday\, June 13\, 2025🕕 Doors @ 6:00 PM🎟️ $7 cover – partial proceeds support the National Capital Pride Run! \n\n\n\n🏃‍♀️🏃‍♂️✨We’re kicking off the National Capital Pride Run (and walk!) season with a fun\, fabulous fundraiser in support of Bruce House – a local org bringing hope\, housing & support to people living with HIV in Ottawa 💞👉 Learn more: www.brucehouse.ca \n\n\n\n🎉 What to expect:🌈 Silent Auction!🏃 NCPR folks on site to help you sign up for the run!🎶 Good vibes🍻 Local craft brews🧑‍🤝‍🧑 Queer community magic💬 Great convos & glitter trails guaranteed \n\n\n\n💖 Whether you come solo\, with your crew\, or leave with new friends (or a date 👀)\, you’re so welcome here. \n\n\n\n📢 Spread the word – it’s an open event and ALL are welcome!Let’s raise our glasses & our voices for queer joy\, community\, and a good cause! 🥂🌈✨ \n\n\n\n♿ Physical Accessibility Note:Queen St. Fare is an accessible space with automated doors and accessible washrooms.
URL:https://maxottawa.ca/list/queers-beers-capital-pride-run-fundraiser/
LOCATION:Queen Street Fare\, 170 Queen St\, Ottawa\, ON\, K1P 5E1\, Canada
CATEGORIES:Advocacy & empowerment,Live music,Nightlife,Ottawa,Parties,Pride,Social
ORGANIZER;CN="Queering 613":MAILTO:queering613@gmail.com
END:VEVENT
BEGIN:VEVENT
DTSTART;TZID=America/Toronto:20250529T190000
DTEND;TZID=America/Toronto:20250529T220000
DTSTAMP:20260422T180901
CREATED:20250519T163438Z
LAST-MODIFIED:20250519T163446Z
UID:10002786-1748545200-1748556000@maxottawa.ca
SUMMARY:Stud Country {Achey Breaky Queer Line Dancing}
DESCRIPTION:Queering613 Presents: Queer Line Dancing NightInspired by Stud Country\, Los AngelesThursday\, May 29th\, 2025Doors: 7:00 PM | Lessons: 8:30 PMOverflow Brewing | 2477 Kaladar Avenue \n\n\n\nGet ready for a fun-filled night of queer line dancing! 🕺💃 Queering613 is excited to bring you a new monthly event inspired by Stud Country out of LA\, featuring a half dance lesson\, half (country) dance party vibes. Let’s get hundreds of boots stomping 👢 and Wrangler-clad hips shaking on the dance floor! 🎶 \n\n\n\n💃🕺 Jason Bett has been teaching dance for over 17 years and knows how to get everyone moving — from jive and swing to two-step and west coast swing! 🎶✨ \n\n\n\nHe’s deeply involved in the queer community in Ottawa 🏳️‍🌈 and brings energy\, fun\, and a whole lot of ❤️ to the dance floor! \n\n\n\nWhether you’re a beginner\, intermediate\, or someone with two left feet 👣😅\, Jason’s got something exciting planned just for you 🎉 \n\n\n\n📅 Join us on May 29th — you won’t want to miss it! 🗓️🎊 \n\n\n\nWhether you’re there to dance\, hang out with friends 🤗\, or just watch the action from the sidelines 👀\, everyone is welcome to join in on the fun! Dressing to theme is highly encouraged – think chaps\, straps\, and spurs! 🤠✨ \n\n\n\nWhat to Expect: \n\n\n\nOverflowing Craft Brew 🍻 – Enjoy a wide selection of craft beers throughout the night. \n\n\n\nInclusive Space 🌈 – All genders and sexualities are welcome. \n\n\n\nAccessible Venue ♿ – Overflow Brewing is a physically accessible venue\, with an accessible entrance and washrooms. There is an outdoor patio\, weather permitting. 🌤️ \n\n\n\nImportant Notes: \n\n\n\nParticipation in the dance lesson is optional – feel free to join in or enjoy the atmosphere with your friends. 🕺💃 \n\n\n\nWe aim to create a fun\, safer space for everyone to enjoy\, and we’re committed to making sure this event is welcoming and accessible. 💜 \n\n\n\nYour feedback is always welcome! Feel free to reach out to us anytime at queering613@gmail.com. 📩 \n\n\n\nSpecial Thanks: \n\n\n\nOverflow Brewing for hosting us in their fantastic space: overflowbeer.com 🍺 \n\n\n\nJason Bett for sharing his dance expertise! 💃🕺 \n\n\n\nWe also acknowledge that this event takes place on unceded Algonquin Territory\, land that was never surrendered. 🏞️
URL:https://maxottawa.ca/list/stud-country-achey-breaky-queer-line-dancing-2/
LOCATION:Overflow Brewery\, 2477 Kaladar ave.\, Ottawa\, Ontario\, K1V 8B9\, Canada
CATEGORIES:Educational,Nightlife,Regular programming,Social
ORGANIZER;CN="Queering 613":MAILTO:queering613@gmail.com
END:VEVENT
BEGIN:VEVENT
DTSTART;TZID=America/Toronto:20250516T180000
DTEND;TZID=America/Toronto:20250516T230000
DTSTAMP:20260422T180901
CREATED:20250502T165920Z
LAST-MODIFIED:20250502T170243Z
UID:10002567-1747418400-1747436400@maxottawa.ca
SUMMARY:Queers & Beers: Spring Fling
DESCRIPTION:🌈 QUEERS & BEERS at Lowertown Brewery in the Byward Market! 🍻 \n\n\n\nQueers & Beers is heading back to Lowertown for this Indoor + outdoor (weather depending) event! 🎉 \n\n\n\nWe’d like to acknowledge and honor that all of the work we do is currently being done on unceded Algonquin Territory that was never given up and never surrendered. 🙏🌍 \n\n\n\nDo you love craft beer? 🍺 Do you like getting together with your community and meeting new friends? 🤝 Want to have interesting conversations & try new things? 🧐 Yes\, yes\, and YES! 🙌 So let’s get together and explore the craft brew scene here in Ottcity 🍻 & create a safer space for queer & trans pub lovers! 🌟 \n\n\n\nCome with friends 👯‍♀️\, come alone 🧑‍🤝‍🧑\, come with a date 💕\, end up on a date 💑\, make new pals 🤗\, talk to those you know 👋\, talk to those you don’t know but have always wanted to 😏\, or hey even keep to yourself 🤫\, because it’s all good & do what makes you feel most comfortable! 💖 \n\n\n\n[This is an open event\, so feel free to invite your pals! 🎉] \n\n\n\nAll genders & sexualities are welcome! 🌈 \n\n\n\nThe goal is to provide a fun & safer environment for enjoying craft beers & chatting with pals! 🍻💬 \n\n\n\nWe will try to prioritize visiting spaces that are physically accessible! 🚪♿ \n\n\n\nFeedback\, thoughts\, suggestions are welcome! You can shoot us a message anytime! 📩queering613@gmail.com \n\n\n\n📍 Lowertown Brewery73 York Street \n\n\n\nPhysical Accessibility Note:Lowertown is a physically accessible venue\, with a ramp at the entrance 🛣️ and accessible bathrooms on the main level 🚻. There is also an outdoor patio for COVID-safer spaces\, weather depending. 🌤️
URL:https://maxottawa.ca/list/queers-beers-spring-fling/
LOCATION:Lowertown Brewery\, 73 York St.\, Ottawa\, Ontario\, K1N 5T2\, Canada
CATEGORIES:Live music,Nightlife,Parties,Social
ORGANIZER;CN="Queering 613":MAILTO:queering613@gmail.com
END:VEVENT
BEGIN:VEVENT
DTSTART;TZID=America/Toronto:20250424T190000
DTEND;TZID=America/Toronto:20250424T220000
DTSTAMP:20260422T180901
CREATED:20250402T130106Z
LAST-MODIFIED:20250402T130116Z
UID:10002350-1745521200-1745532000@maxottawa.ca
SUMMARY:Stud Country {Achey Breaky Queer Line Dancing}
DESCRIPTION:Inspired by Stud Country\, Los AngelesThursday\, April 24th\, 2025Doors: 7:00 PM | Lessons: 8:00 PMOverflow Brewing | 2477 Kaladar Avenue \n\n\n\nGet ready for a fun-filled night of queer line dancing! 🕺💃 Queering613 is excited to bring you a new monthly event inspired by Stud Country out of LA\, featuring a half dance lesson\, half (country) dance party vibes. Let’s get hundreds of boots stomping 👢 and Wrangler-clad hips shaking on the dance floor! 🎶 \n\n\n\nThis event will feature a queer-led line dancing lesson from the talented instructors at Westie Underground Dance Studio. 🌟 Westie Underground is cooking up some awesome line dance routines\, blending traditional and contemporary tunes that are sure to keep you moving. 🎵 \n\n\n\nWhether you’re there to dance\, hang out with friends 🤗\, or just watch the action from the sidelines 👀\, everyone is welcome to join in on the fun! Dressing to theme is highly encouraged – think chaps\, straps\, and spurs! 🤠✨ \n\n\n\nWhat to Expect: \n\n\n\nOverflowing Craft Brew 🍻 – Enjoy a wide selection of craft beers throughout the night. \n\n\n\nInclusive Space 🌈 – All genders and sexualities are welcome. \n\n\n\nAccessible Venue ♿ – Overflow Brewing is a physically accessible venue\, with an accessible entrance and washrooms. There is an outdoor patio\, weather permitting. 🌤️ \n\n\n\nImportant Notes: \n\n\n\nParticipation in the dance lesson is optional – feel free to join in or enjoy the atmosphere with your friends. 🕺💃 \n\n\n\nWe aim to create a fun\, safer space for everyone to enjoy\, and we’re committed to making sure this event is welcoming and accessible. 💜 \n\n\n\nYour feedback is always welcome! Feel free to reach out to us anytime at queering613@gmail.com. 📩 \n\n\n\nSpecial Thanks: \n\n\n\nOverflow Brewing for hosting us in their fantastic space: overflowbeer.com 🍺 \n\n\n\nWestie Underground for sharing their dance expertise! 💃🕺 \n\n\n\nWe also acknowledge that this event takes place on unceded Algonquin Territory\, land that was never surrendered. 🏞️
URL:https://maxottawa.ca/list/stud-country-achey-breaky-queer-line-dancing/
LOCATION:Overflow Brewery\, 2477 Kaladar ave.\, Ottawa\, Ontario\, K1V 8B9\, Canada
CATEGORIES:Educational,Nightlife,Regular programming,Social
ORGANIZER;CN="Queering 613":MAILTO:queering613@gmail.com
END:VEVENT
BEGIN:VEVENT
DTSTART;TZID=America/Toronto:20250418T180000
DTEND;TZID=America/Toronto:20250418T220000
DTSTAMP:20260422T180901
CREATED:20250402T125215Z
LAST-MODIFIED:20250402T125231Z
UID:10002349-1744999200-1745013600@maxottawa.ca
SUMMARY:Queers & Beers
DESCRIPTION:QUEERS & BEERS is heading to Queen St. Fare. This time around ~ there will be no DJ ’til later (think after 9) to allow for conversation and networking ~ Old School Queers & Beers! After 9 ~ we will be bringing the dance vibes to finish the early to bed dance party! \n\n\n\nQueers & Beers will be heading to Queen St. Fair for this Indoor event ~ Friday\, April 18th\, 2025 @ 6:00pm \n\n\n\nWe would like to acknowledge and honour that all of the work we do is currently being done on unceded Algonquin Territory that was never given up and never surrendered. \n\n\n\nDo you love craft beer? Do you like getting together with your community & meeting new friends? Want to have interesting conversation & try new things? Yes\, yes and yes! So let’s get together and explore the craft brew scene here in Ottcity & create a safer space for queer & trans pub lovers! \n\n\n\nCome with friends\, come alone\, come with a date\, end up on a date\, make new pals\, talk to those you know\, talk to those you don’t know but have always wanted to\, or hey even keep to yourself\, because it’s all good & do what makes you feel most comfortable! \n\n\n\n[This is an open-event so feel free to invite your pals!] \n\n\n\nAll genders & sexualities are welcome!The goal is to provide a fun & safer environment for enjoying craft beers & chatting with pals!We will try to prioritize visiting spaces that are accessible!Feedback\, thoughts\, suggestions are welcome! You can shoot us a message anytime!queering613@gmail.com \n\n\n\nQueen St. Fare170 Queen Street \n\n\n\nPhysical Accessibility Note: \n\n\n\nQueen St. Fare is an accessible space with automated doors and accessible washrooms.
URL:https://maxottawa.ca/list/queers-beers-4/
LOCATION:Queen Street Fare\, 170 Queen St\, Ottawa\, ON\, K1P 5E1\, Canada
CATEGORIES:Live music,Nightlife,Social
ORGANIZER;CN="Queering 613":MAILTO:queering613@gmail.com
END:VEVENT
BEGIN:VEVENT
DTSTART;TZID=America/Toronto:20250328T183000
DTEND;TZID=America/Toronto:20250328T230000
DTSTAMP:20260422T180901
CREATED:20250226T191059Z
LAST-MODIFIED:20250226T191107Z
UID:10002115-1743186600-1743202800@maxottawa.ca
SUMMARY:Queers & Beers
DESCRIPTION:QUEERS & BEERS at Overflow Brewery featuring live music feat. OK Naledi + Kira on drums + Cynthia on base \n\n\n\nDo you love craft beer? Do you like getting together with your community & meeting new friends? Want to have interesting conversation & try new things? Yes\, yes and yes! So let’s get together and explore the craft brew scene here in Ottcity & create a safer space for queer & trans pub lovers! \n\n\n\nCome with friends\, come alone\, come with a date\, end up on a date\, make new pals\, talk to those you know\, talk to those you don’t know but have always wanted to\, or hey even keep to yourself\, because it’s all good & do what makes you feel most comfortable! \n\n\n\n[This is an open-event so feel free to invite your pals!] \n\n\n\no All genders & sexualities are welcome!o The goal is to provide a fun & safer environment for enjoying craft beers & chatting with pals!o We will try to prioritize visiting spaces that are accessible!o Feedback\, thoughts\, suggestions are welcome! You can shoot us a message anytime!queering613@gmail.com \n\n\n\nThanks Overflow for sharing your space!@overflowbrewingco \n\n\n\nhttps://overflowbeer.com \n\n\n\nThank you OK Naledi – Ottawa local Queer\, Motswana Canadian musician Naledi Sunstrum + their pal Kira on drums! \n\n\n\n\nhttps://oknaledi.com/?fbclid=IwZXh0bgNhZW0CMTAAAR0V1ZXjeDtRMkZggchiVc-czexFyigwCZ9LkrFxjxyrWsPZt7lQxkU0FgE_aem_ATZxOiQgWLOxNIuQt4OBcmEo99thuEbqzrp4cSBe3DUvhw_dyn_tpMcA6tTEB9izSOYfp9YjKl5eY8Wrwvkob5zr\n\n\n\n\nDJ JU!CE is an intergalactic multi-artist of Haitian descent\, based in Tiohtià:ke/Montreal . With the inspiration of space and video games\, JU!CE is a self taught beatmaker\, digital artist\, singer and Hip Hop DJ. Through their creations\, their goal is to raise the vibrations of others\, so that they may tap in with the universe and explore what creativeness means to them. JU!CE aims to create an “out of this world” experience. \n\n\n\nOverflow Brewing2477 Kaladar Avenue \n\n\n\nOff Bank Street\, just South of the Glebe \n\n\n\nAccessibility Note: \n\n\n\nOverflow Brewing IS AN ACCESSIBLE venue with an accessible entrance and accessible washrooms. There is an outdoor patio – weather permitting.
URL:https://maxottawa.ca/list/queers-beers-3/
LOCATION:Overflow Brewery\, 2477 Kaladar ave.\, Ottawa\, Ontario\, K1V 8B9\, Canada
CATEGORIES:Live music,Nightlife,Social
ORGANIZER;CN="Queering 613":MAILTO:queering613@gmail.com
END:VEVENT
BEGIN:VEVENT
DTSTART;TZID=America/Toronto:20250221T183000
DTEND;TZID=America/Toronto:20250221T230000
DTSTAMP:20260422T180901
CREATED:20250220T023757Z
LAST-MODIFIED:20250220T023803Z
UID:10001923-1740162600-1740178800@maxottawa.ca
SUMMARY:Queers & Beers: Winter Edition Lowertown
DESCRIPTION:QUEERS & BEERS at Lowertown Brewery in the Byward Market! \n\n\n\nQueers & Beers will be heading back to Lowertown for this Indoor event. \n\n\n\nWe would like to acknowledge and honour that all of the work we do is currently being done on unceded Algonquin Territory that was never given up and never surrendered. \n\n\n\nDo you love craft beer? Do you like getting together with your community & meeting new friends? Want to have interesting conversation & try new things? Yes\, yes and yes! So let’s get together and explore the craft brew scene here in Ottcity & create a safer space for queer & trans pub lovers! \n\n\n\nCome with friends\, come alone\, come with a date\, end up on a date\, make new pals\, talk to those you know\, talk to those you don’t know but have always wanted to\, or hey even keep to yourself\, because it’s all good & do what makes you feel most comfortable! \n\n\n\n[This is an open-event so feel free to invite your pals!] \n\n\n\no All genders & sexualities are welcome!o The goal is to provide a fun & safer environment for enjoying craft beers & chatting with pals!o We will try to prioritize visiting spaces that are accessible!o Feedback\, thoughts\, suggestions are welcome! You can shoot us a message anytime!queering613@gmail.com \n\n\n\nLowertown Brewery73 York Street \n\n\n\nPhysical Accessibility Note: \n\n\n\nLowertown is a physically accessible venue\, with a ramp at the entrance and accessible bathroom on the main level.
URL:https://maxottawa.ca/list/queers-beers-winter-edition-lowertown/
LOCATION:Lowertown Brewery\, 73 York St.\, Ottawa\, K1N 5T2
CATEGORIES:Nightlife,Social
ORGANIZER;CN="Queering 613":MAILTO:queering613@gmail.com
END:VEVENT
BEGIN:VEVENT
DTSTART;TZID=America/Toronto:20250208T180000
DTEND;TZID=America/Toronto:20250208T233000
DTSTAMP:20260422T180901
CREATED:20250204T172408Z
LAST-MODIFIED:20250204T172426Z
UID:10001898-1739037600-1739057400@maxottawa.ca
SUMMARY:Queers & Beers Aylmer Edition
DESCRIPTION:Queers & Beers: Aylmer Edition is back again on Saturday\, February 8th with dinner\, drinks\, socializing\, dancing and drag at the @britishhotel \n\n\n\nThe amazing @coekiki \, drag queen headliner and contestant on Canada’s Drag Race Season 4\, will be turning the party up\, along with her drag daughters\, @devonacoequeen and @aishwarya_coe! \n\n\n\nDon’t miss out on this amazing opportunity to be a part of an empowering and uplifting local queer event. Get your tickets online or at the door. \n\n\n\n🏳️‍🌈 THE GAY AGENDA 🏳️‍⚧️SATURDAY\, 8 FEBRUARY 2025 \n\n\n\nSOCIAL 6 PMDANCING 8 PMDRAG PERFORMANCES 9 PMMORE DANCING 10 PM \n\n\n\nThis is an open event\, so invite your friends! \n\n\n\n⭐️ all genders and sexualities welcome🌈 friendly\, safe and accessible venue💬 meet new people🌼 discover community right outside your door
URL:https://maxottawa.ca/list/queers-beers-aylmer-edition/
LOCATION:The British Hotel\, Restaurant and Pub\, 71 Principale St.\, Gatineau\, Quebec\, J9H 3L6\, Canada
CATEGORIES:Drag & Burlesque,Nightlife,Social
ORGANIZER;CN="Queering 613":MAILTO:queering613@gmail.com
END:VEVENT
BEGIN:VEVENT
DTSTART;TZID=America/Toronto:20250117T180000
DTEND;TZID=America/Toronto:20250117T230000
DTSTAMP:20260422T180901
CREATED:20250117T231430Z
LAST-MODIFIED:20250117T231437Z
UID:10001591-1737136800-1737154800@maxottawa.ca
SUMMARY:Queers & Beers
DESCRIPTION:QUEERS & BEERS is heading to Queen St. Fare for the New Year ~ New Vibes! This time around ~ there will be no DJ ’til later (think after 9) too allow for conversation and networking ~ Old School Queers & Beers! After 9 ~ we will be bringing the dance vibes to finish the early to bed dance party! \nQueers & Beers will be heading to Queen St. Fair  for this Indoor event ~ Friday\, January 17th\, 2025 @ 6:00pm \nWe would like to acknowledge and honour that all of the work we do is currently being done on unceded Algonquin Territory that was never given up and never surrendered.  \nDo you love craft beer? Do you like getting together with your community & meeting new friends? Want to have interesting conversation & try new things? Yes\, yes and yes! So let’s get together and explore the craft brew scene here in Ottcity & create a safer space for queer & trans pub lovers!  \nCome with friends\, come alone\, come with a date\, end up on a date\, make new pals\, talk to those you know\, talk to those you don’t know but have always wanted to\, or hey even keep to yourself\, because it’s all good & do what makes you feel most comfortable!  \n[This is an open-event so feel free to invite your pals!] \no All genders & sexualities are welcome!\no The goal is to provide a fun & safer environment for enjoying craft beers & chatting with pals!\no We will try to prioritize visiting spaces that are accessible!\no Feedback\, thoughts\, suggestions are welcome! You can shoot us a message anytime!\nqueering613@gmail.com \nQueen St. Fare\n170 Queen Street \nPhysical Accessibility Note: \nQueen St. Fare is an accessible space with automated doors and accessible washrooms.
URL:https://maxottawa.ca/list/queers-beers-2/
LOCATION:Queen Street Fare\, 170 Queen St\, Ottawa\, ON\, K1P 5E1\, Canada
CATEGORIES:Nightlife,Social
ATTACH;FMTTYPE=image/jpeg:https://maxottawa.ca/wp-content/uploads/2025/01/IMG_1760.jpeg
ORGANIZER;CN="Queering 613":MAILTO:queering613@gmail.com
END:VEVENT
BEGIN:VEVENT
DTSTART;TZID=America/Toronto:20241115T180000
DTEND;TZID=America/Toronto:20241115T220000
DTSTAMP:20260422T180901
CREATED:20241101T191420Z
LAST-MODIFIED:20241106T151842Z
UID:10001381-1731693600-1731708000@maxottawa.ca
SUMMARY:Queers & Beers
DESCRIPTION:QUEERS & BEERS is heading to Queen St. Fare! \n\n\n\nDo you love craft beer? Do you like getting together with your community & meeting new friends? Want to have interesting conversation & try new things? Yes\, yes and yes! So let’s get together and explore the craft brew scene here in Ottcity & create a safer space for queer & trans pub lovers! \n\n\n\nCome with friends\, come alone\, come with a date\, end up on a date\, make new pals\, talk to those you know\, talk to those you don’t know but have always wanted to\, or hey even keep to yourself\, because it’s all good & do what makes you feel most comfortable! \n\n\n\n[This is an open-event so feel free to invite your pals!] \n\n\n\no All genders & sexualities are welcome!o The goal is to provide a fun & safer environment for enjoying craft beers & chatting with pals!o We will try to prioritize visiting spaces that are accessible! \n\n\n\nPhysical Accessibility Note: \n\n\n\nQueen St. Fare is an accessible space with automated doors and accessible washrooms.
URL:https://maxottawa.ca/list/queers-beers/
LOCATION:Queen Street Fare\, 170 Queen St\, Ottawa\, ON\, K1P 5E1\, Canada
CATEGORIES:Social
ORGANIZER;CN="Queering 613":MAILTO:queering613@gmail.com
END:VEVENT
END:VCALENDAR