BEGIN:VCALENDAR
VERSION:2.0
PRODID:-//MAX Ottawa - ECPv6.15.20//NONSGML v1.0//EN
CALSCALE:GREGORIAN
METHOD:PUBLISH
X-ORIGINAL-URL:https://maxottawa.ca
X-WR-CALDESC:Events for MAX Ottawa
REFRESH-INTERVAL;VALUE=DURATION:PT1H
X-Robots-Tag:noindex
X-PUBLISHED-TTL:PT1H
BEGIN:VTIMEZONE
TZID:America/Toronto
BEGIN:DAYLIGHT
TZOFFSETFROM:-0500
TZOFFSETTO:-0400
TZNAME:EDT
DTSTART:20240310T070000
END:DAYLIGHT
BEGIN:STANDARD
TZOFFSETFROM:-0400
TZOFFSETTO:-0500
TZNAME:EST
DTSTART:20241103T060000
END:STANDARD
BEGIN:DAYLIGHT
TZOFFSETFROM:-0500
TZOFFSETTO:-0400
TZNAME:EDT
DTSTART:20250309T070000
END:DAYLIGHT
BEGIN:STANDARD
TZOFFSETFROM:-0400
TZOFFSETTO:-0500
TZNAME:EST
DTSTART:20251102T060000
END:STANDARD
BEGIN:DAYLIGHT
TZOFFSETFROM:-0500
TZOFFSETTO:-0400
TZNAME:EDT
DTSTART:20260308T070000
END:DAYLIGHT
BEGIN:STANDARD
TZOFFSETFROM:-0400
TZOFFSETTO:-0500
TZNAME:EST
DTSTART:20261101T060000
END:STANDARD
BEGIN:DAYLIGHT
TZOFFSETFROM:-0500
TZOFFSETTO:-0400
TZNAME:EDT
DTSTART:20270314T070000
END:DAYLIGHT
BEGIN:STANDARD
TZOFFSETFROM:-0400
TZOFFSETTO:-0500
TZNAME:EST
DTSTART:20271107T060000
END:STANDARD
END:VTIMEZONE
BEGIN:VEVENT
DTSTART;TZID=America/Toronto:20260104T200000
DTEND;TZID=America/Toronto:20260104T230000
DTSTAMP:20260420T135050
CREATED:20241029T210043Z
LAST-MODIFIED:20241106T152947Z
UID:10000578-1767556800-1767567600@maxottawa.ca
SUMMARY:Karaoke Night
DESCRIPTION:Karaoke with fellow Queers hosted by Jolene.
URL:https://maxottawa.ca/list/karaoke-night/2026-01-04/
LOCATION:T’s\, 323 Somerset Street West\, Ottawa\, ON\, 2P 0J8\, Canada
CATEGORIES:Live music,Nightlife,Regular programming
END:VEVENT
BEGIN:VEVENT
DTSTART;TZID=America/Toronto:20260101T200000
DTEND;TZID=America/Toronto:20260101T230000
DTSTAMP:20260420T135050
CREATED:20241029T210043Z
LAST-MODIFIED:20241106T152947Z
UID:10000577-1767297600-1767308400@maxottawa.ca
SUMMARY:Karaoke Night
DESCRIPTION:Karaoke with fellow Queers hosted by Jolene.
URL:https://maxottawa.ca/list/karaoke-night/2026-01-01/
LOCATION:T’s\, 323 Somerset Street West\, Ottawa\, ON\, 2P 0J8\, Canada
CATEGORIES:Live music,Nightlife,Regular programming
END:VEVENT
BEGIN:VEVENT
DTSTART;TZID=America/Toronto:20251228T200000
DTEND;TZID=America/Toronto:20251228T230000
DTSTAMP:20260420T135050
CREATED:20241029T210043Z
LAST-MODIFIED:20241106T152947Z
UID:10000576-1766952000-1766962800@maxottawa.ca
SUMMARY:Karaoke Night
DESCRIPTION:Karaoke with fellow Queers hosted by Jolene.
URL:https://maxottawa.ca/list/karaoke-night/2025-12-28/
LOCATION:T’s\, 323 Somerset Street West\, Ottawa\, ON\, 2P 0J8\, Canada
CATEGORIES:Live music,Nightlife,Regular programming
END:VEVENT
BEGIN:VEVENT
DTSTART;TZID=America/Toronto:20251225T200000
DTEND;TZID=America/Toronto:20251225T230000
DTSTAMP:20260420T135050
CREATED:20241029T210043Z
LAST-MODIFIED:20241106T152947Z
UID:10000575-1766692800-1766703600@maxottawa.ca
SUMMARY:Karaoke Night
DESCRIPTION:Karaoke with fellow Queers hosted by Jolene.
URL:https://maxottawa.ca/list/karaoke-night/2025-12-25/
LOCATION:T’s\, 323 Somerset Street West\, Ottawa\, ON\, 2P 0J8\, Canada
CATEGORIES:Live music,Nightlife,Regular programming
END:VEVENT
BEGIN:VEVENT
DTSTART;TZID=America/Toronto:20251221T200000
DTEND;TZID=America/Toronto:20251221T230000
DTSTAMP:20260420T135050
CREATED:20241029T210043Z
LAST-MODIFIED:20241106T152947Z
UID:10000574-1766347200-1766358000@maxottawa.ca
SUMMARY:Karaoke Night
DESCRIPTION:Karaoke with fellow Queers hosted by Jolene.
URL:https://maxottawa.ca/list/karaoke-night/2025-12-21/
LOCATION:T’s\, 323 Somerset Street West\, Ottawa\, ON\, 2P 0J8\, Canada
CATEGORIES:Live music,Nightlife,Regular programming
END:VEVENT
BEGIN:VEVENT
DTSTART;TZID=America/Toronto:20251218T200000
DTEND;TZID=America/Toronto:20251218T230000
DTSTAMP:20260420T135050
CREATED:20241029T210043Z
LAST-MODIFIED:20241106T152947Z
UID:10000573-1766088000-1766098800@maxottawa.ca
SUMMARY:Karaoke Night
DESCRIPTION:Karaoke with fellow Queers hosted by Jolene.
URL:https://maxottawa.ca/list/karaoke-night/2025-12-18/
LOCATION:T’s\, 323 Somerset Street West\, Ottawa\, ON\, 2P 0J8\, Canada
CATEGORIES:Live music,Nightlife,Regular programming
END:VEVENT
BEGIN:VEVENT
DTSTART;TZID=America/Toronto:20251214T200000
DTEND;TZID=America/Toronto:20251214T230000
DTSTAMP:20260420T135050
CREATED:20241029T210043Z
LAST-MODIFIED:20241106T152947Z
UID:10000572-1765742400-1765753200@maxottawa.ca
SUMMARY:Karaoke Night
DESCRIPTION:Karaoke with fellow Queers hosted by Jolene.
URL:https://maxottawa.ca/list/karaoke-night/2025-12-14/
LOCATION:T’s\, 323 Somerset Street West\, Ottawa\, ON\, 2P 0J8\, Canada
CATEGORIES:Live music,Nightlife,Regular programming
END:VEVENT
BEGIN:VEVENT
DTSTART;TZID=America/Toronto:20251211T200000
DTEND;TZID=America/Toronto:20251211T230000
DTSTAMP:20260420T135050
CREATED:20241029T210043Z
LAST-MODIFIED:20241106T152947Z
UID:10000571-1765483200-1765494000@maxottawa.ca
SUMMARY:Karaoke Night
DESCRIPTION:Karaoke with fellow Queers hosted by Jolene.
URL:https://maxottawa.ca/list/karaoke-night/2025-12-11/
LOCATION:T’s\, 323 Somerset Street West\, Ottawa\, ON\, 2P 0J8\, Canada
CATEGORIES:Live music,Nightlife,Regular programming
END:VEVENT
BEGIN:VEVENT
DTSTART;TZID=America/Toronto:20251207T200000
DTEND;TZID=America/Toronto:20251207T230000
DTSTAMP:20260420T135050
CREATED:20241029T210043Z
LAST-MODIFIED:20241106T152947Z
UID:10000570-1765137600-1765148400@maxottawa.ca
SUMMARY:Karaoke Night
DESCRIPTION:Karaoke with fellow Queers hosted by Jolene.
URL:https://maxottawa.ca/list/karaoke-night/2025-12-07/
LOCATION:T’s\, 323 Somerset Street West\, Ottawa\, ON\, 2P 0J8\, Canada
CATEGORIES:Live music,Nightlife,Regular programming
END:VEVENT
BEGIN:VEVENT
DTSTART;TZID=America/Toronto:20251204T200000
DTEND;TZID=America/Toronto:20251204T230000
DTSTAMP:20260420T135050
CREATED:20241029T210043Z
LAST-MODIFIED:20241106T152947Z
UID:10000569-1764878400-1764889200@maxottawa.ca
SUMMARY:Karaoke Night
DESCRIPTION:Karaoke with fellow Queers hosted by Jolene.
URL:https://maxottawa.ca/list/karaoke-night/2025-12-04/
LOCATION:T’s\, 323 Somerset Street West\, Ottawa\, ON\, 2P 0J8\, Canada
CATEGORIES:Live music,Nightlife,Regular programming
END:VEVENT
BEGIN:VEVENT
DTSTART;TZID=America/Toronto:20251130T200000
DTEND;TZID=America/Toronto:20251130T230000
DTSTAMP:20260420T135050
CREATED:20241029T210043Z
LAST-MODIFIED:20241106T152947Z
UID:10000568-1764532800-1764543600@maxottawa.ca
SUMMARY:Karaoke Night
DESCRIPTION:Karaoke with fellow Queers hosted by Jolene.
URL:https://maxottawa.ca/list/karaoke-night/2025-11-30/
LOCATION:T’s\, 323 Somerset Street West\, Ottawa\, ON\, 2P 0J8\, Canada
CATEGORIES:Live music,Nightlife,Regular programming
END:VEVENT
BEGIN:VEVENT
DTSTART;TZID=America/Toronto:20251127T200000
DTEND;TZID=America/Toronto:20251127T230000
DTSTAMP:20260420T135050
CREATED:20241029T210043Z
LAST-MODIFIED:20241106T152947Z
UID:10000567-1764273600-1764284400@maxottawa.ca
SUMMARY:Karaoke Night
DESCRIPTION:Karaoke with fellow Queers hosted by Jolene.
URL:https://maxottawa.ca/list/karaoke-night/2025-11-27/
LOCATION:T’s\, 323 Somerset Street West\, Ottawa\, ON\, 2P 0J8\, Canada
CATEGORIES:Live music,Nightlife,Regular programming
END:VEVENT
BEGIN:VEVENT
DTSTART;TZID=America/Toronto:20251123T200000
DTEND;TZID=America/Toronto:20251123T230000
DTSTAMP:20260420T135050
CREATED:20241029T210043Z
LAST-MODIFIED:20241106T152947Z
UID:10000566-1763928000-1763938800@maxottawa.ca
SUMMARY:Karaoke Night
DESCRIPTION:Karaoke with fellow Queers hosted by Jolene.
URL:https://maxottawa.ca/list/karaoke-night/2025-11-23/
LOCATION:T’s\, 323 Somerset Street West\, Ottawa\, ON\, 2P 0J8\, Canada
CATEGORIES:Live music,Nightlife,Regular programming
END:VEVENT
BEGIN:VEVENT
DTSTART;TZID=America/Toronto:20251120T200000
DTEND;TZID=America/Toronto:20251120T230000
DTSTAMP:20260420T135050
CREATED:20241029T210043Z
LAST-MODIFIED:20241106T152947Z
UID:10000565-1763668800-1763679600@maxottawa.ca
SUMMARY:Karaoke Night
DESCRIPTION:Karaoke with fellow Queers hosted by Jolene.
URL:https://maxottawa.ca/list/karaoke-night/2025-11-20/
LOCATION:T’s\, 323 Somerset Street West\, Ottawa\, ON\, 2P 0J8\, Canada
CATEGORIES:Live music,Nightlife,Regular programming
END:VEVENT
BEGIN:VEVENT
DTSTART;TZID=America/Toronto:20251116T200000
DTEND;TZID=America/Toronto:20251116T230000
DTSTAMP:20260420T135050
CREATED:20241029T210043Z
LAST-MODIFIED:20241106T152947Z
UID:10000564-1763323200-1763334000@maxottawa.ca
SUMMARY:Karaoke Night
DESCRIPTION:Karaoke with fellow Queers hosted by Jolene.
URL:https://maxottawa.ca/list/karaoke-night/2025-11-16/
LOCATION:T’s\, 323 Somerset Street West\, Ottawa\, ON\, 2P 0J8\, Canada
CATEGORIES:Live music,Nightlife,Regular programming
END:VEVENT
BEGIN:VEVENT
DTSTART;TZID=America/Toronto:20251113T200000
DTEND;TZID=America/Toronto:20251113T230000
DTSTAMP:20260420T135050
CREATED:20241029T210043Z
LAST-MODIFIED:20241106T152947Z
UID:10000563-1763064000-1763074800@maxottawa.ca
SUMMARY:Karaoke Night
DESCRIPTION:Karaoke with fellow Queers hosted by Jolene.
URL:https://maxottawa.ca/list/karaoke-night/2025-11-13/
LOCATION:T’s\, 323 Somerset Street West\, Ottawa\, ON\, 2P 0J8\, Canada
CATEGORIES:Live music,Nightlife,Regular programming
END:VEVENT
BEGIN:VEVENT
DTSTART;TZID=America/Toronto:20251109T200000
DTEND;TZID=America/Toronto:20251109T230000
DTSTAMP:20260420T135050
CREATED:20241029T210043Z
LAST-MODIFIED:20241106T152947Z
UID:10000562-1762718400-1762729200@maxottawa.ca
SUMMARY:Karaoke Night
DESCRIPTION:Karaoke with fellow Queers hosted by Jolene.
URL:https://maxottawa.ca/list/karaoke-night/2025-11-09/
LOCATION:T’s\, 323 Somerset Street West\, Ottawa\, ON\, 2P 0J8\, Canada
CATEGORIES:Live music,Nightlife,Regular programming
END:VEVENT
BEGIN:VEVENT
DTSTART;TZID=America/Toronto:20251106T200000
DTEND;TZID=America/Toronto:20251106T230000
DTSTAMP:20260420T135050
CREATED:20241029T210043Z
LAST-MODIFIED:20241106T152947Z
UID:10000561-1762459200-1762470000@maxottawa.ca
SUMMARY:Karaoke Night
DESCRIPTION:Karaoke with fellow Queers hosted by Jolene.
URL:https://maxottawa.ca/list/karaoke-night/2025-11-06/
LOCATION:T’s\, 323 Somerset Street West\, Ottawa\, ON\, 2P 0J8\, Canada
CATEGORIES:Live music,Nightlife,Regular programming
END:VEVENT
BEGIN:VEVENT
DTSTART;TZID=America/Toronto:20251102T200000
DTEND;TZID=America/Toronto:20251102T230000
DTSTAMP:20260420T135050
CREATED:20241029T210043Z
LAST-MODIFIED:20241106T152947Z
UID:10000560-1762113600-1762124400@maxottawa.ca
SUMMARY:Karaoke Night
DESCRIPTION:Karaoke with fellow Queers hosted by Jolene.
URL:https://maxottawa.ca/list/karaoke-night/2025-11-02/
LOCATION:T’s\, 323 Somerset Street West\, Ottawa\, ON\, 2P 0J8\, Canada
CATEGORIES:Live music,Nightlife,Regular programming
END:VEVENT
BEGIN:VEVENT
DTSTART;TZID=America/Toronto:20251030T200000
DTEND;TZID=America/Toronto:20251030T230000
DTSTAMP:20260420T135050
CREATED:20241029T210043Z
LAST-MODIFIED:20241106T152947Z
UID:10000559-1761854400-1761865200@maxottawa.ca
SUMMARY:Karaoke Night
DESCRIPTION:Karaoke with fellow Queers hosted by Jolene.
URL:https://maxottawa.ca/list/karaoke-night/2025-10-30/
LOCATION:T’s\, 323 Somerset Street West\, Ottawa\, ON\, 2P 0J8\, Canada
CATEGORIES:Live music,Nightlife,Regular programming
END:VEVENT
BEGIN:VEVENT
DTSTART;TZID=America/Toronto:20251026T200000
DTEND;TZID=America/Toronto:20251026T230000
DTSTAMP:20260420T135050
CREATED:20241029T210043Z
LAST-MODIFIED:20241106T152947Z
UID:10000558-1761508800-1761519600@maxottawa.ca
SUMMARY:Karaoke Night
DESCRIPTION:Karaoke with fellow Queers hosted by Jolene.
URL:https://maxottawa.ca/list/karaoke-night/2025-10-26/
LOCATION:T’s\, 323 Somerset Street West\, Ottawa\, ON\, 2P 0J8\, Canada
CATEGORIES:Live music,Nightlife,Regular programming
END:VEVENT
BEGIN:VEVENT
DTSTART;TZID=America/Toronto:20251023T200000
DTEND;TZID=America/Toronto:20251023T230000
DTSTAMP:20260420T135050
CREATED:20241029T210043Z
LAST-MODIFIED:20241106T152947Z
UID:10000557-1761249600-1761260400@maxottawa.ca
SUMMARY:Karaoke Night
DESCRIPTION:Karaoke with fellow Queers hosted by Jolene.
URL:https://maxottawa.ca/list/karaoke-night/2025-10-23/
LOCATION:T’s\, 323 Somerset Street West\, Ottawa\, ON\, 2P 0J8\, Canada
CATEGORIES:Live music,Nightlife,Regular programming
END:VEVENT
BEGIN:VEVENT
DTSTART;TZID=America/Toronto:20251019T200000
DTEND;TZID=America/Toronto:20251019T230000
DTSTAMP:20260420T135050
CREATED:20241029T210043Z
LAST-MODIFIED:20241106T152947Z
UID:10000556-1760904000-1760914800@maxottawa.ca
SUMMARY:Karaoke Night
DESCRIPTION:Karaoke with fellow Queers hosted by Jolene.
URL:https://maxottawa.ca/list/karaoke-night/2025-10-19/
LOCATION:T’s\, 323 Somerset Street West\, Ottawa\, ON\, 2P 0J8\, Canada
CATEGORIES:Live music,Nightlife,Regular programming
END:VEVENT
BEGIN:VEVENT
DTSTART;TZID=America/Toronto:20251016T200000
DTEND;TZID=America/Toronto:20251016T230000
DTSTAMP:20260420T135050
CREATED:20241029T210043Z
LAST-MODIFIED:20241106T152947Z
UID:10000555-1760644800-1760655600@maxottawa.ca
SUMMARY:Karaoke Night
DESCRIPTION:Karaoke with fellow Queers hosted by Jolene.
URL:https://maxottawa.ca/list/karaoke-night/2025-10-16/
LOCATION:T’s\, 323 Somerset Street West\, Ottawa\, ON\, 2P 0J8\, Canada
CATEGORIES:Live music,Nightlife,Regular programming
END:VEVENT
BEGIN:VEVENT
DTSTART;TZID=America/Toronto:20251012T200000
DTEND;TZID=America/Toronto:20251012T230000
DTSTAMP:20260420T135050
CREATED:20241029T210043Z
LAST-MODIFIED:20241106T152947Z
UID:10000554-1760299200-1760310000@maxottawa.ca
SUMMARY:Karaoke Night
DESCRIPTION:Karaoke with fellow Queers hosted by Jolene.
URL:https://maxottawa.ca/list/karaoke-night/2025-10-12/
LOCATION:T’s\, 323 Somerset Street West\, Ottawa\, ON\, 2P 0J8\, Canada
CATEGORIES:Live music,Nightlife,Regular programming
END:VEVENT
BEGIN:VEVENT
DTSTART;TZID=America/Toronto:20251009T200000
DTEND;TZID=America/Toronto:20251009T230000
DTSTAMP:20260420T135050
CREATED:20241029T210043Z
LAST-MODIFIED:20241106T152947Z
UID:10000553-1760040000-1760050800@maxottawa.ca
SUMMARY:Karaoke Night
DESCRIPTION:Karaoke with fellow Queers hosted by Jolene.
URL:https://maxottawa.ca/list/karaoke-night/2025-10-09/
LOCATION:T’s\, 323 Somerset Street West\, Ottawa\, ON\, 2P 0J8\, Canada
CATEGORIES:Live music,Nightlife,Regular programming
END:VEVENT
BEGIN:VEVENT
DTSTART;TZID=America/Toronto:20251005T200000
DTEND;TZID=America/Toronto:20251005T230000
DTSTAMP:20260420T135050
CREATED:20241029T210043Z
LAST-MODIFIED:20241106T152947Z
UID:10000552-1759694400-1759705200@maxottawa.ca
SUMMARY:Karaoke Night
DESCRIPTION:Karaoke with fellow Queers hosted by Jolene.
URL:https://maxottawa.ca/list/karaoke-night/2025-10-05/
LOCATION:T’s\, 323 Somerset Street West\, Ottawa\, ON\, 2P 0J8\, Canada
CATEGORIES:Live music,Nightlife,Regular programming
END:VEVENT
BEGIN:VEVENT
DTSTART;TZID=America/Toronto:20251002T200000
DTEND;TZID=America/Toronto:20251002T230000
DTSTAMP:20260420T135050
CREATED:20241029T210043Z
LAST-MODIFIED:20241106T152947Z
UID:10000551-1759435200-1759446000@maxottawa.ca
SUMMARY:Karaoke Night
DESCRIPTION:Karaoke with fellow Queers hosted by Jolene.
URL:https://maxottawa.ca/list/karaoke-night/2025-10-02/
LOCATION:T’s\, 323 Somerset Street West\, Ottawa\, ON\, 2P 0J8\, Canada
CATEGORIES:Live music,Nightlife,Regular programming
END:VEVENT
BEGIN:VEVENT
DTSTART;TZID=America/Toronto:20250928T200000
DTEND;TZID=America/Toronto:20250928T230000
DTSTAMP:20260420T135050
CREATED:20241029T210043Z
LAST-MODIFIED:20241106T152947Z
UID:10000550-1759089600-1759100400@maxottawa.ca
SUMMARY:Karaoke Night
DESCRIPTION:Karaoke with fellow Queers hosted by Jolene.
URL:https://maxottawa.ca/list/karaoke-night/2025-09-28/
LOCATION:T’s\, 323 Somerset Street West\, Ottawa\, ON\, 2P 0J8\, Canada
CATEGORIES:Live music,Nightlife,Regular programming
END:VEVENT
BEGIN:VEVENT
DTSTART;TZID=America/Toronto:20250925T200000
DTEND;TZID=America/Toronto:20250925T230000
DTSTAMP:20260420T135050
CREATED:20241029T210043Z
LAST-MODIFIED:20241106T152947Z
UID:10000549-1758830400-1758841200@maxottawa.ca
SUMMARY:Karaoke Night
DESCRIPTION:Karaoke with fellow Queers hosted by Jolene.
URL:https://maxottawa.ca/list/karaoke-night/2025-09-25/
LOCATION:T’s\, 323 Somerset Street West\, Ottawa\, ON\, 2P 0J8\, Canada
CATEGORIES:Live music,Nightlife,Regular programming
END:VEVENT
END:VCALENDAR