BEGIN:VCALENDAR
VERSION:2.0
PRODID:-//MAX Ottawa - ECPv6.15.20//NONSGML v1.0//EN
CALSCALE:GREGORIAN
METHOD:PUBLISH
X-ORIGINAL-URL:https://maxottawa.ca
X-WR-CALDESC:Events for MAX Ottawa
REFRESH-INTERVAL;VALUE=DURATION:PT1H
X-Robots-Tag:noindex
X-PUBLISHED-TTL:PT1H
BEGIN:VTIMEZONE
TZID:America/Toronto
BEGIN:DAYLIGHT
TZOFFSETFROM:-0500
TZOFFSETTO:-0400
TZNAME:EDT
DTSTART:20240310T070000
END:DAYLIGHT
BEGIN:STANDARD
TZOFFSETFROM:-0400
TZOFFSETTO:-0500
TZNAME:EST
DTSTART:20241103T060000
END:STANDARD
BEGIN:DAYLIGHT
TZOFFSETFROM:-0500
TZOFFSETTO:-0400
TZNAME:EDT
DTSTART:20250309T070000
END:DAYLIGHT
BEGIN:STANDARD
TZOFFSETFROM:-0400
TZOFFSETTO:-0500
TZNAME:EST
DTSTART:20251102T060000
END:STANDARD
BEGIN:DAYLIGHT
TZOFFSETFROM:-0500
TZOFFSETTO:-0400
TZNAME:EDT
DTSTART:20260308T070000
END:DAYLIGHT
BEGIN:STANDARD
TZOFFSETFROM:-0400
TZOFFSETTO:-0500
TZNAME:EST
DTSTART:20261101T060000
END:STANDARD
END:VTIMEZONE
BEGIN:VEVENT
DTSTART;TZID=America/Toronto:20250921T200000
DTEND;TZID=America/Toronto:20250921T230000
DTSTAMP:20260421T095831
CREATED:20241029T210043Z
LAST-MODIFIED:20241106T152947Z
UID:10000548-1758484800-1758495600@maxottawa.ca
SUMMARY:Karaoke Night
DESCRIPTION:Karaoke with fellow Queers hosted by Jolene.
URL:https://maxottawa.ca/list/karaoke-night/2025-09-21/
LOCATION:T’s\, 323 Somerset Street West\, Ottawa\, ON\, 2P 0J8\, Canada
CATEGORIES:Live music,Nightlife,Regular programming
END:VEVENT
BEGIN:VEVENT
DTSTART;TZID=America/Toronto:20250918T200000
DTEND;TZID=America/Toronto:20250918T230000
DTSTAMP:20260421T095831
CREATED:20241029T210043Z
LAST-MODIFIED:20241106T152947Z
UID:10000547-1758225600-1758236400@maxottawa.ca
SUMMARY:Karaoke Night
DESCRIPTION:Karaoke with fellow Queers hosted by Jolene.
URL:https://maxottawa.ca/list/karaoke-night/2025-09-18/
LOCATION:T’s\, 323 Somerset Street West\, Ottawa\, ON\, 2P 0J8\, Canada
CATEGORIES:Live music,Nightlife,Regular programming
END:VEVENT
BEGIN:VEVENT
DTSTART;TZID=America/Toronto:20250914T200000
DTEND;TZID=America/Toronto:20250914T230000
DTSTAMP:20260421T095831
CREATED:20241029T210043Z
LAST-MODIFIED:20241106T152947Z
UID:10000546-1757880000-1757890800@maxottawa.ca
SUMMARY:Karaoke Night
DESCRIPTION:Karaoke with fellow Queers hosted by Jolene.
URL:https://maxottawa.ca/list/karaoke-night/2025-09-14/
LOCATION:T’s\, 323 Somerset Street West\, Ottawa\, ON\, 2P 0J8\, Canada
CATEGORIES:Live music,Nightlife,Regular programming
END:VEVENT
BEGIN:VEVENT
DTSTART;TZID=America/Toronto:20250911T200000
DTEND;TZID=America/Toronto:20250911T230000
DTSTAMP:20260421T095831
CREATED:20241029T210043Z
LAST-MODIFIED:20241106T152947Z
UID:10000545-1757620800-1757631600@maxottawa.ca
SUMMARY:Karaoke Night
DESCRIPTION:Karaoke with fellow Queers hosted by Jolene.
URL:https://maxottawa.ca/list/karaoke-night/2025-09-11/
LOCATION:T’s\, 323 Somerset Street West\, Ottawa\, ON\, 2P 0J8\, Canada
CATEGORIES:Live music,Nightlife,Regular programming
END:VEVENT
BEGIN:VEVENT
DTSTART;TZID=America/Toronto:20250907T200000
DTEND;TZID=America/Toronto:20250907T230000
DTSTAMP:20260421T095831
CREATED:20241029T210043Z
LAST-MODIFIED:20241106T152947Z
UID:10000544-1757275200-1757286000@maxottawa.ca
SUMMARY:Karaoke Night
DESCRIPTION:Karaoke with fellow Queers hosted by Jolene.
URL:https://maxottawa.ca/list/karaoke-night/2025-09-07/
LOCATION:T’s\, 323 Somerset Street West\, Ottawa\, ON\, 2P 0J8\, Canada
CATEGORIES:Live music,Nightlife,Regular programming
END:VEVENT
BEGIN:VEVENT
DTSTART;TZID=America/Toronto:20250904T200000
DTEND;TZID=America/Toronto:20250904T230000
DTSTAMP:20260421T095831
CREATED:20241029T210043Z
LAST-MODIFIED:20241106T152947Z
UID:10000543-1757016000-1757026800@maxottawa.ca
SUMMARY:Karaoke Night
DESCRIPTION:Karaoke with fellow Queers hosted by Jolene.
URL:https://maxottawa.ca/list/karaoke-night/2025-09-04/
LOCATION:T’s\, 323 Somerset Street West\, Ottawa\, ON\, 2P 0J8\, Canada
CATEGORIES:Live music,Nightlife,Regular programming
END:VEVENT
BEGIN:VEVENT
DTSTART;TZID=America/Toronto:20250831T200000
DTEND;TZID=America/Toronto:20250831T230000
DTSTAMP:20260421T095831
CREATED:20241029T210043Z
LAST-MODIFIED:20241106T152947Z
UID:10000542-1756670400-1756681200@maxottawa.ca
SUMMARY:Karaoke Night
DESCRIPTION:Karaoke with fellow Queers hosted by Jolene.
URL:https://maxottawa.ca/list/karaoke-night/2025-08-31/
LOCATION:T’s\, 323 Somerset Street West\, Ottawa\, ON\, 2P 0J8\, Canada
CATEGORIES:Live music,Nightlife,Regular programming
END:VEVENT
BEGIN:VEVENT
DTSTART;TZID=America/Toronto:20250828T200000
DTEND;TZID=America/Toronto:20250828T230000
DTSTAMP:20260421T095831
CREATED:20241029T210043Z
LAST-MODIFIED:20241106T152947Z
UID:10000541-1756411200-1756422000@maxottawa.ca
SUMMARY:Karaoke Night
DESCRIPTION:Karaoke with fellow Queers hosted by Jolene.
URL:https://maxottawa.ca/list/karaoke-night/2025-08-28/
LOCATION:T’s\, 323 Somerset Street West\, Ottawa\, ON\, 2P 0J8\, Canada
CATEGORIES:Live music,Nightlife,Regular programming
END:VEVENT
BEGIN:VEVENT
DTSTART;TZID=America/Toronto:20250824T200000
DTEND;TZID=America/Toronto:20250824T230000
DTSTAMP:20260421T095831
CREATED:20241029T210043Z
LAST-MODIFIED:20241106T152947Z
UID:10000540-1756065600-1756076400@maxottawa.ca
SUMMARY:Karaoke Night
DESCRIPTION:Karaoke with fellow Queers hosted by Jolene.
URL:https://maxottawa.ca/list/karaoke-night/2025-08-24/
LOCATION:T’s\, 323 Somerset Street West\, Ottawa\, ON\, 2P 0J8\, Canada
CATEGORIES:Live music,Nightlife,Regular programming
END:VEVENT
BEGIN:VEVENT
DTSTART;TZID=America/Toronto:20250821T200000
DTEND;TZID=America/Toronto:20250821T230000
DTSTAMP:20260421T095831
CREATED:20241029T210043Z
LAST-MODIFIED:20241106T152947Z
UID:10000539-1755806400-1755817200@maxottawa.ca
SUMMARY:Karaoke Night
DESCRIPTION:Karaoke with fellow Queers hosted by Jolene.
URL:https://maxottawa.ca/list/karaoke-night/2025-08-21/
LOCATION:T’s\, 323 Somerset Street West\, Ottawa\, ON\, 2P 0J8\, Canada
CATEGORIES:Live music,Nightlife,Regular programming
END:VEVENT
BEGIN:VEVENT
DTSTART;TZID=America/Toronto:20250817T200000
DTEND;TZID=America/Toronto:20250817T230000
DTSTAMP:20260421T095831
CREATED:20241029T210043Z
LAST-MODIFIED:20241106T152947Z
UID:10000538-1755460800-1755471600@maxottawa.ca
SUMMARY:Karaoke Night
DESCRIPTION:Karaoke with fellow Queers hosted by Jolene.
URL:https://maxottawa.ca/list/karaoke-night/2025-08-17/
LOCATION:T’s\, 323 Somerset Street West\, Ottawa\, ON\, 2P 0J8\, Canada
CATEGORIES:Live music,Nightlife,Regular programming
END:VEVENT
BEGIN:VEVENT
DTSTART;TZID=America/Toronto:20250814T200000
DTEND;TZID=America/Toronto:20250814T230000
DTSTAMP:20260421T095831
CREATED:20241029T210043Z
LAST-MODIFIED:20241106T152947Z
UID:10000537-1755201600-1755212400@maxottawa.ca
SUMMARY:Karaoke Night
DESCRIPTION:Karaoke with fellow Queers hosted by Jolene.
URL:https://maxottawa.ca/list/karaoke-night/2025-08-14/
LOCATION:T’s\, 323 Somerset Street West\, Ottawa\, ON\, 2P 0J8\, Canada
CATEGORIES:Live music,Nightlife,Regular programming
END:VEVENT
BEGIN:VEVENT
DTSTART;TZID=America/Toronto:20250810T200000
DTEND;TZID=America/Toronto:20250810T230000
DTSTAMP:20260421T095831
CREATED:20241029T210043Z
LAST-MODIFIED:20241106T152947Z
UID:10000536-1754856000-1754866800@maxottawa.ca
SUMMARY:Karaoke Night
DESCRIPTION:Karaoke with fellow Queers hosted by Jolene.
URL:https://maxottawa.ca/list/karaoke-night/2025-08-10/
LOCATION:T’s\, 323 Somerset Street West\, Ottawa\, ON\, 2P 0J8\, Canada
CATEGORIES:Live music,Nightlife,Regular programming
END:VEVENT
BEGIN:VEVENT
DTSTART;TZID=America/Toronto:20250807T200000
DTEND;TZID=America/Toronto:20250807T230000
DTSTAMP:20260421T095831
CREATED:20241029T210043Z
LAST-MODIFIED:20241106T152947Z
UID:10000535-1754596800-1754607600@maxottawa.ca
SUMMARY:Karaoke Night
DESCRIPTION:Karaoke with fellow Queers hosted by Jolene.
URL:https://maxottawa.ca/list/karaoke-night/2025-08-07/
LOCATION:T’s\, 323 Somerset Street West\, Ottawa\, ON\, 2P 0J8\, Canada
CATEGORIES:Live music,Nightlife,Regular programming
END:VEVENT
BEGIN:VEVENT
DTSTART;TZID=America/Toronto:20250803T200000
DTEND;TZID=America/Toronto:20250803T230000
DTSTAMP:20260421T095831
CREATED:20241029T210043Z
LAST-MODIFIED:20241106T152947Z
UID:10000534-1754251200-1754262000@maxottawa.ca
SUMMARY:Karaoke Night
DESCRIPTION:Karaoke with fellow Queers hosted by Jolene.
URL:https://maxottawa.ca/list/karaoke-night/2025-08-03/
LOCATION:T’s\, 323 Somerset Street West\, Ottawa\, ON\, 2P 0J8\, Canada
CATEGORIES:Live music,Nightlife,Regular programming
END:VEVENT
BEGIN:VEVENT
DTSTART;TZID=America/Toronto:20250731T200000
DTEND;TZID=America/Toronto:20250731T230000
DTSTAMP:20260421T095831
CREATED:20241029T210043Z
LAST-MODIFIED:20241106T152947Z
UID:10000533-1753992000-1754002800@maxottawa.ca
SUMMARY:Karaoke Night
DESCRIPTION:Karaoke with fellow Queers hosted by Jolene.
URL:https://maxottawa.ca/list/karaoke-night/2025-07-31/
LOCATION:T’s\, 323 Somerset Street West\, Ottawa\, ON\, 2P 0J8\, Canada
CATEGORIES:Live music,Nightlife,Regular programming
END:VEVENT
BEGIN:VEVENT
DTSTART;TZID=America/Toronto:20250727T200000
DTEND;TZID=America/Toronto:20250727T230000
DTSTAMP:20260421T095831
CREATED:20241029T210043Z
LAST-MODIFIED:20241106T152947Z
UID:10000532-1753646400-1753657200@maxottawa.ca
SUMMARY:Karaoke Night
DESCRIPTION:Karaoke with fellow Queers hosted by Jolene.
URL:https://maxottawa.ca/list/karaoke-night/2025-07-27/
LOCATION:T’s\, 323 Somerset Street West\, Ottawa\, ON\, 2P 0J8\, Canada
CATEGORIES:Live music,Nightlife,Regular programming
END:VEVENT
BEGIN:VEVENT
DTSTART;TZID=America/Toronto:20250724T200000
DTEND;TZID=America/Toronto:20250724T230000
DTSTAMP:20260421T095831
CREATED:20241029T210043Z
LAST-MODIFIED:20241106T152947Z
UID:10000531-1753387200-1753398000@maxottawa.ca
SUMMARY:Karaoke Night
DESCRIPTION:Karaoke with fellow Queers hosted by Jolene.
URL:https://maxottawa.ca/list/karaoke-night/2025-07-24/
LOCATION:T’s\, 323 Somerset Street West\, Ottawa\, ON\, 2P 0J8\, Canada
CATEGORIES:Live music,Nightlife,Regular programming
END:VEVENT
BEGIN:VEVENT
DTSTART;TZID=America/Toronto:20250720T200000
DTEND;TZID=America/Toronto:20250720T230000
DTSTAMP:20260421T095831
CREATED:20241029T210043Z
LAST-MODIFIED:20241106T152947Z
UID:10000530-1753041600-1753052400@maxottawa.ca
SUMMARY:Karaoke Night
DESCRIPTION:Karaoke with fellow Queers hosted by Jolene.
URL:https://maxottawa.ca/list/karaoke-night/2025-07-20/
LOCATION:T’s\, 323 Somerset Street West\, Ottawa\, ON\, 2P 0J8\, Canada
CATEGORIES:Live music,Nightlife,Regular programming
END:VEVENT
BEGIN:VEVENT
DTSTART;TZID=America/Toronto:20250717T200000
DTEND;TZID=America/Toronto:20250717T230000
DTSTAMP:20260421T095831
CREATED:20241029T210043Z
LAST-MODIFIED:20241106T152947Z
UID:10000529-1752782400-1752793200@maxottawa.ca
SUMMARY:Karaoke Night
DESCRIPTION:Karaoke with fellow Queers hosted by Jolene.
URL:https://maxottawa.ca/list/karaoke-night/2025-07-17/
LOCATION:T’s\, 323 Somerset Street West\, Ottawa\, ON\, 2P 0J8\, Canada
CATEGORIES:Live music,Nightlife,Regular programming
END:VEVENT
BEGIN:VEVENT
DTSTART;TZID=America/Toronto:20250713T200000
DTEND;TZID=America/Toronto:20250713T230000
DTSTAMP:20260421T095831
CREATED:20241029T210043Z
LAST-MODIFIED:20241106T152947Z
UID:10000528-1752436800-1752447600@maxottawa.ca
SUMMARY:Karaoke Night
DESCRIPTION:Karaoke with fellow Queers hosted by Jolene.
URL:https://maxottawa.ca/list/karaoke-night/2025-07-13/
LOCATION:T’s\, 323 Somerset Street West\, Ottawa\, ON\, 2P 0J8\, Canada
CATEGORIES:Live music,Nightlife,Regular programming
END:VEVENT
BEGIN:VEVENT
DTSTART;TZID=America/Toronto:20250710T200000
DTEND;TZID=America/Toronto:20250710T230000
DTSTAMP:20260421T095831
CREATED:20241029T210043Z
LAST-MODIFIED:20241106T152947Z
UID:10000527-1752177600-1752188400@maxottawa.ca
SUMMARY:Karaoke Night
DESCRIPTION:Karaoke with fellow Queers hosted by Jolene.
URL:https://maxottawa.ca/list/karaoke-night/2025-07-10/
LOCATION:T’s\, 323 Somerset Street West\, Ottawa\, ON\, 2P 0J8\, Canada
CATEGORIES:Live music,Nightlife,Regular programming
END:VEVENT
BEGIN:VEVENT
DTSTART;TZID=America/Toronto:20250706T200000
DTEND;TZID=America/Toronto:20250706T230000
DTSTAMP:20260421T095831
CREATED:20241029T210043Z
LAST-MODIFIED:20241106T152947Z
UID:10000526-1751832000-1751842800@maxottawa.ca
SUMMARY:Karaoke Night
DESCRIPTION:Karaoke with fellow Queers hosted by Jolene.
URL:https://maxottawa.ca/list/karaoke-night/2025-07-06/
LOCATION:T’s\, 323 Somerset Street West\, Ottawa\, ON\, 2P 0J8\, Canada
CATEGORIES:Live music,Nightlife,Regular programming
END:VEVENT
BEGIN:VEVENT
DTSTART;TZID=America/Toronto:20250703T200000
DTEND;TZID=America/Toronto:20250703T230000
DTSTAMP:20260421T095831
CREATED:20241029T210043Z
LAST-MODIFIED:20241106T152947Z
UID:10000525-1751572800-1751583600@maxottawa.ca
SUMMARY:Karaoke Night
DESCRIPTION:Karaoke with fellow Queers hosted by Jolene.
URL:https://maxottawa.ca/list/karaoke-night/2025-07-03/
LOCATION:T’s\, 323 Somerset Street West\, Ottawa\, ON\, 2P 0J8\, Canada
CATEGORIES:Live music,Nightlife,Regular programming
END:VEVENT
BEGIN:VEVENT
DTSTART;TZID=America/Toronto:20250629T200000
DTEND;TZID=America/Toronto:20250629T230000
DTSTAMP:20260421T095831
CREATED:20241029T210043Z
LAST-MODIFIED:20241106T152947Z
UID:10000524-1751227200-1751238000@maxottawa.ca
SUMMARY:Karaoke Night
DESCRIPTION:Karaoke with fellow Queers hosted by Jolene.
URL:https://maxottawa.ca/list/karaoke-night/2025-06-29/
LOCATION:T’s\, 323 Somerset Street West\, Ottawa\, ON\, 2P 0J8\, Canada
CATEGORIES:Live music,Nightlife,Regular programming
END:VEVENT
BEGIN:VEVENT
DTSTART;TZID=America/Toronto:20250626T200000
DTEND;TZID=America/Toronto:20250626T230000
DTSTAMP:20260421T095831
CREATED:20241029T210043Z
LAST-MODIFIED:20241106T152947Z
UID:10000523-1750968000-1750978800@maxottawa.ca
SUMMARY:Karaoke Night
DESCRIPTION:Karaoke with fellow Queers hosted by Jolene.
URL:https://maxottawa.ca/list/karaoke-night/2025-06-26/
LOCATION:T’s\, 323 Somerset Street West\, Ottawa\, ON\, 2P 0J8\, Canada
CATEGORIES:Live music,Nightlife,Regular programming
END:VEVENT
BEGIN:VEVENT
DTSTART;TZID=America/Toronto:20250622T200000
DTEND;TZID=America/Toronto:20250622T230000
DTSTAMP:20260421T095831
CREATED:20241029T210043Z
LAST-MODIFIED:20241106T152947Z
UID:10000522-1750622400-1750633200@maxottawa.ca
SUMMARY:Karaoke Night
DESCRIPTION:Karaoke with fellow Queers hosted by Jolene.
URL:https://maxottawa.ca/list/karaoke-night/2025-06-22/
LOCATION:T’s\, 323 Somerset Street West\, Ottawa\, ON\, 2P 0J8\, Canada
CATEGORIES:Live music,Nightlife,Regular programming
END:VEVENT
BEGIN:VEVENT
DTSTART;TZID=America/Toronto:20250619T200000
DTEND;TZID=America/Toronto:20250619T230000
DTSTAMP:20260421T095831
CREATED:20241029T210043Z
LAST-MODIFIED:20241106T152947Z
UID:10000521-1750363200-1750374000@maxottawa.ca
SUMMARY:Karaoke Night
DESCRIPTION:Karaoke with fellow Queers hosted by Jolene.
URL:https://maxottawa.ca/list/karaoke-night/2025-06-19/
LOCATION:T’s\, 323 Somerset Street West\, Ottawa\, ON\, 2P 0J8\, Canada
CATEGORIES:Live music,Nightlife,Regular programming
END:VEVENT
BEGIN:VEVENT
DTSTART;TZID=America/Toronto:20250615T200000
DTEND;TZID=America/Toronto:20250615T230000
DTSTAMP:20260421T095831
CREATED:20241029T210043Z
LAST-MODIFIED:20241106T152947Z
UID:10000520-1750017600-1750028400@maxottawa.ca
SUMMARY:Karaoke Night
DESCRIPTION:Karaoke with fellow Queers hosted by Jolene.
URL:https://maxottawa.ca/list/karaoke-night/2025-06-15/
LOCATION:T’s\, 323 Somerset Street West\, Ottawa\, ON\, 2P 0J8\, Canada
CATEGORIES:Live music,Nightlife,Regular programming
END:VEVENT
BEGIN:VEVENT
DTSTART;TZID=America/Toronto:20250612T200000
DTEND;TZID=America/Toronto:20250612T230000
DTSTAMP:20260421T095831
CREATED:20241029T210043Z
LAST-MODIFIED:20241106T152947Z
UID:10000519-1749758400-1749769200@maxottawa.ca
SUMMARY:Karaoke Night
DESCRIPTION:Karaoke with fellow Queers hosted by Jolene.
URL:https://maxottawa.ca/list/karaoke-night/2025-06-12/
LOCATION:T’s\, 323 Somerset Street West\, Ottawa\, ON\, 2P 0J8\, Canada
CATEGORIES:Live music,Nightlife,Regular programming
END:VEVENT
END:VCALENDAR