BEGIN:VCALENDAR
VERSION:2.0
PRODID:-//MAX Ottawa - ECPv6.15.20//NONSGML v1.0//EN
CALSCALE:GREGORIAN
METHOD:PUBLISH
X-WR-CALNAME:MAX Ottawa
X-ORIGINAL-URL:https://maxottawa.ca
X-WR-CALDESC:Events for MAX Ottawa
REFRESH-INTERVAL;VALUE=DURATION:PT1H
X-Robots-Tag:noindex
X-PUBLISHED-TTL:PT1H
BEGIN:VTIMEZONE
TZID:America/Toronto
BEGIN:DAYLIGHT
TZOFFSETFROM:-0500
TZOFFSETTO:-0400
TZNAME:EDT
DTSTART:20240310T070000
END:DAYLIGHT
BEGIN:STANDARD
TZOFFSETFROM:-0400
TZOFFSETTO:-0500
TZNAME:EST
DTSTART:20241103T060000
END:STANDARD
BEGIN:DAYLIGHT
TZOFFSETFROM:-0500
TZOFFSETTO:-0400
TZNAME:EDT
DTSTART:20250309T070000
END:DAYLIGHT
BEGIN:STANDARD
TZOFFSETFROM:-0400
TZOFFSETTO:-0500
TZNAME:EST
DTSTART:20251102T060000
END:STANDARD
BEGIN:DAYLIGHT
TZOFFSETFROM:-0500
TZOFFSETTO:-0400
TZNAME:EDT
DTSTART:20260308T070000
END:DAYLIGHT
BEGIN:STANDARD
TZOFFSETFROM:-0400
TZOFFSETTO:-0500
TZNAME:EST
DTSTART:20261101T060000
END:STANDARD
END:VTIMEZONE
BEGIN:VEVENT
DTSTART;TZID=America/Toronto:20250328T170000
DTEND;TZID=America/Toronto:20250330T120000
DTSTAMP:20260421T084807
CREATED:20250310T204107Z
LAST-MODIFIED:20250310T204114Z
UID:10002156-1743181200-1743336000@maxottawa.ca
SUMMARY:Bear Frolic
DESCRIPTION:Back by Popular Demand!  \n\n\n\nMarch 28-30  \n\n\n\nWe’re back baby!  \n\n\n\nJoin the Ottawa Bears for a premium bear run featuring tons of great activities and camaraderie at Bear Frolic!  \n\n\n\nWeekend Activities:  \n\n\n\n\nCocktail Social \n\n\n\nBear Buffet Feast (Lone Star) *VIB pass holders only \n\n\n\nBear Bingo / Mr. Ottawa Bear \n\n\n\nBoard/Card Games \n\n\n\nPizza Party and Wave Pool \n\n\n\nEpic Dance Party \n\n\n\nBear Brunch (Tucker’s Marketplace) \n\n\n\nPurchase a VIB (Very Important Bear) pass and you will have access all the events. \n\n\n\n\nThe Courtyard Ottawa Downtown\, our host hotel\, is located in the heart of the ByWard Market and close to restaurants\, shopping and public transit. It has a large ballroom that offers the perfect setting for an unforgettable dance event. The hotel is where most of the weekend’s activities will take place.
URL:https://maxottawa.ca/list/bear-frolic/
LOCATION:The Marriot’s Courtyard Ottawa Downtown\, 350 Dalhousie St.\, Ottawa\, Ontario\, K1N7E9\, Canada
CATEGORIES:Nightlife,Social,Sports and recreation
END:VEVENT
BEGIN:VEVENT
DTSTART;TZID=America/Toronto:20250329T210000
DTEND;TZID=America/Toronto:20250330T020000
DTSTAMP:20260421T084807
CREATED:20250210T171827Z
LAST-MODIFIED:20250210T171834Z
UID:10001922-1743282000-1743300000@maxottawa.ca
SUMMARY:Queen and Queer
DESCRIPTION:Hey Queens of Ottawa! \n\n\n\nYou’ve been asking for it\, and guess what?!QUEEN & QUEER parties are coming to Ottawa! We’re bringing our vibe with tons of excitement! \n\n\n\n🌈 WHO ARE WE?For those who don’t know us yet\, QUEEN & QUEER is the story of two friends who decided in 2021 to create Dance Parties for LGBTQ2SIA+ women in Montreal … all in a safe and welcoming space. Today\, QUEEN & QUEER has become the largest Lesbo-Queer party on the Montreal scene\, attracting a growing community. After Sherbrooke and Quebec City\, we’ve chosen Ottawa as our next destination\, and we can’t wait to meet you! \n\n\n\n🌈 MUSIC IS THE ANSWERQUEEN & QUEER parties are safe spaces prioritizing LGBTQ2SIA+ women\, non-binary people\, and trans folks. Allies are welcome too! We have a zero-tolerance policy for any form of discrimination : homophobia\, sexism\, transphobia\, racism\, or harassment have no place at our events. Our events are recognized for celebrating diversity and promoting inclusion. Whether you’re 20 or 60 years old\, and no matter your cultural background\, you’ll find your place with us. \n\n\n\nLINEUP: \n\n\n\n\nDJ Set with our resident DJ SAM and special guest DJ Delpilar\n\n\n\nMusic: House\, Afrobeats\, Latin\, 80s\, 90s\, Pop\n\n\n\nPerformances: To be announced\n\n\n\n\nSo\, are you ready to party with us?See you on the dance floor! Let’s be PROUD\, be LOUD\, and be BEAUTIFUL!!
URL:https://maxottawa.ca/list/queen-and-queer/
LOCATION:The 27 Club\, 27 York St\, Ottawa\, ON\, K1N 5S7\, Canada
CATEGORIES:Nightlife,Social
END:VEVENT
BEGIN:VEVENT
DTSTART;TZID=America/Toronto:20250329T235900
DTEND;TZID=America/Toronto:20250330T020000
DTSTAMP:20260421T084807
CREATED:20250327T003849Z
LAST-MODIFIED:20250327T003857Z
UID:10002199-1743292740-1743300000@maxottawa.ca
SUMMARY:X-Rated Super Secret Saturday Night Sinema
DESCRIPTION:The annual X-Rated Super Secret Saturday Night Sinema returns on March 29 at midnight! \n\n\n\nDig it! We’re back with an X-Rated dose of dangerous\, disreputable\, not-in-distribution\, secret late-late cinema! \n\n\n\nWhat movie are we screening? We can’t tell you\, but we can guarantee that you won’t be disappointed with our surprise selection! \n\n\n\nAdmission only for persons age 18+ \n\n\n\nFree for Members / Members Only! \n\n\n\nPurchase an Annual Membership for only $16 at the box office before the secret movie! \n\n\n\n*Please take note that doors open 30 minutes before showtimes. We encourage people to arrive early. We have a small box office\, a small candy bar\, and a single-screen cinema\, meaning that when most of an audience shows up a few minutes before showtime\, it causes a bottleneck. If possible\, we appreciate you arriving a little bit early to pick out your seat and get your popcorn. Thanks for your help!
URL:https://maxottawa.ca/list/x-rated-super-secret-saturday-night-sinema/
LOCATION:The Mayfair Theatre\, 1074 Bank St.\, Ottawa\, Ontario\, K1S 2W3\, Canada
CATEGORIES:Nightlife
END:VEVENT
BEGIN:VEVENT
DTSTART;TZID=America/Toronto:20250330T113000
DTEND;TZID=America/Toronto:20250330T123000
DTSTAMP:20260421T084807
CREATED:20241030T172809Z
LAST-MODIFIED:20241107T182238Z
UID:10001075-1743334200-1743337800@maxottawa.ca
SUMMARY:Swim Workout
DESCRIPTION:Meet fellow Queer swimmers & get a workout in. Open to members or drop-in registrations.
URL:https://maxottawa.ca/list/swim-workout/2025-03-30/
LOCATION:Montpetit Hall – uOttawa\, 125 University Private\, Ottawa\, Ontario\, Canada
CATEGORIES:Sports and recreation
ORGANIZER;CN="Rideau Speedeaus":MAILTO:info@rideauspeedeaus.com
END:VEVENT
BEGIN:VEVENT
DTSTART;TZID=America/Toronto:20250330T113000
DTEND;TZID=America/Toronto:20250330T140000
DTSTAMP:20260421T084807
CREATED:20241029T211828Z
LAST-MODIFIED:20241106T150829Z
UID:10000981-1743334200-1743343200@maxottawa.ca
SUMMARY:Drag Brunch
DESCRIPTION:Every last Sunday of the month (with the exception of pride week in the summer) is drag brunch. Check our calendar for details.If it’s the last Sunday of the month – its drag brunch. Seatings available at 11:30am and 2pm.Please note: that the drag brunch preset menu does NOT include bottomless mimosas – it includes one single mimosa with cuisine as indicated on the menu.Bottomless mimosas are an extra charge to your drag brunch package.
URL:https://maxottawa.ca/list/drag-brunch-2/2025-03-30/
LOCATION:The Vanitea Room\, 551 Somerset St West\, Ottawa\, ON\, K1R 5J9\, Canada
CATEGORIES:Drag & Burlesque
END:VEVENT
BEGIN:VEVENT
DTSTART;TZID=America/Toronto:20250330T130000
DTEND;TZID=America/Toronto:20250330T160000
DTSTAMP:20260421T084807
CREATED:20250327T004523Z
LAST-MODIFIED:20250327T004531Z
UID:10002200-1743339600-1743350400@maxottawa.ca
SUMMARY:Trans Day of Visibility with the Ottawa Trans Library
DESCRIPTION:March 31st is Trans Day of Visibility! Visibility is incredibly important\, and it can also be hard. We’re proud of everyone who presents themselves openly\, or are still finding themselves! \n\n\n\nTo celebrate our wonderful community\, the library will be holding an open house celebration on Sunday\, March 30th\, from 1-4PM- with snacks available- While you snack\, check out our amazing collection of books for loan\, play board games\, and socialize with the community! \n\n\n\n*Snacks are first-come\, first-serve prioritizing the trans community – Please check our stories for updates on snack availability!* \n\n\n\nThank you so much to our friends at Moo Shu Ice Cream @mooshuicecream and Little Jo Berry’s @littlejoberrys who have generously provided delicious snacks\, and have consistently supported the library and the Ottawa trans community! \n\n\n\nVegan and gluten-free options will be available!And thank you to the good folks of @gendereveal who popularized the idea of Trans Day of Snack. \n\n\n\n*Who is eligible for snacks? * \n\n\n\nIf you identify under the trans and/or non-binary umbrella\, you’re welcome! We additionally encourage all allies and local community members to come drop in to learn about our materials and space =) \n\n\n\nWe’ll have coffee and a couple spreads showing off some favorite books of the teams for those curious about where to start! \n\n\n\n*Accessibility: * \n\n\n\nThe library has 2 steps up to the door\, a ramp is available upon request which goes out to the end of the sidewalk . \n\n\n\nMasking is expected when not eating or drinking\, however please be aware that snacking is a higher-risk activity by nature.
URL:https://maxottawa.ca/list/trans-day-of-visibility-with-the-ottawa-trans-library/
LOCATION:Ottawa Trans Library\, 1104 Somerset St. West\, Ottawa\, Ontario\, K1Y3C8\, Canada
CATEGORIES:Advocacy & empowerment,Family friendly,Nationally recognized dates,Social,Youth
END:VEVENT
BEGIN:VEVENT
DTSTART;TZID=America/Toronto:20250330T143000
DTEND;TZID=America/Toronto:20250330T154000
DTSTAMP:20260421T084807
CREATED:20250310T203241Z
LAST-MODIFIED:20250310T203248Z
UID:10002148-1743345000-1743349200@maxottawa.ca
SUMMARY:Sunday Afternoon Bear Walk for Gay and Bisexual Men
DESCRIPTION:A group of GBT men meet every Sunday for a 1 hour walk\, always near Parking and Transit.
URL:https://maxottawa.ca/list/sunday-afternoon-bear-walk-for-gay-and-bisexual-men/2025-03-30/
LOCATION:Ottawa / Gatineau Pathways\, Ottawa\, Canada
CATEGORIES:Regular programming,Social,Sports and recreation
ATTACH;FMTTYPE=image/jpeg:https://maxottawa.ca/wp-content/uploads/2025/03/bears.jpg
ORGANIZER;CN="Sunday Afternoon Bear Walk":MAILTO:alex@sundayafternoonbearwalk.com
END:VEVENT
BEGIN:VEVENT
DTSTART;TZID=America/Toronto:20250330T200000
DTEND;TZID=America/Toronto:20250330T230000
DTSTAMP:20260421T084807
CREATED:20241029T210043Z
LAST-MODIFIED:20241106T152947Z
UID:10000498-1743364800-1743375600@maxottawa.ca
SUMMARY:Karaoke Night
DESCRIPTION:Karaoke with fellow Queers hosted by Jolene.
URL:https://maxottawa.ca/list/karaoke-night/2025-03-30/
LOCATION:T’s\, 323 Somerset Street West\, Ottawa\, ON\, 2P 0J8\, Canada
CATEGORIES:Live music,Nightlife,Regular programming
END:VEVENT
END:VCALENDAR