BEGIN:VCALENDAR
VERSION:2.0
PRODID:-//MAX Ottawa - ECPv6.15.20//NONSGML v1.0//EN
CALSCALE:GREGORIAN
METHOD:PUBLISH
X-ORIGINAL-URL:https://maxottawa.ca
X-WR-CALDESC:Events for MAX Ottawa
REFRESH-INTERVAL;VALUE=DURATION:PT1H
X-Robots-Tag:noindex
X-PUBLISHED-TTL:PT1H
BEGIN:VTIMEZONE
TZID:America/Toronto
BEGIN:DAYLIGHT
TZOFFSETFROM:-0500
TZOFFSETTO:-0400
TZNAME:EDT
DTSTART:20240310T070000
END:DAYLIGHT
BEGIN:STANDARD
TZOFFSETFROM:-0400
TZOFFSETTO:-0500
TZNAME:EST
DTSTART:20241103T060000
END:STANDARD
BEGIN:DAYLIGHT
TZOFFSETFROM:-0500
TZOFFSETTO:-0400
TZNAME:EDT
DTSTART:20250309T070000
END:DAYLIGHT
BEGIN:STANDARD
TZOFFSETFROM:-0400
TZOFFSETTO:-0500
TZNAME:EST
DTSTART:20251102T060000
END:STANDARD
BEGIN:DAYLIGHT
TZOFFSETFROM:-0500
TZOFFSETTO:-0400
TZNAME:EDT
DTSTART:20260308T070000
END:DAYLIGHT
BEGIN:STANDARD
TZOFFSETFROM:-0400
TZOFFSETTO:-0500
TZNAME:EST
DTSTART:20261101T060000
END:STANDARD
END:VTIMEZONE
BEGIN:VEVENT
DTSTART;TZID=America/Toronto:20250403T180000
DTEND;TZID=America/Toronto:20250403T210000
DTSTAMP:20260419T112925
CREATED:20250402T135644Z
LAST-MODIFIED:20250402T135652Z
UID:10002354-1743703200-1743714000@maxottawa.ca
SUMMARY:Pulse - A Sensory Social
DESCRIPTION:A queer and k!nk-friendly space to relax\, explore\, and connect through sound\, touch\, and sensation. \n\n\n\nLounge in the Sensorium Studio and vibe out to beats by Ephemera @ephemeradj \n\n\n\nExperience our sensory stations—ever wanted to try wax play? Now’s your chance in a chill\, welcoming space. \n\n\n\nPlus\, we’ve got FREE samples (limited quantity) for you to take home and enjoy. \n\n\n\nNo pressure\, just pleasure. Come as you are\, and let your senses lead the way! \n\n\n\n💓 FREE ENTRY💖 Show some love – bring a tip for your DJ! \n\n\n\nMeet Your DJ Ephemera \n\n\n\nephemera • noun • /əˈfem(ə)rə/¹ transient\, fleeting objects or experiences not meant for permanence. \n\n\n\nEphemera is the latest project from Scottish DJ & artist Callie Scott (they/them). Inspired by notions of impermanence\, Ephemera creates moments of sound\, light\, and movement that exist briefly before dissolving—leaving only memory in their wake. Experimentation\, variation\, and adaptation are at the core of their sets\, blending sounds from melodic\, tech\, and progressive house. \n\n\n\nCallie has been creating and performing music for almost two decades\, shifting their focus to electronic music in the mid-2010s. They are currently based in Ottawa\, ON\, where they are an active member of the underground scene.
URL:https://maxottawa.ca/list/pulse-a-sensory-social/
LOCATION:Wicked Wanda’s\, 327 Bank St.\, Ottawa\, Ontario\, K2P 1X9\, Canada
CATEGORIES:Live music,Nightlife,Sex positive,Social
END:VEVENT
BEGIN:VEVENT
DTSTART;TZID=America/Toronto:20250403T190000
DTEND;TZID=America/Toronto:20250403T200000
DTSTAMP:20260419T112925
CREATED:20250128T212143Z
LAST-MODIFIED:20250128T212151Z
UID:10001625-1743706800-1743710400@maxottawa.ca
SUMMARY:OGRC Weekly Run
DESCRIPTION:Join us every Thursday evening for our weekly 5 km run\, starting and ending at T’s Pub. We welcome runners of all levels\, with multiple pace groups to ensure everyone feels comfortable and supported. Whether you’re looking to push your limits or just enjoy a leisurely jog\, there’s a spot for you in our community. \nAfter the run\, stick around at T’s Pub to unwind with a cold beer and some great company. It’s the perfect way to cap off a run and connect with fellow gay men. No pressure\, just good vibes and good times! \nSee you at 7:00 PM—let’s hit the pavement together!
URL:https://maxottawa.ca/list/ogrc-weekly-run/2025-04-03/
LOCATION:T’s Pub\, 323 Somerset St W\, Ottawa\, Ontario\, K2P 0J8\, Canada
CATEGORIES:Sports and recreation
END:VEVENT
BEGIN:VEVENT
DTSTART;TZID=America/Toronto:20250403T193000
DTEND;TZID=America/Toronto:20250403T203000
DTSTAMP:20260419T112925
CREATED:20241030T174439Z
LAST-MODIFIED:20241107T181452Z
UID:10001179-1743708600-1743712200@maxottawa.ca
SUMMARY:Swim Workout
DESCRIPTION:Meet fellow Queer swimmers & get a workout in. Open to members or drop-in registrations.
URL:https://maxottawa.ca/list/swim-workout-5/2025-04-03/
LOCATION:Montpetit Hall – uOttawa\, 125 University Private\, Ottawa\, Ontario\, Canada
CATEGORIES:Sports and recreation
ORGANIZER;CN="Rideau Speedeaus":MAILTO:info@rideauspeedeaus.com
END:VEVENT
BEGIN:VEVENT
DTSTART;TZID=America/Toronto:20250403T200000
DTEND;TZID=America/Toronto:20250403T230000
DTSTAMP:20260419T112925
CREATED:20241029T210043Z
LAST-MODIFIED:20241106T152947Z
UID:10000499-1743710400-1743721200@maxottawa.ca
SUMMARY:Karaoke Night
DESCRIPTION:Karaoke with fellow Queers hosted by Jolene.
URL:https://maxottawa.ca/list/karaoke-night/2025-04-03/
LOCATION:T’s\, 323 Somerset Street West\, Ottawa\, ON\, 2P 0J8\, Canada
CATEGORIES:Live music,Nightlife,Regular programming
END:VEVENT
END:VCALENDAR