BEGIN:VCALENDAR
VERSION:2.0
PRODID:-//MAX Ottawa - ECPv6.15.20//NONSGML v1.0//EN
CALSCALE:GREGORIAN
METHOD:PUBLISH
X-WR-CALNAME:MAX Ottawa
X-ORIGINAL-URL:https://maxottawa.ca
X-WR-CALDESC:Events for MAX Ottawa
REFRESH-INTERVAL;VALUE=DURATION:PT1H
X-Robots-Tag:noindex
X-PUBLISHED-TTL:PT1H
BEGIN:VTIMEZONE
TZID:America/Toronto
BEGIN:DAYLIGHT
TZOFFSETFROM:-0500
TZOFFSETTO:-0400
TZNAME:EDT
DTSTART:20240310T070000
END:DAYLIGHT
BEGIN:STANDARD
TZOFFSETFROM:-0400
TZOFFSETTO:-0500
TZNAME:EST
DTSTART:20241103T060000
END:STANDARD
BEGIN:DAYLIGHT
TZOFFSETFROM:-0500
TZOFFSETTO:-0400
TZNAME:EDT
DTSTART:20250309T070000
END:DAYLIGHT
BEGIN:STANDARD
TZOFFSETFROM:-0400
TZOFFSETTO:-0500
TZNAME:EST
DTSTART:20251102T060000
END:STANDARD
BEGIN:DAYLIGHT
TZOFFSETFROM:-0500
TZOFFSETTO:-0400
TZNAME:EDT
DTSTART:20260308T070000
END:DAYLIGHT
BEGIN:STANDARD
TZOFFSETFROM:-0400
TZOFFSETTO:-0500
TZNAME:EST
DTSTART:20261101T060000
END:STANDARD
END:VTIMEZONE
BEGIN:VEVENT
DTSTART;TZID=America/Toronto:20250501T000000
DTEND;TZID=America/Toronto:20250504T235959
DTSTAMP:20260421T200716
CREATED:20250501T184320Z
LAST-MODIFIED:20250501T184357Z
UID:10002563-1746057600-1746403199@maxottawa.ca
SUMMARY:Ottawa International Writers Festival
DESCRIPTION:Here’s what we have our eyes on! \n\n\n\nBlack Lives\, Policing\, and Safety for All\n\n\n\nWith Sandy Hudson\, hosted by Erika Shaker \n\n\n\nSaturday\, May 3 – 5:30PM \n\n\n\nJoin Sandy Hudson\, multidisciplinary creator\, writer and activist\, and the founder of Black Lives Matter Canada\, for a fiercely argued case for defunding the police. \n\n\n\nIn  Defund: Black Lives\, Policing\, and Safety for All \, she elucidates what defunding the police actually means and why it matters\, by exploring today’s criminal landscape and the patterns and structures that result in safer\, well-resourced communities.  \n\n\n\nHudson explores the origins of commonly held ideas about police and safety to show how police-related social policies are based more on a sensationalized idea of safety than on outcomes and data. She examines the destructive effects of policing on scores of people\, arguing that investment in community resources and infrastructure rather than law enforcement is the key to making us safer. \n\n\n\nGet Tickets! \n\n\n\nInheritance\n\n\n\nWith Otoniya J. Okot Bitek and Iryn Tushabe\, hosted by Suyi Davies Okungbowa \n\n\n\nSaturday\, May 3 – 7:00PM \n\n\n\nJoin us for a taste of two of the year’s most acclaimed debut Canadian novels\, celebrated stories set in Uganda\, and a conversation on the ways we are shaped by–and in opposition to–our histories and cultures. \n\n\n\nWe\, the Kindling is the acclaimed debut from Dorothy Livesay Poetry Prize-winner Otoniya J. Okot Bitek and is centred around the unforgettable voices of schoolgirls in Uganda captured by the Lord’s Resistance Army in the 1990s. Those who survive bear the physical and psychological weight of these experiences—often within communities that wish only to forget or ignore them. \n\n\n\nEverything Is Fine Here \, the debut from Journey Prize-winner Iryn Tushabe is a coming of age story set in Uganda. \n\n\n\nEighteen-year-old Aine Kamara has been anticipating a reunion with her older sister\, Mbabazi\, for months. But when Mbabazi shows up with an unexpected guest\, Aine must confront an old fear: her beloved sister is gay in a country with tight anti-homosexuality laws. \n\n\n\nGet Tickets! \n\n\n\nEverything Everywhere\n\n\n\nWith Emily Austin\, Matthew James Jones and Georgia Toews\, hosted by David Currie \n\n\n\nSunday\, May 4 – 8:30PM \n\n\n\nLearning to cope and thrive in a world seemingly hell-bent on disorienting\, distracting and destabilizing us\, provides the momentum behind three very different novels whose authors join us to talk fiction\, resilience and the many ways we struggle to find ourselves. \n\n\n\nWe Could Be Rats\,  the latest from Emily Austin\, the bestselling local author of Everyone in This Room Will Someday Be Dead is the story of two very different sisters\, and a love letter to childhood\, growing up\, and the power of imagination. Sigrid hates working at the Dollar Pal. She did not graduate high school\, preferring to roam the streets of her small town with her best friend Greta. Her older sister Margit is baffled and frustrated by Sigrid’s inability to conform to the expectations of polite society. As Margit sets out to understand Sigrid and the secrets she has hidden\, both sisters\, in their own time and way\, discover that reigniting their shared childhood imagination is the only way forward. \n\n\n\nPredators\, Reapers\, and Deadlier Creatures  from poet\, novelist\, and veteran Matthew James Jones\, is the story of a drone operator stationed in Kandahar\, Afghanistan. As he monitors Sahar\, a teenager and suspected terrorist\, Jones commits the ultimate crime: he cares. In Kandahar\, there’s a monster in every window. And there’s also one in every mirror. \n\n\n\nNobody Asked for This by Georgia Toews is a razor-sharp dramedy following a twenty-something comic as she navigates family grief\, dysfunctional friendship\, and a date gone very wrong. In between working the rounds of Toronto’s small comedy club circuit and auditioning for paper towel commercials\, Virginia is tiptoeing around her depressed roommate and childhood friend\, Haley\, and having biweekly dinners with her bereaved stepdad\, Dale\, while trying to manage her own grief at the loss of her mother. \n\n\n\nGet Tickets!
URL:https://maxottawa.ca/list/ottawa-international-writers-festival/
LOCATION:ON
ORGANIZER;CN="Ottawa International Writers Festival":MAILTO:info@writersfestival.org
END:VEVENT
BEGIN:VEVENT
DTSTART;TZID=America/Toronto:20250501T180000
DTEND;TZID=America/Toronto:20250501T200000
DTSTAMP:20260421T200716
CREATED:20250422T210120Z
LAST-MODIFIED:20250422T210126Z
UID:10002528-1746122400-1746129600@maxottawa.ca
SUMMARY:Nature Museum Hangout
DESCRIPTION:To celebrate Spring\, Commeunity Ottawa and Open Pages Book Club invite you on an exploration of the Nature Museum! Learn about tons of crazy critters from dinosaurs to whales to birds and frogs in one of Ottawa’s oldest\, most beautiful buildings.  \n\n\n\nReserve your own space through the Nature Museum.
URL:https://maxottawa.ca/list/nature-museum-hangout/
LOCATION:Museum of Nature\, 240 McLeod Street\, Ottawa\, Ontario\, K1P 6P4\, Canada
CATEGORIES:Educational,Family friendly,Social
END:VEVENT
BEGIN:VEVENT
DTSTART;TZID=America/Toronto:20250501T190000
DTEND;TZID=America/Toronto:20250501T200000
DTSTAMP:20260421T200716
CREATED:20250128T212143Z
LAST-MODIFIED:20250128T212151Z
UID:10001629-1746126000-1746129600@maxottawa.ca
SUMMARY:OGRC Weekly Run
DESCRIPTION:Join us every Thursday evening for our weekly 5 km run\, starting and ending at T’s Pub. We welcome runners of all levels\, with multiple pace groups to ensure everyone feels comfortable and supported. Whether you’re looking to push your limits or just enjoy a leisurely jog\, there’s a spot for you in our community. \nAfter the run\, stick around at T’s Pub to unwind with a cold beer and some great company. It’s the perfect way to cap off a run and connect with fellow gay men. No pressure\, just good vibes and good times! \nSee you at 7:00 PM—let’s hit the pavement together!
URL:https://maxottawa.ca/list/ogrc-weekly-run/2025-05-01/
LOCATION:T’s Pub\, 323 Somerset St W\, Ottawa\, Ontario\, K2P 0J8\, Canada
CATEGORIES:Sports and recreation
END:VEVENT
BEGIN:VEVENT
DTSTART;TZID=America/Toronto:20250501T193000
DTEND;TZID=America/Toronto:20250501T203000
DTSTAMP:20260421T200716
CREATED:20241030T174439Z
LAST-MODIFIED:20241107T181452Z
UID:10001183-1746127800-1746131400@maxottawa.ca
SUMMARY:Swim Workout
DESCRIPTION:Meet fellow Queer swimmers & get a workout in. Open to members or drop-in registrations.
URL:https://maxottawa.ca/list/swim-workout-5/2025-05-01/
LOCATION:Montpetit Hall – uOttawa\, 125 University Private\, Ottawa\, Ontario\, Canada
CATEGORIES:Sports and recreation
ORGANIZER;CN="Rideau Speedeaus":MAILTO:info@rideauspeedeaus.com
END:VEVENT
BEGIN:VEVENT
DTSTART;TZID=America/Toronto:20250501T200000
DTEND;TZID=America/Toronto:20250501T230000
DTSTAMP:20260421T200716
CREATED:20241029T210043Z
LAST-MODIFIED:20241106T152947Z
UID:10000507-1746129600-1746140400@maxottawa.ca
SUMMARY:Karaoke Night
DESCRIPTION:Karaoke with fellow Queers hosted by Jolene.
URL:https://maxottawa.ca/list/karaoke-night/2025-05-01/
LOCATION:T’s\, 323 Somerset Street West\, Ottawa\, ON\, 2P 0J8\, Canada
CATEGORIES:Live music,Nightlife,Regular programming
END:VEVENT
END:VCALENDAR