BEGIN:VCALENDAR
VERSION:2.0
PRODID:-//MAX Ottawa - ECPv6.15.20//NONSGML v1.0//EN
CALSCALE:GREGORIAN
METHOD:PUBLISH
X-WR-CALNAME:MAX Ottawa
X-ORIGINAL-URL:https://maxottawa.ca
X-WR-CALDESC:Events for MAX Ottawa
REFRESH-INTERVAL;VALUE=DURATION:PT1H
X-Robots-Tag:noindex
X-PUBLISHED-TTL:PT1H
BEGIN:VTIMEZONE
TZID:America/Toronto
BEGIN:DAYLIGHT
TZOFFSETFROM:-0500
TZOFFSETTO:-0400
TZNAME:EDT
DTSTART:20240310T070000
END:DAYLIGHT
BEGIN:STANDARD
TZOFFSETFROM:-0400
TZOFFSETTO:-0500
TZNAME:EST
DTSTART:20241103T060000
END:STANDARD
BEGIN:DAYLIGHT
TZOFFSETFROM:-0500
TZOFFSETTO:-0400
TZNAME:EDT
DTSTART:20250309T070000
END:DAYLIGHT
BEGIN:STANDARD
TZOFFSETFROM:-0400
TZOFFSETTO:-0500
TZNAME:EST
DTSTART:20251102T060000
END:STANDARD
BEGIN:DAYLIGHT
TZOFFSETFROM:-0500
TZOFFSETTO:-0400
TZNAME:EDT
DTSTART:20260308T070000
END:DAYLIGHT
BEGIN:STANDARD
TZOFFSETFROM:-0400
TZOFFSETTO:-0500
TZNAME:EST
DTSTART:20261101T060000
END:STANDARD
END:VTIMEZONE
BEGIN:VEVENT
DTSTART;TZID=America/Toronto:20250510T210000
DTEND;TZID=America/Toronto:20250511T020000
DTSTAMP:20260421T084759
CREATED:20250506T155427Z
LAST-MODIFIED:20250506T155434Z
UID:10002578-1746910800-1746928800@maxottawa.ca
SUMMARY:Back in Time Mixes with DJ Slushy!
DESCRIPTION:Head over to T’s for a retro hits Saturday night! Featuring tunes from the 70s to the 00s\, DJ Slushy will have you singing along to all the nostalgic party beats!
URL:https://maxottawa.ca/list/back-in-time-mixes-with-dj-slushy/
LOCATION:T’s\, 323 Somerset Street West\, Ottawa\, ON\, 2P 0J8\, Canada
CATEGORIES:Nightlife,Parties,Sex positive,Social
END:VEVENT
BEGIN:VEVENT
DTSTART;TZID=America/Toronto:20250511T110000
DTEND;TZID=America/Toronto:20250511T180000
DTSTAMP:20260421T084759
CREATED:20250502T170626Z
LAST-MODIFIED:20250502T170646Z
UID:10002568-1746961200-1746986400@maxottawa.ca
SUMMARY:A Queerly Crafty Day in May
DESCRIPTION:Bring a craft (sewing\, knitting\, crocheting\, quilting\, embroidery\, etc) and enjoy an afternoon with fellow sewists\, crafters\, and creators! If you think you’ll need a sewing machine or an iron/ironing board\, please let Josephine know in advance and she will try to accommodate (i.e.\, make sure those are available). \n\n\n\nThis is a masked event! Please bring a KN95 or higher mask (we have KN95s if you don’t have one!) \n\n\n\nHave questions about the Grove like parking and how to get in? Check out the FAQs.
URL:https://maxottawa.ca/list/a-queerly-crafty-day-in-may/
LOCATION:The Grove\, 18 Louisa St.\, Ottawa\, Ontario\, K1R6Y6\, Canada
CATEGORIES:Art,Family friendly,Social
END:VEVENT
BEGIN:VEVENT
DTSTART;TZID=America/Toronto:20250511T120000
DTEND;TZID=America/Toronto:20250511T130000
DTSTAMP:20260421T084759
CREATED:20250413T202344Z
LAST-MODIFIED:20250413T202354Z
UID:10002442-1746964800-1746968400@maxottawa.ca
SUMMARY:Drag Story Time
DESCRIPTION:Join Ms. Bianca Allen at Beyond the Pale Brewery for an imaginative experience through stories and drag. This is a free event but registration is required (below).
URL:https://maxottawa.ca/list/drag-story-time/
LOCATION:Beyond the Pale Brewing Company\, 250 City Centre Ave Bay 106\, Ottawa\, Ontario\, K1R 6K7\, Canada
CATEGORIES:Drag & Burlesque,Family friendly,Social,Youth
ORGANIZER;CN="Bianca Allen":MAILTO:heelsnheartevents@gmail.com
END:VEVENT
BEGIN:VEVENT
DTSTART;TZID=America/Toronto:20250511T120000
DTEND;TZID=America/Toronto:20250511T140000
DTSTAMP:20260421T084759
CREATED:20250506T192351Z
LAST-MODIFIED:20250506T192359Z
UID:10002589-1746964800-1746972000@maxottawa.ca
SUMMARY:All Ages Drag Brunch
DESCRIPTION:Get ready for Capital Kingdom’s next All Ages Drag Brunch!  \n\n\n\nYou’ll get to watch family-friendly performances\, have a fantastic meal (sold separately) and colour in our custom colouring pages of each performer. \n\n\n\nIntroducing this month’s cast:  \n\n\n\nComin’ in hot and cookin’ up a storm\, he may be based in Ottawa\, but he’s the Mayor of Flavourtown (with a “u”)\, Gay Fieri @gayfieridrag  \n\n\n\nHe is an egomaniac drag king who brings dad jokes\, camp and trail mix\, Claude Cash @theclaudecash \n\n\n\nUsing music as their trusty sidekick to connect with others\, this performer brings the laughs and good vibes\, Jax Sparks @jaxsparks69 \n\n\n\nAnd your host with the most @mileszinya! \n\n\n\n\n\n\n\nAll tickets are General Admission. \n\n\n\nSeating is not guaranteed. \n\n\n\nPlease come early to get a good seat. \n\n\n\nDoors at 11:30 am | Show at 12:00 pm \n\n\n\n(The venue has a ramp outside and a washroom located on the main floor. Other washrooms on the lower level.)
URL:https://maxottawa.ca/list/all-ages-drag-brunch/
LOCATION:Irene’s Pub\, 885 Bank St.\, Ottawa\, Ontario\, K1S 3W4\, Canada
CATEGORIES:Drag & Burlesque,Family friendly
END:VEVENT
BEGIN:VEVENT
DTSTART;TZID=America/Toronto:20250511T140000
DTEND;TZID=America/Toronto:20250511T160000
DTSTAMP:20260421T084759
CREATED:20250429T214511Z
LAST-MODIFIED:20250429T214527Z
UID:10002553-1746972000-1746979200@maxottawa.ca
SUMMARY:Mobility Show and Tell
DESCRIPTION:Do you have a really cool mobility aid you want to show off?Looking for inspiration to decorate your own?Thinking about getting a mobility aid and have questions for other disabled folks? \n\n\n\nJoin Wheelie Productions & @garbutch for our Virtual Mobility Aid Show & Tell! \n\n\n\n♿️♿️♿️ \n\n\n\n📆 May 11th\, 2025⏰️ 2:00 – 4:00 PM EST📍Zoom \n\n\n\n♿️♿️♿️ \n\n\n\nWe will be sharing the mobility aids we love (and hate)\, how we use them\, how we decorate them\, and what we’ve done to make them even better for us! \n\n\n\nIf you are curious about acquiring a mobility aid or switching to a different one\, we welcome questions and discussion for those with a variety of disabled experiences. \n\n\n\n♿️♿️♿️ \n\n\n\nRegister through the link below to receive the Zoom link!
URL:https://maxottawa.ca/list/mobility-show-and-tell/
LOCATION:https://maxottawa.ca/list/mobility-show-and-tell/
CATEGORIES:Advocacy & empowerment,Educational,Social
END:VEVENT
BEGIN:VEVENT
DTSTART;TZID=America/Toronto:20250511T143000
DTEND;TZID=America/Toronto:20250511T154000
DTSTAMP:20260421T084759
CREATED:20250310T203241Z
LAST-MODIFIED:20250310T203248Z
UID:10002154-1746973800-1746978000@maxottawa.ca
SUMMARY:Sunday Afternoon Bear Walk for Gay and Bisexual Men
DESCRIPTION:A group of GBT men meet every Sunday for a 1 hour walk\, always near Parking and Transit.
URL:https://maxottawa.ca/list/sunday-afternoon-bear-walk-for-gay-and-bisexual-men/2025-05-11/
LOCATION:Ottawa / Gatineau Pathways\, Ottawa\, Canada
CATEGORIES:Regular programming,Social,Sports and recreation
ATTACH;FMTTYPE=image/jpeg:https://maxottawa.ca/wp-content/uploads/2025/03/bears.jpg
ORGANIZER;CN="Sunday Afternoon Bear Walk":MAILTO:alex@sundayafternoonbearwalk.com
END:VEVENT
BEGIN:VEVENT
DTSTART;TZID=America/Toronto:20250511T143000
DTEND;TZID=America/Toronto:20250511T173000
DTSTAMP:20260421T084759
CREATED:20250509T162516Z
LAST-MODIFIED:20250509T162530Z
UID:10002607-1746973800-1746984600@maxottawa.ca
SUMMARY:Rooted
DESCRIPTION:We’d like to extend a big thank you to our funders\, Ontario Triullium Foundation\, for making these events possible! \n\n\n\n𓋼𖤣𖥧𓋼𓍊 \n\n\n\nheld in Arts Court – Studio B \n\n\n\n𓋼𖤣𖥧𓋼𓍊 \n\n\n\nthis evening is free & will include: \n\n\n\n\nyoga\n\n\n\nknowledge sharing\n\n\n\na chance to connect with like-minded souls \n\n\n\ngood vibes\n\n\n\n\nwhat to bring: \n\n\n\n\nyoga mat\n\n\n\nan open heart\n\n\n\nyour lovely self\n\n\n\n\n𓋼𖤣𖥧𓋼𓍊 \n\n\n\nthis event is for QTBIPOC individuals \n\n\n\nregister through the link below \n\n\n\n𓋼𖤣𖥧𓋼𓍊
URL:https://maxottawa.ca/list/rooted/
LOCATION:Arts Court\, 2 Daly Ave.\, Ottawa\, Ontario\, K1N 6E2\, Canada
CATEGORIES:Advocacy & empowerment,Social
END:VEVENT
BEGIN:VEVENT
DTSTART;TZID=America/Toronto:20250511T200000
DTEND;TZID=America/Toronto:20250511T230000
DTSTAMP:20260421T084759
CREATED:20241029T210043Z
LAST-MODIFIED:20241106T152947Z
UID:10000510-1746993600-1747004400@maxottawa.ca
SUMMARY:Karaoke Night
DESCRIPTION:Karaoke with fellow Queers hosted by Jolene.
URL:https://maxottawa.ca/list/karaoke-night/2025-05-11/
LOCATION:T’s\, 323 Somerset Street West\, Ottawa\, ON\, 2P 0J8\, Canada
CATEGORIES:Live music,Nightlife,Regular programming
END:VEVENT
END:VCALENDAR