BEGIN:VCALENDAR
VERSION:2.0
PRODID:-//MAX Ottawa - ECPv6.15.20//NONSGML v1.0//EN
CALSCALE:GREGORIAN
METHOD:PUBLISH
X-WR-CALNAME:MAX Ottawa
X-ORIGINAL-URL:https://maxottawa.ca
X-WR-CALDESC:Events for MAX Ottawa
REFRESH-INTERVAL;VALUE=DURATION:PT1H
X-Robots-Tag:noindex
X-PUBLISHED-TTL:PT1H
BEGIN:VTIMEZONE
TZID:America/Toronto
BEGIN:DAYLIGHT
TZOFFSETFROM:-0500
TZOFFSETTO:-0400
TZNAME:EDT
DTSTART:20240310T070000
END:DAYLIGHT
BEGIN:STANDARD
TZOFFSETFROM:-0400
TZOFFSETTO:-0500
TZNAME:EST
DTSTART:20241103T060000
END:STANDARD
BEGIN:DAYLIGHT
TZOFFSETFROM:-0500
TZOFFSETTO:-0400
TZNAME:EDT
DTSTART:20250309T070000
END:DAYLIGHT
BEGIN:STANDARD
TZOFFSETFROM:-0400
TZOFFSETTO:-0500
TZNAME:EST
DTSTART:20251102T060000
END:STANDARD
BEGIN:DAYLIGHT
TZOFFSETFROM:-0500
TZOFFSETTO:-0400
TZNAME:EDT
DTSTART:20260308T070000
END:DAYLIGHT
BEGIN:STANDARD
TZOFFSETFROM:-0400
TZOFFSETTO:-0500
TZNAME:EST
DTSTART:20261101T060000
END:STANDARD
END:VTIMEZONE
BEGIN:VEVENT
DTSTART;TZID=America/Toronto:20250520T000000
DTEND;TZID=America/Toronto:20250524T235959
DTSTAMP:20260424T080433
CREATED:20250514T183023Z
LAST-MODIFIED:20250514T183035Z
UID:10002635-1747699200-1748131199@maxottawa.ca
SUMMARY:The NXT LVL
DESCRIPTION:THINQ Music is thrilled to present a multi-day festival for emerging artists from the 613\, placed at Capital Music Award-winning venues. \n\n\n\nHere are some of the queer performers we’ve got our eyes on: \n\n\n\nHannah Vig  \n\n\n\n\nRainbow Bistro — Wednesday\, May 21 at 7:00PM\n\n\n\nWith special guests Years to Burn\, Corascene & Loch Nisse Monster\n\n\n\nGet tickets!\n\n\n\n\nMars Aspen  \n\n\n\n\nLIVE! On Elgin — Wednesday\, May 21 at\n\n\n\nWith special guests Mari Milano and PARTYGIRL\n\n\n\nGet tickets!\n\n\n\n\nJulzzz  \n\n\n\n\nLIVE! On Elgin — Friday\, May 23 at\n\n\n\nWith special guests Rox Anne and Matthew Holtby \n\n\n\nGet tickets!
URL:https://maxottawa.ca/list/the-nxt-lvl/
LOCATION:ON
CATEGORIES:Live music,Nightlife
END:VEVENT
BEGIN:VEVENT
DTSTART;TZID=America/Toronto:20250520T000000
DTEND;TZID=America/Toronto:20250525T235959
DTSTAMP:20260424T080433
CREATED:20250514T181335Z
LAST-MODIFIED:20250514T181345Z
UID:10002634-1747699200-1748217599@maxottawa.ca
SUMMARY:Capital Music Week
DESCRIPTION:Introducing the inaugural Capital Music Week May 20-25\, 2025 – an entire week of events bringing fans\, entrepreneurs\, and creators together for the love of music.  \n\n\n\nHere are the queer performers we’ve got our eyes on: \n\n\n\nOk Naledi \n\n\n\nOK Naledi is a high energy\, Queer\, Afro-Fusion music project created by Ottawa based musician-producer Naledi Sunstrum. Featuring traditional sub-Saharan clean guitar lines\, classic deep bass and movement-inspiring beats\, OK Naledi’s compelling lyricism and catchy melodies showcase them as an exciting\, up-and-coming group to keep tabs on in the Canadian music landscape. \n\n\n\nConcert details: \n\n\n\n\nPerforming with The Commotions and KellyLee Evans\n\n\n\nTuesday\, May 20 from 7:00-10:00PM\n\n\n\nThe Bronson Centre\n\n\n\nBuy Tickets!\n\n\n\n\nAlanna Sterling \n\n\n\nAlanna Sterling\, a mental health advocate and proud member of the LGBTQ+ community\, stands at the intersection of art and activism. As a non-binary singer-songwriter\, they infuse their work with a profound sense of identity and purpose. Battling bipolar disorder\, cPTSD\, OCD and ADHD\, Sterling’s music has always been a vessel for self-expression used to navigate life’s adversities. Through their heartfelt lyrics and music\, they’ve been able to connect with a global audience of dedicated fans\, and help them through their darkest moments. Alanna’s journey is a testament to resilience and self-discovery\, reflected in their diverse genre-bending style\, poignant lyrics\, and evocative melodies. \n\n\n\nConcert details: \n\n\n\n\nPerforming at the Capital Music Awards\n\n\n\nThursday\, May 22 from 8:00-11:00PM\n\n\n\nThe NAC – Southam Hall\n\n\n\nBuy Tickets!
URL:https://maxottawa.ca/list/capital-music-week/
LOCATION:ON
CATEGORIES:Live music,Nightlife
ORGANIZER;CN="Ottawa Music Industry Coalition":MAILTO:info@ottawamic.com
END:VEVENT
BEGIN:VEVENT
DTSTART;TZID=America/Toronto:20250522T193000
DTEND;TZID=America/Toronto:20250523T010000
DTSTAMP:20260424T080433
CREATED:20250416T215156Z
LAST-MODIFIED:20250522T175931Z
UID:10002446-1747942200-1747962000@maxottawa.ca
SUMMARY:Canada’s Drag Race Takeover\, Celebration of Asian Heritage Month
DESCRIPTION:”A Night of Glitter\, History\, and Pride” is a spectacular drag show celebrating the rich diversity and vibrant culture of the Asian community. This showstopping event will bring together fierce drag performances and breathtaking fashion. \n\n\n\nJoin us for an unforgettable night of fierce queens\, cultural outfits\, and a community united in love and pride. It’s more than just a show—it’s a celebration of Asian heritage\, culture\, and the joy of self-expression.
URL:https://maxottawa.ca/list/canadas-drag-race-takeover-celebration-of-asian-heritage-month/
LOCATION:The Lookout Bar\, 41 York Street\, 2nd Floor\, Ottawa\, ON\, K1N 5S7\, Canada
CATEGORIES:Advocacy & empowerment,Drag & Burlesque,Live music,Nightlife,Parties,Social
END:VEVENT
BEGIN:VEVENT
DTSTART;TZID=America/Toronto:20250523T170000
DTEND;TZID=America/Toronto:20250523T190000
DTSTAMP:20260424T080433
CREATED:20250514T185644Z
LAST-MODIFIED:20250514T185658Z
UID:10002727-1748019600-1748026800@maxottawa.ca
SUMMARY:Frontrunners - Women's Run
DESCRIPTION:A running and walking club for 2SLGBTQ+ community and friends in the National Capital Region\, meeting Tuesday nights\, Friday nights\, and Saturday mornings (09:00 (spring\, summer\, fall); 09:30 (winter; from the first Saturday of December to the last Saturday of March)) at 111 Lisgar Street\, the rear entrance of City Hall. \n\n\n\nRuns are held: \n\n\n\n\nTuesdays at 6:30 pm\, after which we go for coffee (Routes)\n\n\n\nSaturdays at 9:00 am (9:30 am from the first Saturday of December to the last Saturday of March inclusive)\, followed by breakfast  (Routes)\n\n\n\n\nWomen’s 5km run \n\n\n\n\nFridays at 5:00 pm\n\n\n\nThis event is open to all who identify as women\, female-identifying\, non-binary\, and Two-Spirit individuals\n\n\n\nFor more details\, please email wmns@ottawafrontrunners.org \n\n\n\n\nNOTICE: 2025 Gatineau runs — Saturdays\, 10 May\, 14 June\, 12 July\, 9 August\, 13 September\, and 11 October. \n\n\n\nCancellation of runs are rare\, only owing to holidays and hazardous weather. When runs are cancelled\, we post a notice on the site linked below and send an e-mail to members.
URL:https://maxottawa.ca/list/frontrunners-womens-run/2025-05-23/
LOCATION:ON
CATEGORIES:Regular programming,Social,Sports and recreation
END:VEVENT
BEGIN:VEVENT
DTSTART;TZID=America/Toronto:20250523T190000
DTEND;TZID=America/Toronto:20250523T220000
DTSTAMP:20260424T080433
CREATED:20250513T220626Z
LAST-MODIFIED:20250513T220642Z
UID:10002629-1748026800-1748037600@maxottawa.ca
SUMMARY:Pride Prom Cornwall
DESCRIPTION:🏳️‍🌈🏳️‍⚧️🪩Diversity Cornwall is excited to announce the return of one of our most favourite nights of the year!🪩🏳️‍⚧️🏳️‍🌈 \n\n\n\nPride Prom is more than just a dance — it’s a celebration of identity\, self-expression\, and belonging. \n\n\n\nOn May 23 from 7–10PM\, we invite folx ages 15 and up to join us at 167 Pitt Street for an unforgettable evening of music\, movement\, and connection — all in a space that celebrates who you are. \n\n\n\nEnjoy: \n\n\n\n\nLive music from DJ Roxy Sunset\,\n\n\n\nBelly dance lessons with Yafa Goawily\,\n\n\n\nFree refreshments\, good vibes\, and a welcoming space that gives you a chance to show up\, be seen\, and be celebrated — exactly as you are.\n\n\n\n\nRegistration is not required. Free admission. No pressure. No expectations. Just a night to feel proud\, safe\, and supported. \n\n\n\nHosted by Diversity Cornwall\, with support from the MLSE Foundation and the Social Development Council of Cornwall & Area. \n\n\n\nCome dance with us. You belong here.
URL:https://maxottawa.ca/list/pride-prom-cornwall/
LOCATION:Diversity Cornwall\, 167 Pitt St.\, Cornwall\, Ontario\, K6J 3P5\, Canada
CATEGORIES:Cornwall,Nightlife,Parties,Social
ORGANIZER;CN="Diversity Cornwall":MAILTO:cornwall.diversity@gmail.com
END:VEVENT
END:VCALENDAR