BEGIN:VCALENDAR
VERSION:2.0
PRODID:-//MAX Ottawa - ECPv6.15.20//NONSGML v1.0//EN
CALSCALE:GREGORIAN
METHOD:PUBLISH
X-WR-CALNAME:MAX Ottawa
X-ORIGINAL-URL:https://maxottawa.ca
X-WR-CALDESC:Events for MAX Ottawa
REFRESH-INTERVAL;VALUE=DURATION:PT1H
X-Robots-Tag:noindex
X-PUBLISHED-TTL:PT1H
BEGIN:VTIMEZONE
TZID:America/Toronto
BEGIN:DAYLIGHT
TZOFFSETFROM:-0500
TZOFFSETTO:-0400
TZNAME:EDT
DTSTART:20240310T070000
END:DAYLIGHT
BEGIN:STANDARD
TZOFFSETFROM:-0400
TZOFFSETTO:-0500
TZNAME:EST
DTSTART:20241103T060000
END:STANDARD
BEGIN:DAYLIGHT
TZOFFSETFROM:-0500
TZOFFSETTO:-0400
TZNAME:EDT
DTSTART:20250309T070000
END:DAYLIGHT
BEGIN:STANDARD
TZOFFSETFROM:-0400
TZOFFSETTO:-0500
TZNAME:EST
DTSTART:20251102T060000
END:STANDARD
BEGIN:DAYLIGHT
TZOFFSETFROM:-0500
TZOFFSETTO:-0400
TZNAME:EDT
DTSTART:20260308T070000
END:DAYLIGHT
BEGIN:STANDARD
TZOFFSETFROM:-0400
TZOFFSETTO:-0500
TZNAME:EST
DTSTART:20261101T060000
END:STANDARD
END:VTIMEZONE
BEGIN:VEVENT
DTSTART;TZID=America/Toronto:20250628T080000
DTEND;TZID=America/Toronto:20250628T170000
DTSTAMP:20260420T061010
CREATED:20250608T004548Z
LAST-MODIFIED:20250609T162504Z
UID:10003140-1751097600-1751130000@maxottawa.ca
SUMMARY:Summer Slam Fundraising Tournament
DESCRIPTION:Registration Opens: Saturday April 19 at 7pm \n\n\n\nFormat & Cost: \n\n\n\n\nRecreational: 6v6 – 10 team spots – $300\n\n\n\nIntermediate/Advanced: 4v4 – 15 team spots – $200\n\n\n\n\nLocation: Shefford Courts (813 Shefford Road\, Ottawa\, ON K1J 8H9) \n\n\n\nNote: Your Team Captain will register and pay for your team. During and after registration\, the Team Captain will send roster invitations. All players must be rostered to a team and have completed waivers. \n\n\n\n50% of each team’s registration will go to support Kind Space. \n\n\n\nFundraising\n\n\n\nHow it Works \n\n\n\nRegister for the tournament and then setup a fundraising page using the link below. You and your teammates can share their fundraising page with their network to encourage donations. All funds raised go to Kind Space\, a registered charity and are eligible for a tax receipt. \n\n\n\nThere are prizes for the top fundraiser and top fundraising team!
URL:https://maxottawa.ca/list/summer-slam-fundraising-tournament/
LOCATION:Shefford Courts\, 813 Shefford Road\, Ottawa\, Ontario\, K1J 8H9\, Canada
CATEGORIES:Advocacy & empowerment,Family friendly,Ottawa,Social,Sports and recreation
ORGANIZER;CN="Pride Capital Volleyball":MAILTO:info@pcv-fvc.ca
END:VEVENT
BEGIN:VEVENT
DTSTART;TZID=America/Toronto:20250628T090000
DTEND;TZID=America/Toronto:20250628T113000
DTSTAMP:20260420T061010
CREATED:20250514T190044Z
LAST-MODIFIED:20250514T190052Z
UID:10002762-1751101200-1751110200@maxottawa.ca
SUMMARY:Frontrunners
DESCRIPTION:A running and walking club for 2SLGBTQ+ community and friends in the National Capital Region\, meeting Tuesday nights\, Friday nights\, and Saturday mornings (09:00 (spring\, summer\, fall); 09:30 (winter; from the first Saturday of December to the last Saturday of March)) at 111 Lisgar Street\, the rear entrance of City Hall. \n\n\n\nRuns are held: \n\n\n\n\nTuesdays at 6:30 pm\, after which we go for coffee (Routes)\n\n\n\nSaturdays at 9:00 am (9:30 am from the first Saturday of December to the last Saturday of March inclusive)\, followed by breakfast  (Routes)\n\n\n\n\nWomen’s 5km run \n\n\n\n\nFridays at 5:00 pm\n\n\n\nThis event is open to all who identify as women\, female-identifying\, non-binary\, and Two-Spirit individuals\n\n\n\nFor more details\, please email wmns@ottawafrontrunners.org \n\n\n\n\nNOTICE: 2025 Gatineau runs — Saturdays\, 10 May\, 14 June\, 12 July\, 9 August\, 13 September\, and 11 October. \n\n\n\nCancellation of runs are rare\, only owing to holidays and hazardous weather. When runs are cancelled\, we post a notice on the site linked below and send an e-mail to members.
URL:https://maxottawa.ca/list/frontrunners-2/2025-06-28/
LOCATION:Ontario
CATEGORIES:Regular programming,Social,Sports and recreation
END:VEVENT
BEGIN:VEVENT
DTSTART;TZID=America/Toronto:20250628T100000
DTEND;TZID=America/Toronto:20250628T120000
DTSTAMP:20260420T061010
CREATED:20250609T145843Z
LAST-MODIFIED:20250609T145915Z
UID:10003141-1751104800-1751112000@maxottawa.ca
SUMMARY:Beach Skills & Drills: 2-on-2 Fundamentals
DESCRIPTION:Ready to take your beach volleyball skills to the next level? Join us for our Beach Skills and Drills Program led by James Battiston\, former professional volleyball player and member of the Canadian Beach National Team. James has coached for several years with the Mavericks Volleyball Club as well as 15+ years at Madawaska Volleyball Camp.   \n\n\n\nWhether you’re new to beach volleyball or a seasoned player\, we have something for you!  Join us at the RA Centre on Saturday mornings where James will bring his expert guidance to teach you fundamentals or take you to the next level with specific skills.  \n\n\n\nHere we will cover the basics of 2-on-2 beach volleyball. Serve receive (1st contact)\, setting (2nd contact)\, attacking (shot options)\, defense (block/dig) and service. The goal is to develop players’ understanding of the skills\, flow and movement required to play the 2-on-2 beach game.    
URL:https://maxottawa.ca/list/beach-skills-drills-2-on-2-fundamentals/
LOCATION:RA Centre Beach Courts\, 2451 Riverside Dr.\, Ottawa\, Ontario\, K1H 7X7\, Canada
CATEGORIES:Educational,Ottawa,Regular programming,Social,Sports and recreation
ORGANIZER;CN="Pride Capital Volleyball":MAILTO:info@pcv-fvc.ca
END:VEVENT
BEGIN:VEVENT
DTSTART;TZID=America/Toronto:20250628T100000
DTEND;TZID=America/Toronto:20250628T160000
DTSTAMP:20260420T061010
CREATED:20250609T214816Z
LAST-MODIFIED:20250609T214832Z
UID:10003150-1751104800-1751126400@maxottawa.ca
SUMMARY:Ottawa Anarchist Bookfair
DESCRIPTION:The Ottawa Anarchist Bookfair is run by a group of local anarchists and anarchic-organizers who are interested in cultivating a culture of autonomous and decentralized organizing in so-called ottawa. Our fair will have a mixture of literature (books\, zines\, etc.) relevant to anarchism/anti-oppression/organizing\, community-run workshops & skillshares\, and tabling from autonomous community groups and organizers.  \n\n\n\n📚 Anarchist Literature (books\, zines\, etc.)🎨 Art & Wares🤝 Workshops & skillshares🫒 Free Food🧸Free Childcare😷 Mandatory Masking
URL:https://maxottawa.ca/list/ottawa-anarchist-bookfair/
LOCATION:Jack Purcell Community Centre\, 320 Jack Purcell Ln\, Ottawa\, ON\, K2P 2J5\, Canada
CATEGORIES:Advocacy & empowerment,Market or festival,Ottawa
ORGANIZER;CN="Ottawa Anarchist Bookfair":MAILTO:ottawaanarchistbookfair@proton.me
END:VEVENT
BEGIN:VEVENT
DTSTART;TZID=America/Toronto:20250628T100000
DTEND;TZID=America/Toronto:20250628T170000
DTSTAMP:20260420T061010
CREATED:20250413T185922Z
LAST-MODIFIED:20250413T185934Z
UID:10002428-1751104800-1751130000@maxottawa.ca
SUMMARY:OSPN Out and About Saturdays
DESCRIPTION:OSPN in partnership with The Good Companions is delighted to offer in person programming to our 55+ LGBTQ2+ community.  \n\n\n\nOut and About Saturdays is specialty programming for the 55+ LGBTQ2+ community. Ideas for offerings can be forwarded to the program coordinator\, Stephane Gauthier at sgauthier@thegoodcompanions.ca or by telephone at (613) 236-0428 ext. 2353.  \n\n\n\nOnce a month Stephane and the Saturday programming committee meet to discuss potential offerings and brainstorm new ideas and opportunities for programming. If you are interested in joining the committee\, please email your request to sgauthier@thegoodcompanions.ca.  \n\n\n\n_______________  \n\n\n\nYou are welcome to participate on a trial basis for 3 Saturdays before deciding to become a Good Companions member. The membership gives you access to all of The Good Companions amenities and offerings\, not just Out and About Saturdays. For more information on becoming a member please click here [https://thegoodcompanions.ca/membership/new-members/].  \n\n\n\nParking is available at the center for $2.50 a day or $30.00 annually.  \n\n\n\n*PLEASE NOTE: INDIVIDUAL FINANCIAL RESTRICTIONS WILL NEVER BE A BARRIER TO ACCESSING OUT AND ABOUT SATURDAYS OR BECOMING A MEMBER OF THE GOOD COMPANIONS. SUBSIDIES ARE AVAILABLE ON A CASE-BY-CASE BASIS. Contact Stephane Gauthier at sgauthier@thegoodcompanions.ca for details.
URL:https://maxottawa.ca/list/ospn-out-and-about-saturdays/2025-06-28/
LOCATION:The Good Companions\, 670 Albert Street
CATEGORIES:Regular programming,Social
ATTACH;FMTTYPE=image/png:https://maxottawa.ca/wp-content/uploads/2025/02/LIST_OutAndAbout-2.png
END:VEVENT
BEGIN:VEVENT
DTSTART;TZID=America/Toronto:20250628T130000
DTEND;TZID=America/Toronto:20250628T153000
DTSTAMP:20260420T061010
CREATED:20250616T164144Z
LAST-MODIFIED:20250616T164200Z
UID:10003165-1751115600-1751124600@maxottawa.ca
SUMMARY:Pride Picnic Potluck
DESCRIPTION:Pride Mississippi Mills x Safer Together \n\n\n\nPride MM has paid to rent the picnic area at Mill of Kintail Conservation Area and we will be having a little Pride Celebration to celebrate with neighbours\, friends\, and family. We ask that all food will be labeled with the name of the chef and an ingredients list – including any allergens listed in the “may contain” section of grocery labels. \n\n\n\nThe site has bathrooms\, water fountains\, shade shelter\, a playground\, a basketball net\, and is dog friendly! Parking is available near the gatehouse or next to the picnic area for people with accessibility needs. \n\n\n\nTo RSVP send an email to safertogether@proton.me ! \n\n\n\nI will be coordinating food and am accepting help from anyone who wants to volunteer\, run an activity\, or set up a booth at the picnic. \n\n\n\nHappy Pride !! XOXO Mayb
URL:https://maxottawa.ca/list/pride-picnic-potluck/
LOCATION:The Mill of Kintail\, 2854 C Ramsay Concession 8\, Almonte\, Ontario\, K0A1A0\, Canada
CATEGORIES:Family friendly,Mississippi Mills,Pride,Social
END:VEVENT
BEGIN:VEVENT
DTSTART;TZID=America/Toronto:20250628T140000
DTEND;TZID=America/Toronto:20250628T160000
DTSTAMP:20260420T061010
CREATED:20250624T162554Z
LAST-MODIFIED:20250624T162644Z
UID:10003182-1751119200-1751126400@maxottawa.ca
SUMMARY:Everybody Rows
DESCRIPTION:𝔹𝕀𝔾 ℕ𝔼𝕎𝕊! 💙 Everybody Rows Ottawa has invited youth\, aged 12-17 to a rowing workshop on June 28\, 2025 from 2pm-4pm. \n\n\n\nEvents that celebrate 2SLGBTQIA+ diversity in sport promotes inclusion and acceptance. Undoubtedly\, there is much work to be done when it comes to gender in sports\, but there are organizations and people in Ottawa who are making big strides through their advocacy and visibility. \n\n\n\nHUGE shoutout to Rebecca @ottawarowingclub for putting on this workshop. Happy Pride! 🌈 \n\n\n\nLet’s Row\, Connect\, and Celebrate this June. \n\n\n\nPlease DM or email us\, hello@centre33.ca with any questions.
URL:https://maxottawa.ca/list/everybody-rows/
LOCATION:Ottawa Rowing Club\, 10 Lady Grey Dr.\, Ottawa\, Ontario\, K1A 0G8\, Canada
CATEGORIES:Educational,Kanata,Social,Sports and recreation,Youth
ORGANIZER;CN="Centre33":MAILTO:kanatacentre33@outlook.com
END:VEVENT
BEGIN:VEVENT
DTSTART;TZID=America/Toronto:20250628T183000
DTEND;TZID=America/Toronto:20250628T210000
DTSTAMP:20260420T061010
CREATED:20250608T001556Z
LAST-MODIFIED:20250609T162319Z
UID:10003135-1751135400-1751144400@maxottawa.ca
SUMMARY:Banshii Waylon's Drag Bingo
DESCRIPTION:HAPPY PRIDE ARNPRIOR!! \n\n\n\nJoin BANSHII WAYLÖN & SHEBISCUIT on JUNE 28th at THE MADAWASKA LODGE (31 JAMES STREET) for a night of unforgettable fun. \n\n\n\nArnprior is where the rivers meet? Well this is where DRAG MEETS BINGO. \n\n\n\nReady for high stakes and even higher heels? \n\n\n\nEnjoy exciting rounds of BINGÖ\, with surprise DRAG PERFORMANCES throughout the night. \n\n\n\nSit back and enjoy a night of cold drinks\, hot stunts\, and ADULT THEMED prizes. \n\n\n\nCASH BAR at venue. \n\n\n\nDoors open at 6:30PM \, games and show start at 7:00PM \n\n\n\nCash for e-transfer exchange (for tipping performers) is available at door. \n\n\n\nTickets sell out fast so get yours now!! \n\n\n\nPlease join us for a raunchy night of DRAG\, BINGO\, and ROCK ‘N’ ROLL. \n\n\n\n19+ \n\n\n\n**100% of ticket price goes towards the drag performances (not your bingo card). \n\n\n\nEVERYONE WINS AT DRAG BINGO!!
URL:https://maxottawa.ca/list/banshii-waylons-drag-bingo/
LOCATION:Madawaska Lodge\, 31 James St.\, Arnprior\, Ontario\, K7S 1C9\, Canada
CATEGORIES:Arnprior,Drag & Burlesque,Nightlife,Pride,Social
ORGANIZER;CN="Banshii Waylon":MAILTO:bansheewaylon@gmail.com
END:VEVENT
BEGIN:VEVENT
DTSTART;TZID=America/Toronto:20250628T190000
DTEND;TZID=America/Toronto:20250628T220000
DTSTAMP:20260420T061010
CREATED:20241029T205445Z
LAST-MODIFIED:20241106T153226Z
UID:10000229-1751137200-1751148000@maxottawa.ca
SUMMARY:Bottomless Dine & Drag Dinner
DESCRIPTION:Every week\, on Saturday night\, Vanitea is the destination for the no. 1 voted drag dinner\, presented by beloved house host Devona Coe and a rotating calendar of featured local and visiting drag queens.Delivering their struts\, gag-worthy performances & all-over sass for your Saturday night pleasure\, + a fabulous 3 course tower (with meal included) and bottomless drinks!
URL:https://maxottawa.ca/list/bottomless-dine-drag-dinner/2025-06-28/
LOCATION:The Vanitea Room\, 551 Somerset St West\, Ottawa\, ON\, K1R 5J9\, Canada
CATEGORIES:Drag & Burlesque,Nightlife
END:VEVENT
BEGIN:VEVENT
DTSTART;TZID=America/Toronto:20250628T210000
DTEND;TZID=America/Toronto:20250629T020000
DTSTAMP:20260420T061010
CREATED:20250616T163238Z
LAST-MODIFIED:20250616T163314Z
UID:10003164-1751144400-1751162400@maxottawa.ca
SUMMARY:Fortress 11
DESCRIPTION:FORTRESS 11: SWEET MORGANE BDAY PARTY EDITION 😱🎂 \n\n\n\nyou GUYSSSs we have been plotting and scheming and we are so excited to present this GIGANTIC 100% local lineup of fortress besties ⚔️ \n\n\n\nPRESENTING:@ch1oehaze 👸@geunf b3b @wtfiamma b3b @sweet_morgane (FAMILY REUNION) 🧑‍🧒‍🧒@ily__bo 🫜@lilfr1dge 🫦@princia.c b2b @ttrillss_ 👯‍♀️@russplusrecords 📀@shuv.ca 🪏 \n\n\n\nLORD HAVE MERCY….TICKETS AVAILABLE NOW $10! JUNE 28! U HAVE TO BE THERE! @27club_ottawa 🚀🚀
URL:https://maxottawa.ca/list/fortress-11/
LOCATION:The 27 Club\, 27 York St\, Ottawa\, ON\, K1N 5S7\, Canada
CATEGORIES:Live music,Nightlife,Ottawa,Parties
END:VEVENT
BEGIN:VEVENT
DTSTART;TZID=America/Toronto:20250628T220000
DTEND;TZID=America/Toronto:20250629T010000
DTSTAMP:20260420T061010
CREATED:20250616T161610Z
LAST-MODIFIED:20250616T161627Z
UID:10003162-1751148000-1751158800@maxottawa.ca
SUMMARY:Fierce Fusion - 1 Year Anniversary
DESCRIPTION:✨ Get ready for a night of fabulous performances! ✨ \n\n\n\nJoin us on June 28th\, @swizzlesbar\, as we celebrate our one year anniversary\, June 28th. Yes\, it has been one year already. 9:30 pm doors open\, and the show starts at 10 pm. $10 cover. Call to reserve: 613-232-4200. \n\n\n\nYour co-producers @mr.benjamindover and @funfettidrag have teamed up to bring you an unforgettable show featuring an incredible cast from our first 5 shows: \n\n\n\n🎉@abellaburlesque🎉@breezethefairy🎉Caleb O’Guy🎉@cox.enelle🎉@dr.t.munee🎉@estherroyd🎉@morganmorbid on door \n\n\n\nDon’t miss out – come for the fun\, stay for the fierce performances! 🌟
URL:https://maxottawa.ca/list/fierce-fusion-1-year-anniversary/
LOCATION:Swizzles\, 246 Queen Street\,\, Ottawa\, ON\, K1P 5E4\, Canada
CATEGORIES:Drag & Burlesque,Nightlife,Ottawa
END:VEVENT
END:VCALENDAR