BEGIN:VCALENDAR
VERSION:2.0
PRODID:-//MAX Ottawa - ECPv6.15.20//NONSGML v1.0//EN
CALSCALE:GREGORIAN
METHOD:PUBLISH
X-ORIGINAL-URL:https://maxottawa.ca
X-WR-CALDESC:Events for MAX Ottawa
REFRESH-INTERVAL;VALUE=DURATION:PT1H
X-Robots-Tag:noindex
X-PUBLISHED-TTL:PT1H
BEGIN:VTIMEZONE
TZID:America/Toronto
BEGIN:DAYLIGHT
TZOFFSETFROM:-0500
TZOFFSETTO:-0400
TZNAME:EDT
DTSTART:20240310T070000
END:DAYLIGHT
BEGIN:STANDARD
TZOFFSETFROM:-0400
TZOFFSETTO:-0500
TZNAME:EST
DTSTART:20241103T060000
END:STANDARD
BEGIN:DAYLIGHT
TZOFFSETFROM:-0500
TZOFFSETTO:-0400
TZNAME:EDT
DTSTART:20250309T070000
END:DAYLIGHT
BEGIN:STANDARD
TZOFFSETFROM:-0400
TZOFFSETTO:-0500
TZNAME:EST
DTSTART:20251102T060000
END:STANDARD
BEGIN:DAYLIGHT
TZOFFSETFROM:-0500
TZOFFSETTO:-0400
TZNAME:EDT
DTSTART:20260308T070000
END:DAYLIGHT
BEGIN:STANDARD
TZOFFSETFROM:-0400
TZOFFSETTO:-0500
TZNAME:EST
DTSTART:20261101T060000
END:STANDARD
END:VTIMEZONE
BEGIN:VEVENT
DTSTART;TZID=America/Toronto:20250702T180000
DTEND;TZID=America/Toronto:20250702T200000
DTSTAMP:20260421T142820
CREATED:20250625T163910Z
LAST-MODIFIED:20250625T163925Z
UID:10003189-1751479200-1751486400@maxottawa.ca
SUMMARY:K1 Fr
DESCRIPTION:Ce mois-ci\, nous vous invitons à découvrir les ressources disponibles à la Bibliothèque publique d’Ottawa. Nous allons découvrir ensemble comment y avoir accès et comment en profiter pleinement en tant que personne francophone. \n\n\n\nInscrivez-vous ci-dessous pour réserver votre place.
URL:https://maxottawa.ca/list/k1-fr/
LOCATION:Ottawa Public Library\, 120 Metcalfe St.\, Ottawa\, Ontario\, K1P 5M2\, Canada
CATEGORIES:Advocacy & empowerment,Educational,MAX Programs,Ottawa,Regular programming,Social
ORGANIZER;CN="MAX Ottawa":MAILTO:info@maxottawa.ca
END:VEVENT
BEGIN:VEVENT
DTSTART;TZID=America/Toronto:20250702T200000
DTEND;TZID=America/Toronto:20250702T230000
DTSTAMP:20260421T142820
CREATED:20250624T194736Z
LAST-MODIFIED:20250624T194750Z
UID:10003188-1751486400-1751497200@maxottawa.ca
SUMMARY:Little Window's Transference Tour at House Of Targ
DESCRIPTION:Come join us for an unforgettable night of music and art at House of Targ! \n\n\n\nLittle Window will set the stage with strange creatures and creations to host unforgettable live perfromances by local projects Band Zone and Salmon Ella\, followed by performances from Tkaronto’s art freaks Little Window and queer icon Rae Spoon! \n\n\n\nThe show celebrates the launch of Tranference\, the newest artbook of Little Window’s guitarist/vocalists Eli Howey. \n\n\n\nDoors 8pm \n\n\n\nShow 8:30pm \n\n\n\nNo one turned away for lack of funds! \n\n\n\nN95 masks suggested. \n\n\n\nAll venue access info and FAQs here
URL:https://maxottawa.ca/list/little-windows-transference-tour-at-house-of-targ/
LOCATION:House of Targ\, 1077 Bank St.\, Ottawa\, Ontario\, K1S 0R4\, Canada
CATEGORIES:Art,Live music,Nightlife,Ottawa
END:VEVENT
END:VCALENDAR