BEGIN:VCALENDAR
VERSION:2.0
PRODID:-//MAX Ottawa - ECPv6.15.20//NONSGML v1.0//EN
CALSCALE:GREGORIAN
METHOD:PUBLISH
X-WR-CALNAME:MAX Ottawa
X-ORIGINAL-URL:https://maxottawa.ca
X-WR-CALDESC:Events for MAX Ottawa
REFRESH-INTERVAL;VALUE=DURATION:PT1H
X-Robots-Tag:noindex
X-PUBLISHED-TTL:PT1H
BEGIN:VTIMEZONE
TZID:America/Toronto
BEGIN:DAYLIGHT
TZOFFSETFROM:-0500
TZOFFSETTO:-0400
TZNAME:EDT
DTSTART:20240310T070000
END:DAYLIGHT
BEGIN:STANDARD
TZOFFSETFROM:-0400
TZOFFSETTO:-0500
TZNAME:EST
DTSTART:20241103T060000
END:STANDARD
BEGIN:DAYLIGHT
TZOFFSETFROM:-0500
TZOFFSETTO:-0400
TZNAME:EDT
DTSTART:20250309T070000
END:DAYLIGHT
BEGIN:STANDARD
TZOFFSETFROM:-0400
TZOFFSETTO:-0500
TZNAME:EST
DTSTART:20251102T060000
END:STANDARD
BEGIN:DAYLIGHT
TZOFFSETFROM:-0500
TZOFFSETTO:-0400
TZNAME:EDT
DTSTART:20260308T070000
END:DAYLIGHT
BEGIN:STANDARD
TZOFFSETFROM:-0400
TZOFFSETTO:-0500
TZNAME:EST
DTSTART:20261101T060000
END:STANDARD
END:VTIMEZONE
BEGIN:VEVENT
DTSTART;TZID=America/Toronto:20250922T183000
DTEND;TZID=America/Toronto:20250922T200000
DTSTAMP:20260425T122938
CREATED:20250413T184756Z
LAST-MODIFIED:20260408T160622Z
UID:10003268-1758565800-1758571200@maxottawa.ca
SUMMARY:5-Pin Bowling
DESCRIPTION:EVERYONE is welcome (please bring your friends!) to join us for a fun evening of 5-pin bowling at the West Park Lanes bowling alley at 1205 Wellington Street West. We play two games. The cost is $10.00\, including shoe rental. It’s quite informal. You don’t have to join a team\, just show up at West Park Lanes. Please come to the lanes early—at least 15 minutes early.
URL:https://maxottawa.ca/list/5-pin-bowling/2025-09-22/
LOCATION:West Park Lanes\, 1205 Wellington St. W\, Ottawa\, Ontario\, K1Y 2Z8\, Canada
CATEGORIES:Family friendly,Regular programming,Social,Sports and recreation
END:VEVENT
BEGIN:VEVENT
DTSTART;TZID=America/Toronto:20250922T200000
DTEND;TZID=America/Toronto:20250922T223000
DTSTAMP:20260425T122938
CREATED:20250911T020750Z
LAST-MODIFIED:20250911T020757Z
UID:10003463-1758571200-1758580200@maxottawa.ca
SUMMARY:Naked Boys Reading: "Food: Frenemy of the Human Existence"
DESCRIPTION:Our September show will explore the conflicting duality of food and nourishment as a universal part of the human experience. \n\n\n\n★ ★ ★ ★ ★ \n\n\n\nNaked Boys Reading is an internationally produced literary salon featuring unclothed men reading to you: a blissful combination of literature\, book nerds\, and\, of course\, nudity! \n\n\n\nWe are a queer-produced community show that’s open to everyone. We celebrate all genders and sexualities. This is not erotic “adult entertainment” — which we’re cool with — but that’s not this. \n\n\n\n★ ★ ★ ★ ★ \n\n\n\nTHIS SHOW… \n\n\n\n\nCurated by Jake Rahme\n\n\n\nHosted by ★ RHAPSODY BLUE ★\n\n\n\nPhotography by Zac Emery\n\n\n\nCo-produced by Nicholas Surges\n\n\n\nPresented by Tricky Ricky Productions\n\n\n\n\n★ ★ ★ ★ ★ \n\n\n\nDoors will open at 7:00 pm. We cannot admit anybody prior to 7:00 pm. The show will begin at 8:00 pm sharp. Seating is first come\, first served: The sooner you arrive\, the better the view you’ll have. \n\n\n\nIf you’re attending as a party of three or more people\, it is best to arrive early to find seating together. For that\, we recommend arriving by 7:30 pm.
URL:https://maxottawa.ca/list/naked-boys-reading-food-frenemy-of-the-human-existence/
LOCATION:LIVE! on Elgin\, 220 Elgin St #2\, Ottawa\, Ontario\, K2P 1L7\, Canada
CATEGORIES:Nightlife,Ottawa
ORGANIZER;CN="Tricky Ricky Productions & Collaborations":MAILTO:bytowneboys@gmail.com
END:VEVENT
END:VCALENDAR