BEGIN:VCALENDAR
VERSION:2.0
PRODID:-//MAX Ottawa - ECPv6.15.20//NONSGML v1.0//EN
CALSCALE:GREGORIAN
METHOD:PUBLISH
X-WR-CALNAME:MAX Ottawa
X-ORIGINAL-URL:https://maxottawa.ca
X-WR-CALDESC:Events for MAX Ottawa
REFRESH-INTERVAL;VALUE=DURATION:PT1H
X-Robots-Tag:noindex
X-PUBLISHED-TTL:PT1H
BEGIN:VTIMEZONE
TZID:America/Toronto
BEGIN:DAYLIGHT
TZOFFSETFROM:-0500
TZOFFSETTO:-0400
TZNAME:EDT
DTSTART:20250309T070000
END:DAYLIGHT
BEGIN:STANDARD
TZOFFSETFROM:-0400
TZOFFSETTO:-0500
TZNAME:EST
DTSTART:20251102T060000
END:STANDARD
BEGIN:DAYLIGHT
TZOFFSETFROM:-0500
TZOFFSETTO:-0400
TZNAME:EDT
DTSTART:20260308T070000
END:DAYLIGHT
BEGIN:STANDARD
TZOFFSETFROM:-0400
TZOFFSETTO:-0500
TZNAME:EST
DTSTART:20261101T060000
END:STANDARD
BEGIN:DAYLIGHT
TZOFFSETFROM:-0500
TZOFFSETTO:-0400
TZNAME:EDT
DTSTART:20270314T070000
END:DAYLIGHT
BEGIN:STANDARD
TZOFFSETFROM:-0400
TZOFFSETTO:-0500
TZNAME:EST
DTSTART:20271107T060000
END:STANDARD
END:VTIMEZONE
BEGIN:VEVENT
DTSTART;TZID=America/Toronto:20260327T110000
DTEND;TZID=America/Toronto:20260327T190000
DTSTAMP:20260419T150128
CREATED:20260326T011701Z
LAST-MODIFIED:20260326T011709Z
UID:10004834-1774609200-1774638000@maxottawa.ca
SUMMARY:Confidence In Colour
DESCRIPTION:A FREE 3-week youth leadership and wellness program created for LGBTQIA2S+\, newcomer\, refugee\, and BIPOC youth in Ottawa. \n\n\n\nThis program is designed to create a supportive space to build confidence\, connect with community\, and explore self-expression through meaningful conversations and creative experiences. \n\n\n\nMarch 27 (11 AM – 7 PM)Our final community celebration day featuring speakers\, a community panel\, performances\, shared meals\, certificates\, and gifts for participants. \n\n\n\n🌱 This is a space to: \n\n\n\n🎨 Explore creativity✨ Build confidence💬 Develop leadership skills🤍 Connect with community🌈 Show up as your authentic self \n\n\n\nNo experience needed\, just come as you are. \n\n\n\n💸 FREE program⏳ Limited spots available📍 Downtown Ottawa (location shared upon registration) \n\n\n\n📲 Follow the link below to register. \n\n\n\nLet’s grow\, lead\, and shine together. 💙✨
URL:https://maxottawa.ca/list/confidence-in-colour/
LOCATION:Ontario
CATEGORIES:Advocacy & empowerment,Educational,Ottawa
ORGANIZER;CN="United In Pride":MAILTO:info@unitedinpride.ca
END:VEVENT
BEGIN:VEVENT
DTSTART;TZID=America/Toronto:20260327T170000
DTEND;TZID=America/Toronto:20260327T200000
DTSTAMP:20260419T150128
CREATED:20260325T160649Z
LAST-MODIFIED:20260325T160657Z
UID:10004832-1774630800-1774641600@maxottawa.ca
SUMMARY:Trans Day of Visibility Social and Clothing Swap
DESCRIPTION:Join us for a cozy\, community-rooted evening in celebration of Trans Day of Visibility — a time to honour the brilliance\, resilience\, and joy of trans\, non-binary\, and gender-diverse communities. \n\n\n\nAs part of Pride is Political’s Living Room Series\, this gathering invites you into a welcoming\, low-pressure space to connect\, share\, and just be together. \n\n\n\nThis space is centred on trans\, non-binary\, and gender-diverse people\, with care taken to ensure it feels affirming\, welcoming\, and grounded in community. Allies are welcome to join in ways that are respectful and supportive of that intention. \n\n\n\nThis evening will include a Clothing Swap Social — bring your gently used clothing\, accessories\, trans-affirming gear\, and more to share. If you can’t donate items right now\, no worries at all. Come as you are to participate and find something that feels good\, expressive\, and gender-affirming 💜 \n\n\n\nExpect:✨ A relaxed\, living room-style atmosphere✨ Opportunities to connect and build community✨ Clothing swap + shared resources✨ Care-centered\, affirming space \n\n\n\nHealth & Community Care😷 Masks are required (unless eating) \n\n\n\nAccessibility & CareWe aim to make this space as accessible and welcoming as possible. Please share any access needs when registering\, and we will do our best to support. \n\n\n\nCome as you are. Take what you need. Give what you can. You are enough. 💫
URL:https://maxottawa.ca/list/trans-day-of-visibility-social-and-clothing-swap/
LOCATION:The Grove\, 18 Louisa St.\, Ottawa\, Ontario\, K1R6Y6\, Canada
CATEGORIES:Ottawa,Social
END:VEVENT
BEGIN:VEVENT
DTSTART;TZID=America/Toronto:20260327T183000
DTEND;TZID=America/Toronto:20260327T203000
DTSTAMP:20260419T150128
CREATED:20260227T183704Z
LAST-MODIFIED:20260227T183713Z
UID:10004779-1774636200-1774643400@maxottawa.ca
SUMMARY:K1 en Français
DESCRIPTION:Habiter en paix. Vivre sans se cacher. Trouver un espace sécuritaire. \n\n\n\nCe mois-ci\, on parle : \n\n\n\n✨ Colocation queer✨ Éviter les scams✨ Sécurité logement✨ Droits des locataires \n\n\n\nPour les personnes noires queers\, incluant les personnes trans et non-binaires. \n\n\n\nInscrivez-vous : \n\n\n\n\n\n\n\n\n\n\n\n\n\n\n\nNotes sur l’accessibilité :\n\n\n\n\nNotre immeuble dispose de trois ascenseurs et notre bureau est entièrement accessible aux personnes utilisant un fauteuil roulant. Une salle de bain neutre et accessible en fauteuil roulant se trouve juste à l’extérieur de notre bureau. Veuillez nous informer à l’avance si vous avez besoin de mesures d’adaptation supplémentaires.\n\n\n\nNotre bureau est situé tout près des arrêts d’autobus des lignes 6\, 7 et 11. Nous sommes à environ 5 minutes de marche de l’arrêt le plus proche pour la ligne 14 et à environ 10 minutes de marche de la station Parlement (ligne 1 de l’O-Train). Plusieurs stationnements et garages payants se trouvent également à distance de marche. Si le transport représente un obstacle à votre participation à une séance\, faites-nous signe — nous ferons de notre mieux pour vous aider!\n\n\n\nSi vous arrivez après 18 h 30\, les portes et les ascenseurs seront verrouillés. Pas d’inquiétude — appuyez simplement sur la sonnerie de MAX située sur le côté de la porte ou appelez-nous au 613-701-6555 ou au 343-307-0494. (Vous pouvez aussi nous contacter sur WhatsApp!)\n\n\n\nVous êtes inscrit·e à une séance mais n’êtes plus disponible pour y assister? Aucun problème — envoyez-nous simplement un courriel à a.arakaza@maxottawa.ca dès que possible.
URL:https://maxottawa.ca/list/k1-en-francais-6/
LOCATION:MAX Ottawa\, 400 Cooper St. Suite 9004\, Ottawa\, Ontario\, K2P 2H8\, Canada
CATEGORIES:En français,MAX Programs,Ottawa
ORGANIZER;CN="MAX Ottawa":MAILTO:info@maxottawa.ca
END:VEVENT
END:VCALENDAR