BEGIN:VCALENDAR
VERSION:2.0
PRODID:-//MAX Ottawa - ECPv6.15.20//NONSGML v1.0//EN
CALSCALE:GREGORIAN
METHOD:PUBLISH
X-WR-CALNAME:MAX Ottawa
X-ORIGINAL-URL:https://maxottawa.ca
X-WR-CALDESC:Events for MAX Ottawa
REFRESH-INTERVAL;VALUE=DURATION:PT1H
X-Robots-Tag:noindex
X-PUBLISHED-TTL:PT1H
BEGIN:VTIMEZONE
TZID:America/Toronto
BEGIN:DAYLIGHT
TZOFFSETFROM:-0500
TZOFFSETTO:-0400
TZNAME:EDT
DTSTART:20250309T070000
END:DAYLIGHT
BEGIN:STANDARD
TZOFFSETFROM:-0400
TZOFFSETTO:-0500
TZNAME:EST
DTSTART:20251102T060000
END:STANDARD
BEGIN:DAYLIGHT
TZOFFSETFROM:-0500
TZOFFSETTO:-0400
TZNAME:EDT
DTSTART:20260308T070000
END:DAYLIGHT
BEGIN:STANDARD
TZOFFSETFROM:-0400
TZOFFSETTO:-0500
TZNAME:EST
DTSTART:20261101T060000
END:STANDARD
BEGIN:DAYLIGHT
TZOFFSETFROM:-0500
TZOFFSETTO:-0400
TZNAME:EDT
DTSTART:20270314T070000
END:DAYLIGHT
BEGIN:STANDARD
TZOFFSETFROM:-0400
TZOFFSETTO:-0500
TZNAME:EST
DTSTART:20271107T060000
END:STANDARD
END:VTIMEZONE
BEGIN:VEVENT
DTSTART;TZID=America/Toronto:20260328T093000
DTEND;TZID=America/Toronto:20260328T143000
DTSTAMP:20260424T014906
CREATED:20250715T173735Z
LAST-MODIFIED:20260408T161107Z
UID:10004405-1774690200-1774708200@maxottawa.ca
SUMMARY:Out and About Saturdays
DESCRIPTION:OSPN in partnership with The Good Companions is delighted to offer in person programming to our 55+ LGBTQ2+ community.  \n\n\n\nJoin us every second and fourth Saturday of the month for a range of engaging activities\, from educational workshops to social programming\, all designed to foster connection\, support\, and enjoyment. Our goal is to create a welcoming environment where everyone can feel comfortable\, respected\, and celebrate.
URL:https://maxottawa.ca/list/out-and-about-saturdays/2026-03-28/
LOCATION:The Good Companions\, 670 Albert Street
CATEGORIES:Ottawa,Regular programming,Social
END:VEVENT
BEGIN:VEVENT
DTSTART;TZID=America/Toronto:20260328T110000
DTEND;TZID=America/Toronto:20260328T150000
DTSTAMP:20260424T014906
CREATED:20260303T190717Z
LAST-MODIFIED:20260303T190735Z
UID:10004783-1774695600-1774710000@maxottawa.ca
SUMMARY:TDOV Flash Day
DESCRIPTION:Lucky Rabbit Collective is hosting its 5th flash day for #tdov with special guests\, @minkpoor and @sabbatma.PLUS\, a tattoo raffle with all proceeds being donated to @ottawa_trans_library!*All time slots will be pre-booked (NO WALK-INS)*MASKS MANDATORY!* \n\n\n\nHOW TO BOOK: \n\n\n\n*Flash designs will be released on Saturday\, March 14th and will be available to book at 12 PM the same day.*Please contact the individual artist (@fleischchurch\, @minkpoor\, @sabbatma\, or @sarsen_tattooer) via DM and be ready with the following: \n\n\n\n\nDesign choice\n\n\n\nPlacement (arms and legs ONLY)\n\n\n\nA deposit of $50 to secure your spot\, first come first serve.\n\n\n\n\nADDITIONAL NOTES: \n\n\n\n*Designs will range from $100-$200 (this includes the $50 deposit).*Designs are final\, and will be tattooed between 3″-5″ and in linework or blackwork ONLY.*Deposits are nonrefundable!Any questions? Message the artist or comment on the post linked below!
URL:https://maxottawa.ca/list/tdov-flash-day-2/
LOCATION:The Grove\, 18 Louisa St.\, Ottawa\, Ontario\, K1R6Y6\, Canada
CATEGORIES:Ottawa
END:VEVENT
BEGIN:VEVENT
DTSTART;TZID=America/Toronto:20260328T130000
DTEND;TZID=America/Toronto:20260328T140000
DTSTAMP:20260424T014906
CREATED:20260303T184528Z
LAST-MODIFIED:20260303T184532Z
UID:10004781-1774702800-1774706400@maxottawa.ca
SUMMARY:Health and Long Term Care Presentation
DESCRIPTION:Third Period: What’s YOUR game plan? \n\n\n\nDespite Hollander’s doubts\, it’s happening. By your third stage of life\, strategy becomes essential. Even top performers should prepare for setbacks such as injuries or challenges. When difficulties arise\, can your team fill the gap? Preparation and planning ensure you’re ready for whatever comes before time runs out. \n\n\n\nJoin us on March 28th to discuss strategies and get answers on issues such as aging at home safely\, in home services\, moving to a retirement home or LTC\, getting your legal and financial affairs in order and how to navigate the health care system. \n\n\n\nThe presentation will consist of a panel briefly presenting information on the following subjects: \n\n\n\nAging at HomeIn home servicesAfter Living at HomeNavigating the systemGetting your affairs in order \n\n\n\nAfter the presentation you will have an opportunity to meet with one or more of the panellists for a more in-depth discussion of the subjects that are most important to you. \n\n\n\nPlease RSVP to georgeis@rogers.com before March 25th.
URL:https://maxottawa.ca/list/health-and-long-term-care-presentation/
LOCATION:The Good Companions\, 670 Albert St.\, Ottawa\, Ontario\, K1R 6L2\, Canada
CATEGORIES:Health & Wellness,Ottawa
END:VEVENT
BEGIN:VEVENT
DTSTART;TZID=America/Toronto:20260328T190000
DTEND;TZID=America/Toronto:20260328T220000
DTSTAMP:20260424T014906
CREATED:20241029T205445Z
LAST-MODIFIED:20241106T153226Z
UID:10000268-1774724400-1774735200@maxottawa.ca
SUMMARY:Bottomless Dine & Drag Dinner
DESCRIPTION:Every week\, on Saturday night\, Vanitea is the destination for the no. 1 voted drag dinner\, presented by beloved house host Devona Coe and a rotating calendar of featured local and visiting drag queens.Delivering their struts\, gag-worthy performances & all-over sass for your Saturday night pleasure\, + a fabulous 3 course tower (with meal included) and bottomless drinks!
URL:https://maxottawa.ca/list/bottomless-dine-drag-dinner/2026-03-28/
LOCATION:The Vanitea Room\, 551 Somerset St West\, Ottawa\, ON\, K1R 5J9\, Canada
CATEGORIES:Drag & Burlesque,Nightlife
END:VEVENT
BEGIN:VEVENT
DTSTART;TZID=America/Toronto:20260328T200000
DTEND;TZID=America/Toronto:20260328T230000
DTSTAMP:20260424T014906
CREATED:20260116T182143Z
LAST-MODIFIED:20260116T182311Z
UID:10004410-1774728000-1774738800@maxottawa.ca
SUMMARY:The Rougettes Present: Rouge Light District
DESCRIPTION:Join us for a titillating evening of Burlesque as the Rougettes welcome you back to the Rouge Light District! \n\n\n\nWe’re celebrating our 8th anniversary with stunning solos\, fun surprises\, and some of our favourite group acts. \n\n\n\nSTARRING:\n\n\n\n\nAva Adore\n\n\n\nBabycakes\n\n\n\nBerry Bomb\n\n\n\nCaramel Spysse\n\n\n\nMistress Mae\n\n\n\nRosa Diamond\n\n\n\nSunday Best\n\n\n\nViva van Diva\n\n\n\nSpecial Guest: Randi Rouge\n\n\n\nHosted by Rhapsody Blue\n\n\n\n\nGet ready for group acts\, solo performance\, and gogo sets throughout the evening\, as well as the opportunity to purchase merch and crafts from local makers.  \n\n\n\nGuests under 18 must be accompanied by an adult.  \n\n\n\nAccessibility notes: venue is fully wheelchair accessible and an elevator is available; masks are encouraged but not mandatory; ear plugs will be available
URL:https://maxottawa.ca/list/the-rougettes-present-rouge-light-district/
LOCATION:Meridian Theatre\, 101 Centrepoint Dr.\, Nepean\, Ontario\, K2G5K7\, Canada
CATEGORIES:Drag & Burlesque,Nightlife,Ottawa
ORGANIZER;CN="Viva van Diva":MAILTO:vivavandee@gmail.com
END:VEVENT
END:VCALENDAR