BEGIN:VCALENDAR
VERSION:2.0
PRODID:-//MAX Ottawa - ECPv6.15.20//NONSGML v1.0//EN
CALSCALE:GREGORIAN
METHOD:PUBLISH
X-ORIGINAL-URL:https://maxottawa.ca
X-WR-CALDESC:Events for MAX Ottawa
REFRESH-INTERVAL;VALUE=DURATION:PT1H
X-Robots-Tag:noindex
X-PUBLISHED-TTL:PT1H
BEGIN:VTIMEZONE
TZID:America/Toronto
BEGIN:DAYLIGHT
TZOFFSETFROM:-0500
TZOFFSETTO:-0400
TZNAME:EDT
DTSTART:20250309T070000
END:DAYLIGHT
BEGIN:STANDARD
TZOFFSETFROM:-0400
TZOFFSETTO:-0500
TZNAME:EST
DTSTART:20251102T060000
END:STANDARD
BEGIN:DAYLIGHT
TZOFFSETFROM:-0500
TZOFFSETTO:-0400
TZNAME:EDT
DTSTART:20260308T070000
END:DAYLIGHT
BEGIN:STANDARD
TZOFFSETFROM:-0400
TZOFFSETTO:-0500
TZNAME:EST
DTSTART:20261101T060000
END:STANDARD
BEGIN:DAYLIGHT
TZOFFSETFROM:-0500
TZOFFSETTO:-0400
TZNAME:EDT
DTSTART:20270314T070000
END:DAYLIGHT
BEGIN:STANDARD
TZOFFSETFROM:-0400
TZOFFSETTO:-0500
TZNAME:EST
DTSTART:20271107T060000
END:STANDARD
END:VTIMEZONE
BEGIN:VEVENT
DTSTART;TZID=America/Toronto:20260421T183000
DTEND;TZID=America/Toronto:20260421T200000
DTSTAMP:20260421T053835
CREATED:20260331T153738Z
LAST-MODIFIED:20260416T202021Z
UID:10004847-1776796200-1776801600@maxottawa.ca
SUMMARY:Queerspora: Kit Packing Party
DESCRIPTION:Join us to pack harm reduction kits to support people in our communities. Come meet some new people and learn about the principles of harm reduction\, including why these supplies are important and how they help reduce sexual health risks.
URL:https://maxottawa.ca/list/queerspora-kit-packing-party/
LOCATION:Centretown Community Health Centre\, 420 Cooper Street\, Ottawa\, Ontario\, K2P 0H2\, Canada
CATEGORIES:MAX Programs,Ottawa
ORGANIZER;CN="MAX Ottawa":MAILTO:info@maxottawa.ca
END:VEVENT
BEGIN:VEVENT
DTSTART;TZID=America/Toronto:20260421T183000
DTEND;TZID=America/Toronto:20260421T203000
DTSTAMP:20260421T053835
CREATED:20260402T191556Z
LAST-MODIFIED:20260402T191615Z
UID:10004884-1776796200-1776803400@maxottawa.ca
SUMMARY:Frontrunners: Weekly Run & Coffee
DESCRIPTION:Run or walk with Frontrunners and join them for a beverage or supper after (place to be determined).  \n\n\n\nAll runs begin at the Lisgar Street entrance of City Hall\, 111 Lisgar. \n\n\n\nCancellation of runs are rare\, only owing to holidays and hazardous weather. When runs are cancelled\, they post a notice on their site and send an e-mail to members.
URL:https://maxottawa.ca/list/frontrunners-weekly-run-coffee/2026-04-21/
LOCATION:City Hall (Lisgar St Entrance)\, 111 Lisgar\, Ottawa\, ON\, Canada
CATEGORIES:Ottawa,Sports and recreation
END:VEVENT
BEGIN:VEVENT
DTSTART;TZID=America/Toronto:20260421T190000
DTEND;TZID=America/Toronto:20260421T203000
DTSTAMP:20260421T053835
CREATED:20260306T221946Z
LAST-MODIFIED:20260306T222000Z
UID:10004792-1776798000-1776803400@maxottawa.ca
SUMMARY:Digestion\, Maturation\, and Death - Queer Death Salon
DESCRIPTION:Queer Death Salon is a community space for all 2SLGBTQIA+ people to come together to discuss death\, dying and grief. It is a facilitated drop-in discussion space\, with the purpose of building connection\, skill\, and resources for 2SLGBTQIA+ people navigating end of life in our personal lives and in our communities. \n\n\n\nCome try on a lens through which we see death as a natural part of cyclical human maturation\, and digestion of experience as an ongoing\, mundane yet essential practice of being with death. \n\n\n\nhannah is a somatics practitioner\, bodyworker & facilitator who roots her work in the unshakeable knowing that the wisdom of your body is your birthright\, and that this wisdom is the heart of transformation & healing for personal & collective liberation.
URL:https://maxottawa.ca/list/digestion-maturation-and-death-queer-death-salon/
LOCATION:https://maxottawa.ca/list/digestion-maturation-and-death-queer-death-salon/
CATEGORIES:Health & Wellness,Regular programming,Virtual event
ORGANIZER;CN="Queer Community Deathcare":MAILTO:Queercommunitydeathcare@gmail.com
END:VEVENT
BEGIN:VEVENT
DTSTART;TZID=America/Toronto:20260421T190000
DTEND;TZID=America/Toronto:20260421T230000
DTSTAMP:20260421T053835
CREATED:20260330T195243Z
LAST-MODIFIED:20260330T195248Z
UID:10004844-1776798000-1776812400@maxottawa.ca
SUMMARY:Stud Country {Achey Breaky Line Dancing}
DESCRIPTION:Line Dancing Night is booked and expect it to be busy \n\n\n\nMarch sold out and you all showed UP 👢🔥 so we’re doing it again \n\n\n\nExpect a sweaty\, high energy queer dance floorHalf lesson\, half party\, all vibes 🎶 \n\n\n\nBoots stomping\, hips shaking\, zero pressure to be perfectJust come move and have fun \n\n\n\n💃 With Jason Bett17+ years of experience and one of our faves in the Ottawa queer scene 🏳️‍🌈 \n\n\n\n🤠 What’s going down• Beginner friendly lesson• Open dance floor after• Super welcoming space 💜 \n\n\n\n✨ Go at your own paceNo pressure to keep up\, just enjoy it and come back each month \n\n\n\n👀 Come dance\, hang\, or just watch the chaos unfold \n\n\n\n✨ ThemeDenim\, fringe\, chaps\, spurs bring the country fantasy \n\n\n\n🔥 It gets hot so dress light \n\n\n\n📩 Questions DM us or email queering613@gmail.com \n\n\n\nWe acknowledge this takes place on unceded Algonquin Territory 🏞️
URL:https://maxottawa.ca/list/stud-country-achey-breaky-line-dancing-3/
LOCATION:Overflow Brewery\, 2477 Kaladar ave.\, Ottawa\, Ontario\, K1V 8B9\, Canada
CATEGORIES:Ottawa
ORGANIZER;CN="Queering 613":MAILTO:queering613@gmail.com
END:VEVENT
BEGIN:VEVENT
DTSTART;TZID=America/Toronto:20260421T190000
DTEND;TZID=America/Toronto:20260421T233000
DTSTAMP:20260421T053835
CREATED:20260416T154311Z
LAST-MODIFIED:20260416T154317Z
UID:10004964-1776798000-1776814200@maxottawa.ca
SUMMARY:Stitch & Bitch
DESCRIPTION:Looking for a Tuesday evening social? T’s Pub runs a weekly craft social. Bring your craft stuff over with some friends!
URL:https://maxottawa.ca/list/stitch-bitch/2026-04-21/
LOCATION:T’s Pub\, 323 Somerset St W\, Ottawa\, Ontario\, K2P 0J8\, Canada
CATEGORIES:Art,Ottawa,Social
END:VEVENT
END:VCALENDAR