BEGIN:VCALENDAR
VERSION:2.0
PRODID:-//MAX Ottawa - ECPv6.15.20//NONSGML v1.0//EN
CALSCALE:GREGORIAN
METHOD:PUBLISH
X-WR-CALNAME:MAX Ottawa
X-ORIGINAL-URL:https://maxottawa.ca
X-WR-CALDESC:Events for MAX Ottawa
REFRESH-INTERVAL;VALUE=DURATION:PT1H
X-Robots-Tag:noindex
X-PUBLISHED-TTL:PT1H
BEGIN:VTIMEZONE
TZID:America/Toronto
BEGIN:DAYLIGHT
TZOFFSETFROM:-0500
TZOFFSETTO:-0400
TZNAME:EDT
DTSTART:20240310T070000
END:DAYLIGHT
BEGIN:STANDARD
TZOFFSETFROM:-0400
TZOFFSETTO:-0500
TZNAME:EST
DTSTART:20241103T060000
END:STANDARD
BEGIN:DAYLIGHT
TZOFFSETFROM:-0500
TZOFFSETTO:-0400
TZNAME:EDT
DTSTART:20250309T070000
END:DAYLIGHT
BEGIN:STANDARD
TZOFFSETFROM:-0400
TZOFFSETTO:-0500
TZNAME:EST
DTSTART:20251102T060000
END:STANDARD
BEGIN:DAYLIGHT
TZOFFSETFROM:-0500
TZOFFSETTO:-0400
TZNAME:EDT
DTSTART:20260308T070000
END:DAYLIGHT
BEGIN:STANDARD
TZOFFSETFROM:-0400
TZOFFSETTO:-0500
TZNAME:EST
DTSTART:20261101T060000
END:STANDARD
END:VTIMEZONE
BEGIN:VEVENT
DTSTART;TZID=America/Toronto:20251201T100000
DTEND;TZID=America/Toronto:20251201T140000
DTSTAMP:20260426T000738
CREATED:20251114T220959Z
LAST-MODIFIED:20251114T221005Z
UID:10003629-1764583200-1764597600@maxottawa.ca
SUMMARY:ACO: World AIDS Day
DESCRIPTION:Join us on December 1st near the Centennial Flame at Parliament Hill as the AIDS Committee of Ottawa commemorate World AIDS Day. \n\n\n\n🕙 10–11 AM (near the Centennial Flame at Parliament Hill)Red Scarves DistributionIndigenous Opening CeremonySpecial Guest SpeakersRed Ribbon Flag Raising Ceremony \n\n\n\n🕛 12–2 PM (National Arts Centre | 1 Elgin Street)Reception & LunchIndigenous Opening CeremonyAIDS Quilt CeremonyCommunity FairPerformances by Local Artists \n\n\n\nLet’s come together to honour lives\, raise awareness\, and strengthen community. \n\n\n\n🙏 A huge thank you to ViiV Healthcare and Gilead for sponsoring this important event! \n\n\n\n📍 Details & Contact: Khaled Salam | (613) 238-5014 ext. 234 | khaled@aco-cso.ca
URL:https://maxottawa.ca/list/aco-world-aids-day/
CATEGORIES:Advocacy & empowerment,Educational,Nationally recognized dates,Ottawa
END:VEVENT
BEGIN:VEVENT
DTSTART;TZID=America/Toronto:20251201T180000
DTEND;TZID=America/Toronto:20251201T200000
DTSTAMP:20260426T000738
CREATED:20251126T190551Z
LAST-MODIFIED:20251126T190727Z
UID:10003773-1764612000-1764619200@maxottawa.ca
SUMMARY:Day With(out) Art
DESCRIPTION:📅 Opening Talk & Screening: Monday\, December 1st\, 2025⁠ | 6 – 8 PM⁠📅Looping Screening: December 2 – 4\, 2025⁠ | 10 AM – 5 PM⁠📍 DARC’s Microcinema | 67 Nicholas St⁠ \n\n\n\nDARC and @qu.art.ottawa are proud to partner with @visual_aids for Day With(out) Art 2025 by presenting Meet Us Where We’re At\, a program of six videos that forefront the experiences of drug users and harm reduction practices as they intersect with the ongoing HIV crisis. ⁠⁠The program features new work by Camilo Tapia Flores\, Camila Flores-Fernández\, Hoàng Thái Anh\, Kenneth Idongesit Usoro\, José Luis Cortés\, and Gustavo Vinagre & Vinicius Couto.⁠⁠A day of mourning and action that uses art to respond to the ongoing HIV and AIDS crisis\, Day With(out) Art encourages museums\, universities\, and art institutions to present related programming on or around December 1\, World AIDS Day. Because AIDS is not over!⁠ \n\n\n\nCommissioned videos by artists in Puerto Rico\, Brazil\, Nigeria\, Germany\, and Vietnam journey across a range of spaces\, revealing the complexity of drug use. Several videos document the visible world of drugs—a harm reduction program in a Berlin park\, a night out during Rio’s Carnival—while others reveal private\, often hidden spaces where safety is found: bedrooms\, underground clinics\, and moments of connection between lovers. \n\n\n\nMeet Us Where We’re At speaks not only to the variety of physical locations where contemporary harm reduction is practiced\, but also to a broader shift: centering drug users as authors of their own experiences. Rooted in the philosophy of meeting people at their personal reality without judgment\, the program affirms the full context of drug use—its pleasures\, its risks\, and its role in how people survive\, care\, and connect. \n\n\n\nHarm reduction has long been central to the AIDS movement through practices like needle exchange and safe injection sites\, and people who use drugs have been affected by HIV since the earliest days of the epidemic. This program brings their perspectives to the forefront\, amplifying the voices of drug users as storytellers\, cultural producers\, and essential participants in the global response to HIV. \n\n\n\nAs this is a program centering harm reduction\, it will contain depictions of sexual activity and drug use. \n\n\n\nVisual AIDS is a New York-based non-profit that utilizes art to fight AIDS by provoking dialogue\, supporting HIV+ artists\, and preserving a legacy\, because AIDS is not over. \n\n\n\nKeynote Speaker Ahmed Muslimani \n\n\n\nAhmed Muslimani is a community health leader\, actor\, and advocate whose work brings together harm reduction\, HIV and sexual health\, and newcomer support. As Director of Community Programs at MAX Ottawa\, they support initiatives that strengthen access to culturally responsive care for queer\, trans\, and non-binary communities across Ottawa. Ahmed has worked closely with LGBTQ+ refugees and newcomers\, supporting them as they navigate settlement\, safety\, and the early stages of community-building. Their background as a performer shapes their belief in storytelling as a practice that builds connection and helps people make sense of their experiences. Ahmed also serves on the Board of Directors of the Ontario HIV Treatment Network. They are committed to approaches rooted in dignity\, lived experience\, and the everyday ways people care for one another. \n\n\n\nSpecial thanks to MAX Ottawa for their support!
URL:https://maxottawa.ca/list/day-without-art/2025-12-01/
LOCATION:DARC Microcinema\, 67 Nicholas St.\, Ottawa\, Ontario\, K1N 7B9\, Canada
CATEGORIES:Advocacy & empowerment,Art,Film,Ottawa
ORGANIZER;CN="Qu'ART":MAILTO:queerart2019@gmail.com
END:VEVENT
BEGIN:VEVENT
DTSTART;TZID=America/Toronto:20251202T100000
DTEND;TZID=America/Toronto:20251204T170000
DTSTAMP:20260426T000738
CREATED:20251126T190551Z
LAST-MODIFIED:20251126T190727Z
UID:10003774-1764669600-1764867600@maxottawa.ca
SUMMARY:Day With(out) Art
DESCRIPTION:📅 Opening Talk & Screening: Monday\, December 1st\, 2025⁠ | 6 – 8 PM⁠📅Looping Screening: December 2 – 4\, 2025⁠ | 10 AM – 5 PM⁠📍 DARC’s Microcinema | 67 Nicholas St⁠ \n\n\n\nDARC and @qu.art.ottawa are proud to partner with @visual_aids for Day With(out) Art 2025 by presenting Meet Us Where We’re At\, a program of six videos that forefront the experiences of drug users and harm reduction practices as they intersect with the ongoing HIV crisis. ⁠⁠The program features new work by Camilo Tapia Flores\, Camila Flores-Fernández\, Hoàng Thái Anh\, Kenneth Idongesit Usoro\, José Luis Cortés\, and Gustavo Vinagre & Vinicius Couto.⁠⁠A day of mourning and action that uses art to respond to the ongoing HIV and AIDS crisis\, Day With(out) Art encourages museums\, universities\, and art institutions to present related programming on or around December 1\, World AIDS Day. Because AIDS is not over!⁠ \n\n\n\nCommissioned videos by artists in Puerto Rico\, Brazil\, Nigeria\, Germany\, and Vietnam journey across a range of spaces\, revealing the complexity of drug use. Several videos document the visible world of drugs—a harm reduction program in a Berlin park\, a night out during Rio’s Carnival—while others reveal private\, often hidden spaces where safety is found: bedrooms\, underground clinics\, and moments of connection between lovers. \n\n\n\nMeet Us Where We’re At speaks not only to the variety of physical locations where contemporary harm reduction is practiced\, but also to a broader shift: centering drug users as authors of their own experiences. Rooted in the philosophy of meeting people at their personal reality without judgment\, the program affirms the full context of drug use—its pleasures\, its risks\, and its role in how people survive\, care\, and connect. \n\n\n\nHarm reduction has long been central to the AIDS movement through practices like needle exchange and safe injection sites\, and people who use drugs have been affected by HIV since the earliest days of the epidemic. This program brings their perspectives to the forefront\, amplifying the voices of drug users as storytellers\, cultural producers\, and essential participants in the global response to HIV. \n\n\n\nAs this is a program centering harm reduction\, it will contain depictions of sexual activity and drug use. \n\n\n\nVisual AIDS is a New York-based non-profit that utilizes art to fight AIDS by provoking dialogue\, supporting HIV+ artists\, and preserving a legacy\, because AIDS is not over. \n\n\n\nKeynote Speaker Ahmed Muslimani \n\n\n\nAhmed Muslimani is a community health leader\, actor\, and advocate whose work brings together harm reduction\, HIV and sexual health\, and newcomer support. As Director of Community Programs at MAX Ottawa\, they support initiatives that strengthen access to culturally responsive care for queer\, trans\, and non-binary communities across Ottawa. Ahmed has worked closely with LGBTQ+ refugees and newcomers\, supporting them as they navigate settlement\, safety\, and the early stages of community-building. Their background as a performer shapes their belief in storytelling as a practice that builds connection and helps people make sense of their experiences. Ahmed also serves on the Board of Directors of the Ontario HIV Treatment Network. They are committed to approaches rooted in dignity\, lived experience\, and the everyday ways people care for one another. \n\n\n\nSpecial thanks to MAX Ottawa for their support!
URL:https://maxottawa.ca/list/day-without-art/2025-12-02/
LOCATION:DARC Microcinema\, 67 Nicholas St.\, Ottawa\, Ontario\, K1N 7B9\, Canada
CATEGORIES:Advocacy & empowerment,Art,Film,Ottawa
ORGANIZER;CN="Qu'ART":MAILTO:queerart2019@gmail.com
END:VEVENT
BEGIN:VEVENT
DTSTART;TZID=America/Toronto:20251205T183000
DTEND;TZID=America/Toronto:20251205T203000
DTSTAMP:20260426T000738
CREATED:20250924T212218Z
LAST-MODIFIED:20250924T212231Z
UID:10003508-1764959400-1764966600@maxottawa.ca
SUMMARY:Groupe de soutien trans 16 ans+ virtuel
DESCRIPTION:Trans Outaouais offre à nouveau son groupe de soutien virtuel pour les membres de la communauté trans et ses allié·es\, ainsi que personnes en questionnement de 16 ans et plus mensuellement à partir de septembre 2025. \n\n\n\nJoignez-vous au groupe virtuel tous les 1er vendredi du mois de 18h30 à 20h30 pour une chance de partager nos expériences\, de poser nos questions et de s’offrir une écoute bienveillante entre nous. \n\n\n\nInscription : \n\n\n\nPour participer\, inscrivez-vous en utilisant le formulaire au bas de la page. Une fois inscrit·e\, vous recevrez le lien pour vous connecter au groupe sur la plateforme Zoom au plus tard la veille du groupe. Vous serez contacté en cas d’annulation ou de changement de dates. \n\n\n\nPour plus d’informations\, n’hésitez pas à nous contacter à info@transoutaouais.com.
URL:https://maxottawa.ca/list/groupe-de-soutien-trans-16-ans-virtuel/2025-12-05/
CATEGORIES:Advocacy & empowerment,En français,Outaouais,Regular programming,Service,Youth
ORGANIZER;CN="Trans Outaouais":MAILTO:info@transoutaouais.com
LOCATION:https://maxottawa.ca/list/groupe-de-soutien-trans-16-ans-virtuel/2025-12-05/
END:VEVENT
BEGIN:VEVENT
DTSTART;TZID=America/Toronto:20251212T183000
DTEND;TZID=America/Toronto:20251212T203000
DTSTAMP:20260426T000738
CREATED:20251129T012304Z
LAST-MODIFIED:20251129T012455Z
UID:10003777-1765564200-1765571400@maxottawa.ca
SUMMARY:Confidence Is Key - Ballroom Workshop Series: Winter Edition
DESCRIPTION:MAX Ottawa is proud to present the Winter Edition of Confidence Is Key – Ballroom Workshop Series (Vol. 3)\, featuring legends from the Toronto Kiki Ballroom scene. Our Friday and Sunday workshops are in partnership with the City of Ottawa and Kiki House of Siriano. \n\n\n\n✨ Event Notes \n\n\n\n\nAll workshops are FREE\n\n\n\nVenues are wheelchair accessible\n\n\n\nHosted primarily in English\n\n\n\nLight refreshments provided (water/snacks)\n\n\n\nPlease wear comfortable clothing for movement\n\n\n\nFilming will take place at specific moments — let a volunteer know if you prefer not to be filmed\n\n\n\nPlease RSVP to the workshops you’d like through the form linked below\n\n\n\nQuestions? Contact Antonio: a.wilson@maxottawa.ca\n\n\n\n\nThis season’s workshop lineup\n\n\n\nFriday\, December 12 – 6:30 PM to 8:30 PM 💫 Runway (All American) with Prince Sayeed Telfar 📍 McNabb Recreation Centre – 180 Percy Street\, Ottawa\, ON \n\n\n\nSaturday\, December 13 – 12:00 PM to 2:00 PM ✨ Runway (European) with Legendary Pleasure Juicy Couture 📍 Arts Court Courtroom – 2 Daly Avenue\, Ottawa\, ON \n\n\n\nSaturday\, December 13 – 2:00 PM to 4:00 PM 🔥 Sex Siren with Legendary Godmother Juju Louboutin 📍 Arts Court Courtroom – 2 Daly Avenue\, Ottawa\, ON \n\n\n\nSunday\, December 14 – 12:00 PM to 2:00 PM 🎤 Commentator + DJ with Legendary Charmed Mulan & Legendary Bam Bam Siriano 📍 McNabb Recreation Centre – 180 Percy Street\, Ottawa\, ON
URL:https://maxottawa.ca/list/confidence-is-key-ballroom-workshop-series-winter-edition/2025-12-12/
LOCATION:McNabb Community Centre\, 180 Percy St.\, Ottawa\, Ontario\, K1R 5P4\, Canada
CATEGORIES:Advocacy & empowerment,Art,MAX Programs,Ottawa
ORGANIZER;CN="MAX Ottawa":MAILTO:info@maxottawa.ca
END:VEVENT
BEGIN:VEVENT
DTSTART;TZID=America/Toronto:20251213T120000
DTEND;TZID=America/Toronto:20251213T160000
DTSTAMP:20260426T000738
CREATED:20251129T012308Z
LAST-MODIFIED:20251129T012319Z
UID:10003779-1765627200-1765641600@maxottawa.ca
SUMMARY:Confidence Is Key - Ballroom Workshop Series: Winter Edition
DESCRIPTION:MAX Ottawa is proud to present the Winter Edition of Confidence Is Key – Ballroom Workshop Series (Vol. 3)\, featuring Legends from the Toronto Kiki Ballroom scene. Our Saturday workshops are in partnership with Debaser for Pique\, as well as the City of Ottawa and Kiki House of Siriano. \n\n\n\n✨ Event Notes \n\n\n\n\nAll workshops are FREE\n\n\n\nVenues are wheelchair accessible\n\n\n\nHosted primarily in English\n\n\n\nLight refreshments provided (water/snacks)\n\n\n\nPlease wear comfortable clothing for movement\n\n\n\nFilming will take place at specific moments — let a volunteer know if you prefer not to be filmed\n\n\n\nPlease RSVP to the workshops you’d like through the form linked below\n\n\n\nQuestions? Contact Antonio: a.wilson@maxottawa.ca\n\n\n\n\nThis season’s workshop lineup\n\n\n\nFriday\, December 12 – 6:30 PM to 8:30 PM 💫 Runway (All American) with Prince Sayeed Telfar 📍 McNabb Recreation Centre – 180 Percy Street\, Ottawa\, ON \n\n\n\nSaturday\, December 13 – 12:00 PM to 2:00 PM ✨ Runway (European) with Legendary Pleasure Juicy Couture 📍 Arts Court Courtroom – 2 Daly Avenue\, Ottawa\, ON \n\n\n\nSaturday\, December 13 – 2:00 PM to 4:00 PM 🔥 Sex Siren with Legendary Godmother Juju Louboutin 📍 Arts Court Courtroom – 2 Daly Avenue\, Ottawa\, ON \n\n\n\nSunday\, December 14 – 12:00 PM to 2:00 PM 🎤 Commentator + DJ with Legendary Charmed Mulan & Leg
URL:https://maxottawa.ca/list/confidence-is-key-ballroom-workshop-series-winter-edition-2/
LOCATION:Arts Court\, 2 Daly Ave.\, Ottawa\, Ontario\, K1N 6E2\, Canada
CATEGORIES:Advocacy & empowerment,Art,MAX Programs,Ottawa
ORGANIZER;CN="MAX Ottawa":MAILTO:info@maxottawa.ca
END:VEVENT
BEGIN:VEVENT
DTSTART;TZID=America/Toronto:20251214T120000
DTEND;TZID=America/Toronto:20251214T140000
DTSTAMP:20260426T000738
CREATED:20251129T012304Z
LAST-MODIFIED:20251129T012455Z
UID:10003778-1765713600-1765720800@maxottawa.ca
SUMMARY:Confidence Is Key - Ballroom Workshop Series: Winter Edition
DESCRIPTION:MAX Ottawa is proud to present the Winter Edition of Confidence Is Key – Ballroom Workshop Series (Vol. 3)\, featuring legends from the Toronto Kiki Ballroom scene. Our Friday and Sunday workshops are in partnership with the City of Ottawa and Kiki House of Siriano. \n\n\n\n✨ Event Notes \n\n\n\n\nAll workshops are FREE\n\n\n\nVenues are wheelchair accessible\n\n\n\nHosted primarily in English\n\n\n\nLight refreshments provided (water/snacks)\n\n\n\nPlease wear comfortable clothing for movement\n\n\n\nFilming will take place at specific moments — let a volunteer know if you prefer not to be filmed\n\n\n\nPlease RSVP to the workshops you’d like through the form linked below\n\n\n\nQuestions? Contact Antonio: a.wilson@maxottawa.ca\n\n\n\n\nThis season’s workshop lineup\n\n\n\nFriday\, December 12 – 6:30 PM to 8:30 PM 💫 Runway (All American) with Prince Sayeed Telfar 📍 McNabb Recreation Centre – 180 Percy Street\, Ottawa\, ON \n\n\n\nSaturday\, December 13 – 12:00 PM to 2:00 PM ✨ Runway (European) with Legendary Pleasure Juicy Couture 📍 Arts Court Courtroom – 2 Daly Avenue\, Ottawa\, ON \n\n\n\nSaturday\, December 13 – 2:00 PM to 4:00 PM 🔥 Sex Siren with Legendary Godmother Juju Louboutin 📍 Arts Court Courtroom – 2 Daly Avenue\, Ottawa\, ON \n\n\n\nSunday\, December 14 – 12:00 PM to 2:00 PM 🎤 Commentator + DJ with Legendary Charmed Mulan & Legendary Bam Bam Siriano 📍 McNabb Recreation Centre – 180 Percy Street\, Ottawa\, ON
URL:https://maxottawa.ca/list/confidence-is-key-ballroom-workshop-series-winter-edition/2025-12-14/
LOCATION:McNabb Community Centre\, 180 Percy St.\, Ottawa\, Ontario\, K1R 5P4\, Canada
CATEGORIES:Advocacy & empowerment,Art,MAX Programs,Ottawa
ORGANIZER;CN="MAX Ottawa":MAILTO:info@maxottawa.ca
END:VEVENT
BEGIN:VEVENT
DTSTART;TZID=America/Toronto:20251219T183000
DTEND;TZID=America/Toronto:20251219T203000
DTSTAMP:20260426T000738
CREATED:20250924T213200Z
LAST-MODIFIED:20250924T213206Z
UID:10003511-1766169000-1766176200@maxottawa.ca
SUMMARY:Groupe de soutien par et pour les personnes trans et non-binaires (16+) en présentiel
DESCRIPTION:Trans Outaouais offre son groupe de soutien en présentiel pour les membres de la communauté trans et ses allié·es\, ainsi que personnes en questionnement de 16 ans et plus mensuellement. \n\n\n\nRejoignez-nous pour des discussions enrichissantes tous les 3e vendredi du mois de 18h30 à 20h30\, à la 🏠Maison Communautaire Daniel-Johnson\, 22 Rue Arthur-Buies\, Gatineau\, QC\, pour une chance de partager nos expériences\, de poser nos questions et de s’offrir une écoute bienveillante entre nous.✨ \n\n\n\nVenez seul.e ou accompagné·e d’une personne rencontrer des membres de la communauté de la diversité de genre en Outaouais. \n\n\n\nLe déroulement des groupes (en personne et virtuel) : \n\n\n\n\nTour de table pour se présenter (participation obligatoire)\n\n\n\nPrésentation du groupe (qui est Trans Outaouais\, quel est l’objectif du groupe\, reconnaissance des territoires)\n\n\n\nRègles de bon fonctionnement (confidentialité\, besoins d’accessibilité\, règlements\, info sur le local/sur le fonctionnement de Zoom)\n\n\n\nPartage sur le sujet au choix des participant·es ou suggéré par l’animateurice (participation optionnelle\, mais encouragée). Pause de 10 minutes après 30 minutes.\n\n\n\n« Check-in » avant la fin du groupe (participation optionnelle)\n\n\n\nAnnonces (messages de Trans Outaouais\, événements à venir\, etc.)\n\n\n\nFin du groupe.\n\n\n\n\nÀ propos de l’animation : \n\n\n\nStéph Meunier (iel/ellui\, il/lui\, elle) anime des groupes de soutien et des ateliers pour la communauté 2SLGBTQIA+ depuis plus de 10 ans. Iel anime le groupe trans 16 ans + de Trans Outaouais depuis 2024 et a travaillé avec l’organisme alors qu’iel travaillait chez Jeunesse Idem comme intervenant·e. Son approche est ancrée dans l’anti-oppression et la justice sociale. Son animation vise à encourager l’empowerment des participant·es et à cultiver l’entraide et un sens d’appartenance à la communauté que l’on construit ensemble. Au quotidien\, Stéph aime chanter avec des ami·es\, nager\, faire de l’art et vivre en coop d’habitation.
URL:https://maxottawa.ca/list/groupe-de-soutien-par-et-pour-les-personnes-trans-et-non-binaires-16-en-presentiel/2025-12-19/
LOCATION:Maison Communautaire Daniel-Johnson\, 22 Rue Arthur-Buies\, Gatineau\, Quebec\, J8Z 1P5\, Canada
CATEGORIES:Advocacy & empowerment,En français,Outaouais,Quebec,Regular programming,Service
ORGANIZER;CN="Trans Outaouais":MAILTO:info@transoutaouais.com
END:VEVENT
BEGIN:VEVENT
DTSTART;TZID=America/Toronto:20251219T210000
DTEND;TZID=America/Toronto:20251220T020000
DTSTAMP:20260426T000738
CREATED:20251218T200053Z
LAST-MODIFIED:20251218T200104Z
UID:10003784-1766178000-1766196000@maxottawa.ca
SUMMARY:Fortress for Palestine
DESCRIPTION:Join us for the first ever fortress fundraiser\, with 100 % of profits going to The Sameer Project \n\n\n\nFrom 10 to 2: \n\n\n\n\n\nbeastbunny\n\n\n\nbitrate\n\n\n\nfiamma\n\n\n\ntanner castro\n\n\n\ny3kuzey\n\n\n\n\n\n3 open decks slots available from 9 – 10 \n\n\n\n~ THIS IS NO ORDINARY FORTRESS ~ \n\n\n\nWe will be providing activities for your enjoyment and stimulation\, including but by no means limited to: \n\n\n\n\nsecret gifts in exchange for donations\n\n\n\nholiday card making + crafts\n\n\n\nraffle\n\n\n\n\n!!! We are also sooo excited to announce the return of fortress merch\, and u will even have opportunities to win some !!! \n\n\n\nYou may also choose to donate $2 or $5 directly to the fundraiser when purchasing your ticket online <3 but there will be many more opportunities to donate! 😀 \n\n\n\n19+
URL:https://maxottawa.ca/list/fortress-for-palestine/
LOCATION:SAW\, 67 Nicholas St\, Ottawa\, ON\, K1N 7B9\, Canada
CATEGORIES:Advocacy & empowerment,Nightlife,Ottawa,Parties
END:VEVENT
BEGIN:VEVENT
DTSTART;TZID=America/Toronto:20251220T190000
DTEND;TZID=America/Toronto:20251220T220000
DTSTAMP:20260426T000738
CREATED:20251218T201042Z
LAST-MODIFIED:20251218T201048Z
UID:10003785-1766257200-1766268000@maxottawa.ca
SUMMARY:Santa is Here
DESCRIPTION:This year’s Secret Santa pairs CORAS clients with women from the community in a warm\, supportive space meant to encourage connection\, reintegration\, and the simple joy of sharing our lives with one another–especially over the holidays\, which can be isolating for many.  \n\n\n\nThe Secret Santa is full\, but spots remain for folks interested in coming to the event! \n\n\n\nSpecial performance from Koston Kreme \n\n\n\nVenue shared after registration (through the link below)
URL:https://maxottawa.ca/list/santa-is-here/
CATEGORIES:Advocacy & empowerment,Drag & Burlesque,Ottawa,Parties,Social
ORGANIZER;CN="CORA'S":MAILTO:admin@sswork.org
END:VEVENT
END:VCALENDAR