BEGIN:VCALENDAR
VERSION:2.0
PRODID:-//MAX Ottawa - ECPv6.15.20//NONSGML v1.0//EN
CALSCALE:GREGORIAN
METHOD:PUBLISH
X-ORIGINAL-URL:https://maxottawa.ca
X-WR-CALDESC:Events for MAX Ottawa
REFRESH-INTERVAL;VALUE=DURATION:PT1H
X-Robots-Tag:noindex
X-PUBLISHED-TTL:PT1H
BEGIN:VTIMEZONE
TZID:America/Toronto
BEGIN:DAYLIGHT
TZOFFSETFROM:-0500
TZOFFSETTO:-0400
TZNAME:EDT
DTSTART:20250309T070000
END:DAYLIGHT
BEGIN:STANDARD
TZOFFSETFROM:-0400
TZOFFSETTO:-0500
TZNAME:EST
DTSTART:20251102T060000
END:STANDARD
BEGIN:DAYLIGHT
TZOFFSETFROM:-0500
TZOFFSETTO:-0400
TZNAME:EDT
DTSTART:20260308T070000
END:DAYLIGHT
BEGIN:STANDARD
TZOFFSETFROM:-0400
TZOFFSETTO:-0500
TZNAME:EST
DTSTART:20261101T060000
END:STANDARD
BEGIN:DAYLIGHT
TZOFFSETFROM:-0500
TZOFFSETTO:-0400
TZNAME:EDT
DTSTART:20270314T070000
END:DAYLIGHT
BEGIN:STANDARD
TZOFFSETFROM:-0400
TZOFFSETTO:-0500
TZNAME:EST
DTSTART:20271107T060000
END:STANDARD
END:VTIMEZONE
BEGIN:VEVENT
DTSTART;TZID=America/Toronto:20260111T140000
DTEND;TZID=America/Toronto:20260111T180000
DTSTAMP:20260423T110818
CREATED:20260102T184759Z
LAST-MODIFIED:20260102T184806Z
UID:10004090-1768140000-1768154400@maxottawa.ca
SUMMARY:Transmasc Hours
DESCRIPTION:We are kicking off the new year with an afternoon of arts & crafts – supplies are provided for painting\, bracelet making/beading\, and knitting/felting! Feel free to bring your own projects or indulge in puzzles or coloring : ) We’ll have another voice crack karaoke session in the last hour! \n\n\n\nRSVP: link belowWHO: anyone on the transmasc spectrum
URL:https://maxottawa.ca/list/transmasc-hours/
LOCATION:Ottawa Trans Library\, 1104 Somerset St. West\, Ottawa\, Ontario\, K1Y3C8\, Canada
CATEGORIES:Art,Ottawa,Social
END:VEVENT
BEGIN:VEVENT
DTSTART;TZID=America/Toronto:20260116T180000
DTEND;TZID=America/Toronto:20260116T210000
DTSTAMP:20260423T110818
CREATED:20260115T215008Z
LAST-MODIFIED:20260115T215014Z
UID:10004406-1768586400-1768597200@maxottawa.ca
SUMMARY:Vogue Fem Workshop and Session
DESCRIPTION:Join us this Friday for a Vogue fem workshop AND session with Legendary Overall Motha Maldita Siriano @rdanah 💚 \n\n\n\nLocation: Routhier Community Center: Robert studio (second floor)
URL:https://maxottawa.ca/list/vogue-fem-workshop-and-session/
LOCATION:Routhier Community Centre\, 172 Guigues Ave.\, Ottawa\, Ontario\, K1N 5K4\, Canada
CATEGORIES:Art,Ottawa,Social
ORGANIZER;CN="Touch Grass Kiki":MAILTO:touchgrasskiki@gmail.com
END:VEVENT
BEGIN:VEVENT
DTSTART;TZID=America/Toronto:20260124T100000
DTEND;TZID=America/Toronto:20260124T113000
DTSTAMP:20260423T110818
CREATED:20260115T224734Z
LAST-MODIFIED:20260115T224744Z
UID:10004408-1769248800-1769254200@maxottawa.ca
SUMMARY:Card Making Workshop
DESCRIPTION:Join us for a relaxed\, social card‑making workshop. Create up to three handmade cards\, one Valentine’s Day card and two birthday cards while learning simple techniques and enjoying friendly conversation. No experience needed; step‑by‑step guidance provided. All materials provided. Leave with beautiful\, ready‑to‑give cards.  \n\n\n\nMeet Lise! A Good Companions member since 2019\, Lise has been creating handmade cards for over 15 years. After retiring\, she leaned into her creativity and set up a dedicated craft room at home. She’s excited to meet you and share her love of card‑making.   \n\n\n\nRegister with our 2SLGBTQIA+ Program Coordinator Sarah Rea: srea@thegoodcompanions.ca
URL:https://maxottawa.ca/list/card-making-workshop/
LOCATION:The Good Companions\, 670 Albert St.\, Ottawa\, Ontario\, K1R 6L2\, Canada
CATEGORIES:Art,Educational,Ottawa
END:VEVENT
BEGIN:VEVENT
DTSTART;TZID=America/Toronto:20260124T180000
DTEND;TZID=America/Toronto:20260124T230000
DTSTAMP:20260423T110818
CREATED:20260109T202921Z
LAST-MODIFIED:20260109T202927Z
UID:10004114-1769277600-1769295600@maxottawa.ca
SUMMARY:Craftwerk
DESCRIPTION:Inspired by the recent trending “knit-raves” (and @boo._.66‘s personal love of going out and knitting in places you’d least expect)\, we present Craftwerk! \n\n\n\nA new casual event where music lovers and crafters unite to parallel play. Whether you want to come and socialize with fellow craft lovers or just want to go mute and dance to some new music\, this event welcomes both. As the series continues\, more DJs/musicians will be invited to showcase experimental music\, so in a way\, everybody will be crafting something! Our intention is to create a safe space that is welcoming to all\, for people who want to be in community but find the typical environment of “going out” overwhelming because of socializing or sensory stimuli. For our first event\, we are keeping things nice and calm in tone with the post-holiday winter season. We will be playing some chill house and electronic music for you to sip your drink to and craft whatever your heart desires! \n\n\n\nWhat craft will you be bringing?? \n\n\n\nCraftwerk ft. DJs @boo._.66 and @jasnastyB.Y.O.C. (Bring your own craft projects\, tools\, and supplies – but some collage and art materials will be provided as well 🙂
URL:https://maxottawa.ca/list/craftwerk/
LOCATION:Arlington 5\, 5 Arlington Ave.\, Ottawa\, Ontario\, K2P 1C1\, Canada
CATEGORIES:Art,Nightlife,Ottawa,Social
END:VEVENT
BEGIN:VEVENT
DTSTART;TZID=America/Toronto:20260125T140000
DTEND;TZID=America/Toronto:20260125T170000
DTSTAMP:20260423T110818
CREATED:20250915T182301Z
LAST-MODIFIED:20250915T182307Z
UID:10003484-1769349600-1769360400@maxottawa.ca
SUMMARY:Nonbinary Social and Crafternoon
DESCRIPTION:What to expect: Non-binary people and friends hanging out and crafting. We have supplies for making bracelets\, folding origami\, colored beads\, embroidery floss\, and plastic lace. Volunteer coordinators will be wearing name tags and can help answer any questions you might have. \n\n\n\nIf you would like an idea of what the event space looks like\, check out our recent pics in the gallery. \n\n\n\nWhat to bring: You don’t need to bring anything. You are welcome to bring your own crafting materials. Food and drink is welcome\, also.
URL:https://maxottawa.ca/list/nonbinary-social-and-crafternoon/2026-01-25/
LOCATION:Ottawa Trans Library\, 1104 Somerset St. West\, Ottawa\, Ontario\, K1Y3C8\, Canada
CATEGORIES:Art,Ottawa,Regular programming,Social
END:VEVENT
END:VCALENDAR