BEGIN:VCALENDAR
VERSION:2.0
PRODID:-//MAX Ottawa - ECPv6.15.20//NONSGML v1.0//EN
CALSCALE:GREGORIAN
METHOD:PUBLISH
X-ORIGINAL-URL:https://maxottawa.ca
X-WR-CALDESC:Events for MAX Ottawa
REFRESH-INTERVAL;VALUE=DURATION:PT1H
X-Robots-Tag:noindex
X-PUBLISHED-TTL:PT1H
BEGIN:VTIMEZONE
TZID:America/Toronto
BEGIN:DAYLIGHT
TZOFFSETFROM:-0500
TZOFFSETTO:-0400
TZNAME:EDT
DTSTART:20230312T070000
END:DAYLIGHT
BEGIN:STANDARD
TZOFFSETFROM:-0400
TZOFFSETTO:-0500
TZNAME:EST
DTSTART:20231105T060000
END:STANDARD
BEGIN:DAYLIGHT
TZOFFSETFROM:-0500
TZOFFSETTO:-0400
TZNAME:EDT
DTSTART:20240310T070000
END:DAYLIGHT
BEGIN:STANDARD
TZOFFSETFROM:-0400
TZOFFSETTO:-0500
TZNAME:EST
DTSTART:20241103T060000
END:STANDARD
BEGIN:DAYLIGHT
TZOFFSETFROM:-0500
TZOFFSETTO:-0400
TZNAME:EDT
DTSTART:20250309T070000
END:DAYLIGHT
BEGIN:STANDARD
TZOFFSETFROM:-0400
TZOFFSETTO:-0500
TZNAME:EST
DTSTART:20251102T060000
END:STANDARD
END:VTIMEZONE
BEGIN:VEVENT
DTSTART;TZID=America/Toronto:20241127T173000
DTEND;TZID=America/Toronto:20241127T213000
DTSTAMP:20260422T012045
CREATED:20241121T183323Z
LAST-MODIFIED:20241121T183350Z
UID:10001498-1732728600-1732743000@maxottawa.ca
SUMMARY:SLAB: A/V Zine & Livestream
DESCRIPTION:SLAB audio/visual zine performance and livestream. \n\n\n\nSLAB is an experiment in performance & collaboration. It’s about trying new things\, working together\, & failing enthusiastically. The theme for our first show is ROBOT ROCK. \n\n\n\nYou could contribute music\, dance\, live painting\, light shows\, poetry\, skits\, miming\, etc. etc.– anything at all that you want to do\, we want to showcase. Artists & creators living in Ottawa who can’t make it to the event are encouraged to submit pieces to be aired between live segments at https://forms.gle/KSC3QDgciVmxwdwz6 \n\n\n\nAdditionally: if you want to be a part of the stream day-of\, but don’t want to be on camera\, there will be absolutely no pressure to do so. We’d love to have you help behind the scenes\, from off-camera\, in a mascot costume that fully obscures your human form; whatever suits your needs. You’re free to come & go as you please with no judgement. \n\n\n\nSchedule \n\n\n\n5:30 PM: Doors open \n\n\n\n6 PM – 8:30 PM: Plan the show (general brainstorming & collaboration\, organising segments\, preparing assets) \n\n\n\n8:30 PM: Stream \n\n\n\nThis is a mask-mandatory event & any performance done live in the space will require you to keep your mask on. Depending on volume or general disruptiveness\, some segments may be able to be filmed outside without a mask.
URL:https://maxottawa.ca/list/slab-a-v-zine-livestream/
LOCATION:The Grove\, 18 Louisa St.\, Ottawa\, Ontario\, K1R6Y6\, Canada
CATEGORIES:Art,Social
END:VEVENT
END:VCALENDAR