BEGIN:VCALENDAR
VERSION:2.0
PRODID:-//MAX Ottawa - ECPv6.15.20//NONSGML v1.0//EN
CALSCALE:GREGORIAN
METHOD:PUBLISH
X-ORIGINAL-URL:https://maxottawa.ca
X-WR-CALDESC:Events for MAX Ottawa
REFRESH-INTERVAL;VALUE=DURATION:PT1H
X-Robots-Tag:noindex
X-PUBLISHED-TTL:PT1H
BEGIN:VTIMEZONE
TZID:America/Toronto
BEGIN:DAYLIGHT
TZOFFSETFROM:-0500
TZOFFSETTO:-0400
TZNAME:EDT
DTSTART:20230312T070000
END:DAYLIGHT
BEGIN:STANDARD
TZOFFSETFROM:-0400
TZOFFSETTO:-0500
TZNAME:EST
DTSTART:20231105T060000
END:STANDARD
BEGIN:DAYLIGHT
TZOFFSETFROM:-0500
TZOFFSETTO:-0400
TZNAME:EDT
DTSTART:20240310T070000
END:DAYLIGHT
BEGIN:STANDARD
TZOFFSETFROM:-0400
TZOFFSETTO:-0500
TZNAME:EST
DTSTART:20241103T060000
END:STANDARD
BEGIN:DAYLIGHT
TZOFFSETFROM:-0500
TZOFFSETTO:-0400
TZNAME:EDT
DTSTART:20250309T070000
END:DAYLIGHT
BEGIN:STANDARD
TZOFFSETFROM:-0400
TZOFFSETTO:-0500
TZNAME:EST
DTSTART:20251102T060000
END:STANDARD
END:VTIMEZONE
BEGIN:VEVENT
DTSTART;TZID=America/Toronto:20241211T170000
DTEND;TZID=America/Toronto:20241211T210000
DTSTAMP:20260423T090855
CREATED:20241125T153557Z
LAST-MODIFIED:20241125T153603Z
UID:10001508-1733936400-1733950800@maxottawa.ca
SUMMARY:DIY Fringe Earrings with Soft But Sturdy Beadwork
DESCRIPTION:Come hang out in community and learn to bead​ & construct your very own fringe earrings. \n\n\n\nUse pre-made templates\, your own template or ideas alongside new pals & familiar faces!  \n\n\n\nThis 4-hour workshop is open to all folks​ of all genders (ages 16yo+ due to small parts and sharp needles). You do not have to be Indigenous to take part​. This workshop is Beginner-Friendly. Experienced beaders will learn new tips\, tricks\,​ and methods. \n\n\n\nThe workshop includes: \n\n\n\n\n​A brief introduction to beadwork as an Indigenous art form. This will include a discussion about cultural appreciation vs. cultural appropriation.\n\n\n\nFour hours of guided hands-on experience\n\n\n\nAll necessary materials. (optional design templates\, quality seed beads\, earring parts\, beading mat\, needles\, and thread).\n\n\n\nOral & Written Instructions\n\n\n\n\nAbout the Artist: \n\n\n\nKaytlyn Nadjiwon (née Giaccone) is a queer Ojibwe/Italian beadwork artist\, sometimes writer\, and proud auntie who was born and raised on Unceded Unsurrendered Algonquin Territory currently known as Ottawa. Her maternal grandfather is a residential school survivor from Neyaashiinigmiing\, a reserve within what is currently known as Bruce County\, Ontario. \n\n\n\nKaytlyn began beading in 2018 as part of her healing journey. One of her best friends taught her the basics of flat-stitch beadwork. and from there she fell in love with the art & its meditative nature\, and healing energy. She spent the following 6 years learning and developing her craft. \n\n\n\nFor more information on private or group workshops\, please contact workshops@softbutsturdy.ca. \n\n\n\nPlease note: KN95+ Masks Mandatory
URL:https://maxottawa.ca/list/diy-fringe-earrings-with-soft-but-sturdy-beadwork/
LOCATION:The Grove\, 18 Louisa St.\, Ottawa\, Ontario\, K1R6Y6\, Canada
CATEGORIES:Art,Social
END:VEVENT
END:VCALENDAR