BEGIN:VCALENDAR
VERSION:2.0
PRODID:-//MAX Ottawa - ECPv6.15.20//NONSGML v1.0//EN
CALSCALE:GREGORIAN
METHOD:PUBLISH
X-WR-CALNAME:MAX Ottawa
X-ORIGINAL-URL:https://maxottawa.ca
X-WR-CALDESC:Events for MAX Ottawa
REFRESH-INTERVAL;VALUE=DURATION:PT1H
X-Robots-Tag:noindex
X-PUBLISHED-TTL:PT1H
BEGIN:VTIMEZONE
TZID:America/Toronto
BEGIN:DAYLIGHT
TZOFFSETFROM:-0500
TZOFFSETTO:-0400
TZNAME:EDT
DTSTART:20230312T070000
END:DAYLIGHT
BEGIN:STANDARD
TZOFFSETFROM:-0400
TZOFFSETTO:-0500
TZNAME:EST
DTSTART:20231105T060000
END:STANDARD
BEGIN:DAYLIGHT
TZOFFSETFROM:-0500
TZOFFSETTO:-0400
TZNAME:EDT
DTSTART:20240310T070000
END:DAYLIGHT
BEGIN:STANDARD
TZOFFSETFROM:-0400
TZOFFSETTO:-0500
TZNAME:EST
DTSTART:20241103T060000
END:STANDARD
BEGIN:DAYLIGHT
TZOFFSETFROM:-0500
TZOFFSETTO:-0400
TZNAME:EDT
DTSTART:20250309T070000
END:DAYLIGHT
BEGIN:STANDARD
TZOFFSETFROM:-0400
TZOFFSETTO:-0500
TZNAME:EST
DTSTART:20251102T060000
END:STANDARD
END:VTIMEZONE
BEGIN:VEVENT
DTSTART;TZID=America/Toronto:20241214T170000
DTEND;TZID=America/Toronto:20241215T020000
DTSTAMP:20260424T100618
CREATED:20241104T174255Z
LAST-MODIFIED:20241105T201045Z
UID:10001395-1734195600-1734228000@maxottawa.ca
SUMMARY:Pique Winter Edition
DESCRIPTION:After a sold out fall edition\, Pique is back at the Arts Court on Saturday\, December 14. Grab your tickets now and plan your winter getaway! \n\n\n\nPique is a forward-thinking\, artist-driven quarterly event series featuring eclectic musical\, visual\, and multimedia artists\, produced by Debaser. \n\n\n\nPique is all-ages and tickets are financially accessible. \n\n\n\nLineup and schedule to be announced! \n\n\n\nCheck out past programming here.
URL:https://maxottawa.ca/list/pique-winter-edition/
LOCATION:Arts Court\, 2 Daly Ave.\, Ottawa\, Ontario\, K1N 6E2\, Canada
CATEGORIES:Art,Live music,Nightlife
ORGANIZER;CN="Debaser":MAILTO:hello@debaser.ca
END:VEVENT
END:VCALENDAR