BEGIN:VCALENDAR
VERSION:2.0
PRODID:-//MAX Ottawa - ECPv6.15.20//NONSGML v1.0//EN
CALSCALE:GREGORIAN
METHOD:PUBLISH
X-ORIGINAL-URL:https://maxottawa.ca
X-WR-CALDESC:Events for MAX Ottawa
REFRESH-INTERVAL;VALUE=DURATION:PT1H
X-Robots-Tag:noindex
X-PUBLISHED-TTL:PT1H
BEGIN:VTIMEZONE
TZID:America/Toronto
BEGIN:DAYLIGHT
TZOFFSETFROM:-0500
TZOFFSETTO:-0400
TZNAME:EDT
DTSTART:20240310T070000
END:DAYLIGHT
BEGIN:STANDARD
TZOFFSETFROM:-0400
TZOFFSETTO:-0500
TZNAME:EST
DTSTART:20241103T060000
END:STANDARD
BEGIN:DAYLIGHT
TZOFFSETFROM:-0500
TZOFFSETTO:-0400
TZNAME:EDT
DTSTART:20250309T070000
END:DAYLIGHT
BEGIN:STANDARD
TZOFFSETFROM:-0400
TZOFFSETTO:-0500
TZNAME:EST
DTSTART:20251102T060000
END:STANDARD
BEGIN:DAYLIGHT
TZOFFSETFROM:-0500
TZOFFSETTO:-0400
TZNAME:EDT
DTSTART:20260308T070000
END:DAYLIGHT
BEGIN:STANDARD
TZOFFSETFROM:-0400
TZOFFSETTO:-0500
TZNAME:EST
DTSTART:20261101T060000
END:STANDARD
END:VTIMEZONE
BEGIN:VEVENT
DTSTART;TZID=America/Toronto:20250327T173000
DTEND;TZID=America/Toronto:20250327T213000
DTSTAMP:20260421T080627
CREATED:20250327T011707Z
LAST-MODIFIED:20250327T011715Z
UID:10002210-1743096600-1743111000@maxottawa.ca
SUMMARY:Spring Market
DESCRIPTION:This Thursday at @houseoftarg!!!@strega.vintage and @latenightvintageco along with many other wenches will be at the House of Targ Spring Market.hosted by @wornbywarriorsjewelry !!!! \n\n\n\n5:30pm- 9:30pmHouse of Targ 1077 Bank St. Ottawa. \n\n\n\nVendors@wornbywarriorsjewelry@strega.vintage@a.newby@friends_of_hell_leather@hidden_moon_co@gorehands@littlebonesottawa@usedabusedvintageshop@latenightvintageco@pibblescribble \n\n\n\nSee you there !!
URL:https://maxottawa.ca/list/spring-market/
LOCATION:House of Targ\, 1077 Bank St.\, Ottawa\, Ontario\, K1S 0R4\, Canada
CATEGORIES:Art,Nightlife,Social
END:VEVENT
END:VCALENDAR