BEGIN:VCALENDAR
VERSION:2.0
PRODID:-//MAX Ottawa - ECPv6.15.20//NONSGML v1.0//EN
CALSCALE:GREGORIAN
METHOD:PUBLISH
X-ORIGINAL-URL:https://maxottawa.ca
X-WR-CALDESC:Events for MAX Ottawa
REFRESH-INTERVAL;VALUE=DURATION:PT1H
X-Robots-Tag:noindex
X-PUBLISHED-TTL:PT1H
BEGIN:VTIMEZONE
TZID:America/Toronto
BEGIN:DAYLIGHT
TZOFFSETFROM:-0500
TZOFFSETTO:-0400
TZNAME:EDT
DTSTART:20240310T070000
END:DAYLIGHT
BEGIN:STANDARD
TZOFFSETFROM:-0400
TZOFFSETTO:-0500
TZNAME:EST
DTSTART:20241103T060000
END:STANDARD
BEGIN:DAYLIGHT
TZOFFSETFROM:-0500
TZOFFSETTO:-0400
TZNAME:EDT
DTSTART:20250309T070000
END:DAYLIGHT
BEGIN:STANDARD
TZOFFSETFROM:-0400
TZOFFSETTO:-0500
TZNAME:EST
DTSTART:20251102T060000
END:STANDARD
BEGIN:DAYLIGHT
TZOFFSETFROM:-0500
TZOFFSETTO:-0400
TZNAME:EDT
DTSTART:20260308T070000
END:DAYLIGHT
BEGIN:STANDARD
TZOFFSETFROM:-0400
TZOFFSETTO:-0500
TZNAME:EST
DTSTART:20261101T060000
END:STANDARD
END:VTIMEZONE
BEGIN:VEVENT
DTSTART;TZID=America/Toronto:20250605T180000
DTEND;TZID=America/Toronto:20250605T200000
DTSTAMP:20260423T093238
CREATED:20250527T192910Z
LAST-MODIFIED:20250601T161640Z
UID:10002827-1749146400-1749153600@maxottawa.ca
SUMMARY:Trans Life Drawing
DESCRIPTION:This in-person class is open exclusively to the trans community\, including non-binary and 2-Spirit people\, aged 18+. We aim to create a unique\, empowering space where the trans community can come together to create art. \n\n\n\nSpecial thanks to our amazing partners at the AIDS Committee of Ottawa (ACO) for hosting us in their space. \n\n\n\nAccessibility \n\n\n\nTo ensure a safe and inclusive environment\, masks are required for all participants. Masks will be available at the entrance. Parking is available next to the ACO building\, with additional street parking nearby. The events are held in The Living Room at the ACO\, which is wheelchair accessible. \n\n\n\nTiered ticket prices are available—if you need a free ticket or drawing materials\, please email us at TransLifeDrawing@gmail.com. \n\n\n\nHouse Rules \n\n\n\n\nPlease arrive and set up 10 minutes before we start.\n\n\n\nUpon arrival\, you will be asked to read and sign the AIDS Committee of Ottawa’s Confidentiality Agreement. As the ACO provides therapeutic services\, maintaining confidentiality is crucial. If you’d like to review the agreement ahead of time\, please reach out.\n\n\n\nNo photography or recording is allowed. Violating this rule will result in an immediate lifetime ban.\n\n\n\nNo pronoun assumptions! Use each other’s names unless told otherwise.\n\n\n\n\nTickets are required for each attendee and are non-refundable. We strive to make our events barrier-free; please see ticket options for details. \n\n\n\nHappy Drawing!
URL:https://maxottawa.ca/list/trans-life-drawing-2/
LOCATION:AIDS Committee of Ottawa\, 19 Main St.\, Ottawa\, Ontario\, K1S1A9\, Canada
CATEGORIES:Advocacy & empowerment,Art,Ottawa,Sex positive
END:VEVENT
END:VCALENDAR