BEGIN:VCALENDAR
VERSION:2.0
PRODID:-//MAX Ottawa - ECPv6.15.20//NONSGML v1.0//EN
CALSCALE:GREGORIAN
METHOD:PUBLISH
X-WR-CALNAME:MAX Ottawa
X-ORIGINAL-URL:https://maxottawa.ca
X-WR-CALDESC:Events for MAX Ottawa
REFRESH-INTERVAL;VALUE=DURATION:PT1H
X-Robots-Tag:noindex
X-PUBLISHED-TTL:PT1H
BEGIN:VTIMEZONE
TZID:America/Toronto
BEGIN:DAYLIGHT
TZOFFSETFROM:-0500
TZOFFSETTO:-0400
TZNAME:EDT
DTSTART:20250309T070000
END:DAYLIGHT
BEGIN:STANDARD
TZOFFSETFROM:-0400
TZOFFSETTO:-0500
TZNAME:EST
DTSTART:20251102T060000
END:STANDARD
BEGIN:DAYLIGHT
TZOFFSETFROM:-0500
TZOFFSETTO:-0400
TZNAME:EDT
DTSTART:20260308T070000
END:DAYLIGHT
BEGIN:STANDARD
TZOFFSETFROM:-0400
TZOFFSETTO:-0500
TZNAME:EST
DTSTART:20261101T060000
END:STANDARD
BEGIN:DAYLIGHT
TZOFFSETFROM:-0500
TZOFFSETTO:-0400
TZNAME:EDT
DTSTART:20270314T070000
END:DAYLIGHT
BEGIN:STANDARD
TZOFFSETFROM:-0400
TZOFFSETTO:-0500
TZNAME:EST
DTSTART:20271107T060000
END:STANDARD
END:VTIMEZONE
BEGIN:VEVENT
DTSTART;TZID=America/Toronto:20260215T130000
DTEND;TZID=America/Toronto:20260215T160000
DTSTAMP:20260419T152034
CREATED:20260120T181706Z
LAST-MODIFIED:20260120T181716Z
UID:10004429-1771160400-1771171200@maxottawa.ca
SUMMARY:Be Gay\, Do Art: Palentine's Edition
DESCRIPTION:Are you 🏳️‍🌈🏳️‍⚧️+?Are you creative? \n\n\n\nThen join us for our first Be Gay\, Do Art of 2026! \n\n\n\nBGDA is an all-ages drop-in program\, so feel free to come and go as needed! \n\n\n\n☆ All ages\, art\, creative mediums\, and skill levels are welcome! ☆ \n\n\n\n🎨🎨🎨 \n\n\n\nWe will have donated art supplies for folks to use\, including collage supplies\, beads\, paint\, coloring pages and more! \n\n\n\nWe also encourage folks to bring extra supplies they’d be willing to share (or donate) for those who might want to learn a new art form or try out a new medium! \n\n\n\n🎨🎨🎨 \n\n\n\nThis month we will also be celebrating Palentines (or Galentines/Valentines if you prefer!)\, so we will have LOTS of card making supplies and other themed crafts! \n\n\n\n+ we might even have some Valentines snacks! \n\n\n\n♿️♿️♿️ \n\n\n\nWheelie Productions is committed to accessibility & disability justice. If you require any extra support to attend this event\, please reach out. \n\n\n\nAs part of this commitment\, we will be requiring masks for those attending. We ask that all attendees wear a high-quality mask/respirator (KN95 or better) to increase the safety of our space. We will have extra KN95 & N95 masks available for anyone who needs one! \n\n\n\nTo maintain a masked space\, we will have a separate room with extra air purifiers for those who are eating/drinking (thus having to remove their masks!). \n\n\n\nMore Access Notes: \n\n\n\n☆ Kind Space has extra air purification throughout the space.☆ Kind Space is wheelchair accessible\, with an elevator to access the space and automatic doors!☆ There are both gendered\, stalled washrooms and accessible non-gendered washrooms.☆ Accessible by public transit (#11\, #6 & #7) with paid on-street parking (subject to availability!)☆ Low/no-scent space☆ Quiet space available
URL:https://maxottawa.ca/list/be-gay-do-art-palentines-edition/
LOCATION:Kind Space\, 400 Cooper St. suite 9001\, Ottawa\, Ontario\, K2P 2N1\, Canada
CATEGORIES:Art,Ottawa,Social
END:VEVENT
END:VCALENDAR