BEGIN:VCALENDAR
VERSION:2.0
PRODID:-//MAX Ottawa - ECPv6.15.20//NONSGML v1.0//EN
CALSCALE:GREGORIAN
METHOD:PUBLISH
X-WR-CALNAME:MAX Ottawa
X-ORIGINAL-URL:https://maxottawa.ca
X-WR-CALDESC:Events for MAX Ottawa
REFRESH-INTERVAL;VALUE=DURATION:PT1H
X-Robots-Tag:noindex
X-PUBLISHED-TTL:PT1H
BEGIN:VTIMEZONE
TZID:America/Toronto
BEGIN:DAYLIGHT
TZOFFSETFROM:-0500
TZOFFSETTO:-0400
TZNAME:EDT
DTSTART:20250309T070000
END:DAYLIGHT
BEGIN:STANDARD
TZOFFSETFROM:-0400
TZOFFSETTO:-0500
TZNAME:EST
DTSTART:20251102T060000
END:STANDARD
BEGIN:DAYLIGHT
TZOFFSETFROM:-0500
TZOFFSETTO:-0400
TZNAME:EDT
DTSTART:20260308T070000
END:DAYLIGHT
BEGIN:STANDARD
TZOFFSETFROM:-0400
TZOFFSETTO:-0500
TZNAME:EST
DTSTART:20261101T060000
END:STANDARD
BEGIN:DAYLIGHT
TZOFFSETFROM:-0500
TZOFFSETTO:-0400
TZNAME:EDT
DTSTART:20270314T070000
END:DAYLIGHT
BEGIN:STANDARD
TZOFFSETFROM:-0400
TZOFFSETTO:-0500
TZNAME:EST
DTSTART:20271107T060000
END:STANDARD
END:VTIMEZONE
BEGIN:VEVENT
DTSTART;TZID=America/Toronto:20260504T183000
DTEND;TZID=America/Toronto:20260504T210000
DTSTAMP:20260425T094829
CREATED:20260421T205506Z
LAST-MODIFIED:20260421T205520Z
UID:10004996-1777919400-1777928400@maxottawa.ca
SUMMARY:Book Launch: Bodies In The Sun
DESCRIPTION:Bodies in the Sun is a photobook by Ottawa-based photographer Sheen Andola\, featuring a collection of black and white photographs created during the summer of 2025 across Ottawa and beyond. The work traces a season shaped by friendship\, queer presence\, and the ways we gather\, move\, and rest together in light. \n\n\n\nThe project reflects on queer life in Ottawa\, asking what it means to be seen\, to belong\, and to share joy in its most ordinary and sacred forms. \n\n\n\nJoin us for the launch of Bodies in the Sun\, an evening of community\, art\, and celebration. Prints of select photographs from the book will be on display. Copies of the book will be available for purchase and pre-order\, with $5 from each book sold donated to Out at Camp.
URL:https://maxottawa.ca/list/book-launch-bodies-in-the-sun/
LOCATION:SAW\, 67 Nicholas St\, Ottawa\, ON\, K1N 7B9\, Canada
CATEGORIES:Art,Ottawa,Sex positive
ORGANIZER;CN="Sheen Andola":MAILTO:info@sheenandola.com
END:VEVENT
END:VCALENDAR