BEGIN:VCALENDAR
VERSION:2.0
PRODID:-//MAX Ottawa - ECPv6.15.20//NONSGML v1.0//EN
CALSCALE:GREGORIAN
METHOD:PUBLISH
X-WR-CALNAME:MAX Ottawa
X-ORIGINAL-URL:https://maxottawa.ca
X-WR-CALDESC:Events for MAX Ottawa
REFRESH-INTERVAL;VALUE=DURATION:PT1H
X-Robots-Tag:noindex
X-PUBLISHED-TTL:PT1H
BEGIN:VTIMEZONE
TZID:America/Toronto
BEGIN:DAYLIGHT
TZOFFSETFROM:-0500
TZOFFSETTO:-0400
TZNAME:EDT
DTSTART:20240310T070000
END:DAYLIGHT
BEGIN:STANDARD
TZOFFSETFROM:-0400
TZOFFSETTO:-0500
TZNAME:EST
DTSTART:20241103T060000
END:STANDARD
BEGIN:DAYLIGHT
TZOFFSETFROM:-0500
TZOFFSETTO:-0400
TZNAME:EDT
DTSTART:20250309T070000
END:DAYLIGHT
BEGIN:STANDARD
TZOFFSETFROM:-0400
TZOFFSETTO:-0500
TZNAME:EST
DTSTART:20251102T060000
END:STANDARD
BEGIN:DAYLIGHT
TZOFFSETFROM:-0500
TZOFFSETTO:-0400
TZNAME:EDT
DTSTART:20260308T070000
END:DAYLIGHT
BEGIN:STANDARD
TZOFFSETFROM:-0400
TZOFFSETTO:-0500
TZNAME:EST
DTSTART:20261101T060000
END:STANDARD
BEGIN:DAYLIGHT
TZOFFSETFROM:-0500
TZOFFSETTO:-0400
TZNAME:EDT
DTSTART:20270314T070000
END:DAYLIGHT
BEGIN:STANDARD
TZOFFSETFROM:-0400
TZOFFSETTO:-0500
TZNAME:EST
DTSTART:20271107T060000
END:STANDARD
END:VTIMEZONE
BEGIN:VEVENT
DTSTART;TZID=America/Toronto:20260325T200000
DTEND;TZID=America/Toronto:20260325T223000
DTSTAMP:20260422T123331
CREATED:20260310T154827Z
LAST-MODIFIED:20260310T154856Z
UID:10004800-1774468800-1774477800@maxottawa.ca
SUMMARY:Fruit Cake
DESCRIPTION:A VARIETY SHOW BY AND FOR NOT-CIS-MAN-QUEERS. SELLS OUT EVERY TIME! \n\n\n\nUse code BIPOC or TRANS for discount! \n\n\n\nAll tickets are General Admission.  \n\n\n\nSeating is not guaranteed.  \n\n\n\nPlease come early to get a good seat. \n\n\n\n19 + after 9 PM
URL:https://maxottawa.ca/list/fruit-cake-2/
LOCATION:Irene’s Pub\, 885 Bank St.\, Ottawa\, Ontario\, K1S 3W4\, Canada
CATEGORIES:Comedy,Nightlife,Ottawa
ORGANIZER;CN="Maggie May Harder":MAILTO:maggiemharder@icloud.com
END:VEVENT
BEGIN:VEVENT
DTSTART;TZID=America/Toronto:20260225T200000
DTEND;TZID=America/Toronto:20260225T223000
DTSTAMP:20260422T123331
CREATED:20260218T002102Z
LAST-MODIFIED:20260218T002120Z
UID:10004761-1772049600-1772058600@maxottawa.ca
SUMMARY:Small Fish
DESCRIPTION:Small Fish is BAAACK!! \n\n\n\nA comedy and variety show by and for marginalized folks. \n\n\n\nMasked event! We will have some at the door but bringing your own is encouraged! \n\n\n\nAll tickets are General Admission.  \n\n\n\nSeating is not guaranteed.  \n\n\n\nPlease come early to get a good seat. \n\n\n\n19 + after 9 PM
URL:https://maxottawa.ca/list/small-fish-3/
LOCATION:Irene’s Pub\, 885 Bank St.\, Ottawa\, Ontario\, K1S 3W4\, Canada
CATEGORIES:Comedy,Nightlife,Ottawa
END:VEVENT
BEGIN:VEVENT
DTSTART;TZID=America/Toronto:20260218T200000
DTEND;TZID=America/Toronto:20260218T223000
DTSTAMP:20260422T123331
CREATED:20260213T141650Z
LAST-MODIFIED:20260213T141705Z
UID:10004745-1771444800-1771453800@maxottawa.ca
SUMMARY:Fruit Cake
DESCRIPTION:A VARIETY SHOW BY AND FOR NOT-CIS-MAN-QUEERS. SELLS OUT EVERY TIME! \n\n\n\nBy and for dykes\, lesbians\, dolls\, trans mascs in lip gloss\, trans femmes in work boots\, wlw worshippers\, sapphics with treasure trails\, gender fucked girls boys and toys. \n\n\n\nMasking required. \n\n\n\nAll tickets are General Admission.  \n\n\n\nSeating is not guaranteed.  \n\n\n\nPlease come early to get a good seat. \n\n\n\n19 + after 9 PM
URL:https://maxottawa.ca/list/fruit-cake/
LOCATION:Irene’s Pub\, 885 Bank St.\, Ottawa\, Ontario\, K1S 3W4\, Canada
CATEGORIES:Comedy,Ottawa
ORGANIZER;CN="Maggie May Harder":MAILTO:maggiemharder@icloud.com
END:VEVENT
BEGIN:VEVENT
DTSTART;TZID=America/Toronto:20260212T200000
DTEND;TZID=America/Toronto:20260212T230000
DTSTAMP:20260422T123331
CREATED:20260116T202416Z
LAST-MODIFIED:20260116T202423Z
UID:10004421-1770926400-1770937200@maxottawa.ca
SUMMARY:S3x(+) Stand-Up Special: Lovers Edition
DESCRIPTION:A spicy comedy show featuring a diverse lineup of comics and a sensual Valentine’s-themed live demo focused on connection! \n\n\n\nThe Sex-Positive Stand-Up Special: Lovers Edition \n\n\n\nOur annual Valentine’s Day edition of this popular s3x-positive comedy show series is back! Join us on Thursday\, February 12 at the Laugh Lounge to celebrate love\, lust\, and connection in all of its deliciously messy forms. \n\n\n\nAs always\, we’re bringing together a diverse lineup of comics delivering their very best jokes about love\, relationships\, s3x\, and intimacy… from sweet and heartfelt to filthy and unfiltered. Get ready to let loose in a safe\, shame-free space where nothing is too taboo\, too weird\, or too vulnerable to laugh about. \n\n\n\nOnce the comedy winds down\, S3x Educator Natalia (@kinksandcoffee) takes the stage for a live demonstration of tools and techniques focused on deepening connection\, building trust\, and enhancing intimacy with your partner. This Lovers Edition demo is intentionally sensual\, playful\, and connective – designed to inspire closeness\, curiosity\, and new ways to explore pleasure together. \n\n\n\nWhether you’re coming with a lover\, multiple lovers\, friends\, or flying solo\, this night is about celebrating connection – to others and to yourself! Come ready to laugh\, blush\, and feel the love 💖 \n\n\n\nDoors open: 8:00 pmComedy show: 8:30 pmKink demo: 10:00 pm
URL:https://maxottawa.ca/list/s3x-stand-up-special-lovers-edition/
LOCATION:Laugh Lounge\, 61 York St.\, Ottawa\, Ontario\, K1N 9C7\, Canada
CATEGORIES:Comedy,Ottawa,Sex positive
END:VEVENT
BEGIN:VEVENT
DTSTART;TZID=America/Toronto:20260207T183000
DTEND;TZID=America/Toronto:20260207T230000
DTSTAMP:20260422T123331
CREATED:20260203T193441Z
LAST-MODIFIED:20260203T193458Z
UID:10004707-1770489000-1770505200@maxottawa.ca
SUMMARY:Black Excellence Showcase
DESCRIPTION:👑 Capital Kingdom presents Black Excellence Showcase \n\n\n\nGet ready to eat\, mingle and buckle up at our 2026 Black Excellence Showcase! As we are bringing you a variety of amazing local Black performers to display their artistry and talent.  \n\n\n\n⏰ Social at 6:30 pm | Show at 8:30 pm | Dancing after the show \n\n\n\nYou won’t want to miss this show. \n\n\n\nThis show’s lineup:\n\n\n\n⭐Viva van Diva\, sultry and sweet with just the right amount of spice burlesque performer @vivavandiva \n\n\n\n⭐Janelle Niles\, a full-time stand-up comedian\, EMCEE\, content creator\, TV Personality and producer of Got Land? Indigenous comedy show. @janelle.niles \n\n\n\n⭐Stripes n Sweets\, is your favourite outcasted drag entity! @stripesnsweets \n\n\n\n⭐Velvet Duke\, is Canada’s premier spontaneous balladeer comedian @thevelvetduke \n\n\n\n⭐Hosted by Ottawa’s sexy smooth drag king and co-producer\, Omari B Johnson @omaribjohnson_drag \n\n\n\nCome in early to mingle and enjoy some tasty food from Nostalgica and then stay for the amazing show! \n\n\n\nMasks will be available at the door for anyone who wishes to wear one. \n\n\n\nThe venue is accessible.
URL:https://maxottawa.ca/list/black-excellence-showcase/
LOCATION:nostalgica\, 601 Cumberland St\, Ottawa\, Ontario\, K1N6N5\, Canada
CATEGORIES:Art,Comedy,Drag & Burlesque,Nightlife,Ottawa
END:VEVENT
BEGIN:VEVENT
DTSTART;TZID=America/Toronto:20260206T210000
DTEND;TZID=America/Toronto:20260206T233000
DTSTAMP:20260422T123331
CREATED:20260203T194916Z
LAST-MODIFIED:20260203T194919Z
UID:10004713-1770411600-1770420600@maxottawa.ca
SUMMARY:Maggie May's Cabaret
DESCRIPTION:Welcome to my fun house babey!!! 😍 \n\n\n\n1/2 classic variety show. 1/2 concert.  \n\n\n\n2/2 celebrating 9 years of Art House!! 🏡🌟 \n\n\n\nHosted by Maggie May Harder @maggiemayharder. \n\n\n\nVariety Featuring: \n\n\n\n– The Velvet Duke \n\n\n\n– Dawn Xanklin \n\n\n\n– Mx Tique \n\n\n\n– Hardly Knower \n\n\n\nConcert Headliner:  \n\n\n\nHannah Vig!!!!!!!!!! \n\n\n\nCome prepared to laugh\, dance\, sing… 💫 \n\n\n\nDoors at 8pm.  \n\n\n\nVariety show from 9-10pm. \n\n\n\nConcert from 10-11pm. \n\n\n\nACCESS INFO:\n\n\n\nArt House Has limited seating. Please DM @maggiemayharder or email maggiemharder@icloud.com if you need a guaranteed seat. \n\n\n\nArt House provides gender-neutral washrooms. There is one wheelchair accessible washroom. There is no wheelchair ramp. There is a set of 8 stairs to get into the building (7 steps\, small landing\, and then an 8th step). Once inside\, the whole cafe floor is flat\, with the exception of the small room to the side\, which is a small step down.
URL:https://maxottawa.ca/list/maggie-mays-cabaret/
LOCATION:Art House\, 555 Somerset St. West\, Ottawa\, Ontario\, K1R5K1\, Canada
CATEGORIES:Comedy,Drag & Burlesque,Live music,Nightlife,Ottawa
ORGANIZER;CN="Maggie May Harder":MAILTO:maggiemharder@icloud.com
END:VEVENT
BEGIN:VEVENT
DTSTART;TZID=America/Toronto:20260128T200000
DTEND;TZID=America/Toronto:20260128T223000
DTSTAMP:20260422T123331
CREATED:20260113T150424Z
LAST-MODIFIED:20260113T150428Z
UID:10004382-1769630400-1769639400@maxottawa.ca
SUMMARY:Small Fish
DESCRIPTION:Small Fish is BAAACK!! \n\n\n\nA comedy and variety show by and for marginalized folks. \n\n\n\nMasked event! We will have some at the door but bringing your own is encouraged! \n\n\n\nAll tickets are General Admission.  \n\n\n\nSeating is not guaranteed.  \n\n\n\nPlease come early to get a good seat. \n\n\n\n19 + after 9 PM
URL:https://maxottawa.ca/list/small-fish-2/
LOCATION:Irene’s Pub\, 885 Bank St.\, Ottawa\, Ontario\, K1S 3W4\, Canada
CATEGORIES:Comedy,Nightlife,Ottawa
END:VEVENT
BEGIN:VEVENT
DTSTART;TZID=America/Toronto:20260122T190000
DTEND;TZID=America/Toronto:20260122T210000
DTSTAMP:20260422T123331
CREATED:20260107T143924Z
LAST-MODIFIED:20260107T143929Z
UID:10004100-1769108400-1769115600@maxottawa.ca
SUMMARY:Meat Market
DESCRIPTION:Part drag show. Part dating show. Always for DYKES!  \n\n\n\nBy and for not-cis-man-queers. \n\n\n\nFour local drag performers. All SINGLE/POLY (yes\, I made sure) and their #1 goal? STEAL! YOUR!! HEART!!! ♥  \n\n\n\nThis show format is a brand-new work in progress. You will NOT be put on the spot – my shy babes\, feel free to come and enjoy. \n\n\n\nCome ready to hoot\, holler\, and slide into some DMs!!!!! \n\n\n\nmasked event! I will have some at the door and LOOOVE when people bring their own!! \n\n\n\nACCESS INFO: \n\n\n\nArt House has limited seating! Come early to guarantee a place to sit. Please email Maggie (maggiemharder@icloud.com) or DM (@maggiemayharder) if you need a guaranteed seat. \n\n\n\nArt House provides gender-neutral washrooms. There is one wheelchair accessible washroom. There is no wheelchair ramp. There is a set of 8 stairs to get into the building (7 steps\, small landing\, and then an 8th step). Once inside\, the whole cafe floor is flat\, with the exception of the small room to the side\, which is a small step down.
URL:https://maxottawa.ca/list/meat-market/
LOCATION:Art House\, 555 Somerset St. West\, Ottawa\, Ontario\, K1R5K1\, Canada
CATEGORIES:Comedy,Drag & Burlesque,Nightlife,Ottawa
ORGANIZER;CN="Maggie May Harder":MAILTO:maggiemharder@icloud.com
END:VEVENT
BEGIN:VEVENT
DTSTART;TZID=America/Toronto:20251128T213000
DTEND;TZID=America/Toronto:20251128T230000
DTSTAMP:20260422T123331
CREATED:20251112T213853Z
LAST-MODIFIED:20251112T213856Z
UID:10003616-1764365400-1764370800@maxottawa.ca
SUMMARY:Live Comedy Album Recording with Laura McLean - Late Show
DESCRIPTION:Join us for a night of live stand-up comedy as Laura McLean records her debut album! Featuring opening sets with audience faves from Ottawa and Toronto: Tavis Maplesden\, Kelsey Ryan\, & Special Guests!  \n\n\n\nAbout Comedian Laura McLean:  \n\n\n\nLaura McLean is an alternative lesbian comedian (her words) who began her stand-up career in Ottawa and is now a fixture of Toronto’s comedy scene. With just over a decade of performing under her belt\, Laura’s style draws inspiration from Maria Bamford\, Jon Dore\, and Tim Heidecker. For her debut comedy album\, she returns to the city where it all began to record a night of her best material.  \n\n\n\nAbout Howl & Roar Records:  \n\n\n\nThe Canadian Comedy scene is diverse and ever-expanding\, but not always properly represented. Based in Toronto\, woman-led Howl & Roar Records was born out of a desire to shake things up. We empower artists to create and distribute quality content while maintaining creative control. Since its inception\, Howl & Roar Records has established itself as a trusted resource for artists and comedy lovers across Canada and beyond.  \n\n\n\nAccessibility:  \n\n\n\nThe venue is located on the second floor and is accessible only by stairs. Gender-neutral washrooms are available. This is a stand-up comedy event with no flashing lights or excessive noise. Masks are optional and will not be provided.  \n\n\n\nAdditional Information:  \n\n\n\nThe event is all ages\, though please note that adult themes (including references to sex\, drugs\, and alcohol) will be part of the show.  \n\n\n\nAlcoholic beverages will be available for purchase.
URL:https://maxottawa.ca/list/live-comedy-album-recording-with-laura-mclean-late-show/
LOCATION:LIVE! on Elgin\, 220 Elgin St #2\, Ottawa\, Ontario\, K2P 1L7\, Canada
CATEGORIES:Comedy,Nightlife,Ottawa
END:VEVENT
BEGIN:VEVENT
DTSTART;TZID=America/Toronto:20251128T190000
DTEND;TZID=America/Toronto:20251128T213000
DTSTAMP:20260422T123331
CREATED:20251112T213651Z
LAST-MODIFIED:20251112T213658Z
UID:10003615-1764356400-1764365400@maxottawa.ca
SUMMARY:Live Comedy Album Recording with Laura McLean
DESCRIPTION:Join us for a night of live stand-up comedy as Laura McLean records her debut album! Featuring opening sets with audience faves from Ottawa and Toronto: Tavis Maplesden\, Kelsey Ryan\, & Special Guests!  \n\n\n\nAbout Comedian Laura McLean:  \n\n\n\nLaura McLean is an alternative lesbian comedian (her words) who began her stand-up career in Ottawa and is now a fixture of Toronto’s comedy scene. With just over a decade of performing under her belt\, Laura’s style draws inspiration from Maria Bamford\, Jon Dore\, and Tim Heidecker. For her debut comedy album\, she returns to the city where it all began to record a night of her best material.  \n\n\n\nAbout Howl & Roar Records:  \n\n\n\nThe Canadian Comedy scene is diverse and ever-expanding\, but not always properly represented. Based in Toronto\, woman-led Howl & Roar Records was born out of a desire to shake things up. We empower artists to create and distribute quality content while maintaining creative control. Since its inception\, Howl & Roar Records has established itself as a trusted resource for artists and comedy lovers across Canada and beyond.  \n\n\n\nAccessibility:  \n\n\n\nThe venue is located on the second floor and is accessible only by stairs. Gender-neutral washrooms are available. This is a stand-up comedy event with no flashing lights or excessive noise. Masks are optional and will not be provided.  \n\n\n\nAdditional Information:  \n\n\n\nThe event is all ages\, though please note that adult themes (including references to sex\, drugs\, and alcohol) will be part of the show.  \n\n\n\nAlcoholic beverages will be available for purchase.
URL:https://maxottawa.ca/list/live-comedy-album-recording-with-laura-mclean/
LOCATION:LIVE! on Elgin\, 220 Elgin St #2\, Ottawa\, Ontario\, K2P 1L7\, Canada
CATEGORIES:Comedy,Nightlife,Ottawa
END:VEVENT
BEGIN:VEVENT
DTSTART;TZID=America/Toronto:20251125T190000
DTEND;TZID=America/Toronto:20251125T220000
DTSTAMP:20260422T123331
CREATED:20251120T003147Z
LAST-MODIFIED:20251120T003204Z
UID:10003634-1764097200-1764108000@maxottawa.ca
SUMMARY:The Jinkx and DeLa Holiday Show
DESCRIPTION:The greatest holiday show south of the North Pole is back with another brand spankin’ new wintertide wonder! Award-winning comedy icons\, writers\, actors\, and drag queen powerhouses BenDeLaCreme & Jinkx Monsoon are coming back to town with the wildly successful\, internationally acclaimed\, “The Jinkx & DeLa Holiday Show.” Throughout the show’s 8-year history Jinkx and DeLa have met sentient Christmas treats\, twisted space-time with Dickensian Ghosts\, escaped the meta clutches of their own holiday traditions\, and led a harrowing rescue mission in the Nutcracker’s Land of Sweets – You never know what wild and unexpected sleigh ride these queens have in store. \n\n\n\nWhatever the twists and turns\, fans can expect another year of over-the-top camp spectacle\, side-splitting gags\, brand new songs\, heartfelt storytelling\, thrilling dance numbers\, and iconic costumes. Hailed by Entertainment Weekly as “the reigning queens of Christmas\,” this show is not only a moment of respite\, but a celebration of community\, at a time when we need it most of all. \n\n\n\nFor VIP add-ons\, please visit JinkxAndDeLa.com.
URL:https://maxottawa.ca/list/the-jinkx-and-dela-holiday-show/
LOCATION:Algonquin Commons Theatre\, 1385 Woodroffe Ave\, Nepean\, Ontario\, K2G 1V8\, Canada
CATEGORIES:Comedy,Drag & Burlesque,Ottawa
END:VEVENT
BEGIN:VEVENT
DTSTART;TZID=America/Toronto:20251105T200000
DTEND;TZID=America/Toronto:20251105T220000
DTSTAMP:20260422T123331
CREATED:20251029T191416Z
LAST-MODIFIED:20251029T191427Z
UID:10003597-1762372800-1762380000@maxottawa.ca
SUMMARY:Local Bunches Of Laughs
DESCRIPTION:A comedy show at Night Oat Gladstone featuring a fresh batch of homegrown talent on the first Wednesday of every month. \n\n\n\nA monthly stand-up comedy show featuring some of the funniest folks in Ottawa\, presented amidst the cozy and inviting atmosphere of Night Oat’s Gladstone location. This show occurs on the first Wednesday of every month. The lineup changes every time\, but each new bushel of talent will have you rolling with laughter. (Get it? Rolling\, like rolled oats? Perhaps we’ll leave the joke-telling to the comedians.) \n\n\n\nLocal Bunches of Laughs starts at 8pm at Night Oat on 750 Gladstone Avenue. If you don’t feel like buying a ticket here on Eventbrite\, the $5 cover can also be paid at the bar at the end of the night. \n\n\n\nThe November 5th edition of the show will be hosted by Tavis Maplesden and headlined by Lorenzo Patiño. You will also be treated to the comedic stylings of Alex TD\, Cesar Makhoul\, Jake Storm\, Jennifer Brigden\, and Owen McGowan.
URL:https://maxottawa.ca/list/local-bunches-of-laughs/
LOCATION:Oat Couture Oatmeal Cafe\, 750 Gladstone Ave\, Ottawa\, Ontario\, K1R 6X5\, Canada
CATEGORIES:Comedy,Nightlife,Ottawa
END:VEVENT
BEGIN:VEVENT
DTSTART;TZID=America/Toronto:20251002T200000
DTEND;TZID=America/Toronto:20251002T230000
DTSTAMP:20260422T123331
CREATED:20250915T175410Z
LAST-MODIFIED:20250915T175416Z
UID:10003475-1759435200-1759446000@maxottawa.ca
SUMMARY:Sex (+) Stand-Up
DESCRIPTION:The Sex-Positive Stand-Up Special is a one-of-a-kind comedy show where the punchlines and the paddles both land 💥Our lineup of diverse comics is bringing their filthiest\, funniest takes on sex\, dating\, and intimacy. Think raw\, raunchy\, and real – delivered in a safe\, shame-free space where we can laugh out loud about the things we usually only whisper. Nothing’s too taboo\, too weird\, or too messy – we’re laughing with it all. \n\n\n\nAnd just when you think the night can’t get hotter… Sex Educator Natalia (@kinksandcoffee) takes the stage with her demo dolly for a live BDSM scene designed to get you giggling\, blushing\, and inspired to spice things up in your own bedroom. It’s sexy\, silly\, and just the right amount of shocking – in the best way possible. \n\n\n\nSo grab your friends\, your partner(s)\, or just your curious self\, and join us for a night of laughter and sexual liberation! \n\n\n\nDoors open at 8:00 pm \n\n\n\nComedy show starts at 8:30 pm \n\n\n\nKink demo starts at 10:00 pm
URL:https://maxottawa.ca/list/sex-stand-up/
LOCATION:Laugh Lounge\, 61 York St.\, Ottawa\, Ontario\, K1N 9C7\, Canada
CATEGORIES:Comedy,Nightlife,Ottawa,Sex positive
END:VEVENT
BEGIN:VEVENT
DTSTART;TZID=America/Toronto:20250816T210000
DTEND;TZID=America/Toronto:20250816T230000
DTSTAMP:20260422T123331
CREATED:20250723T013512Z
LAST-MODIFIED:20250724T025216Z
UID:10003271-1755378000-1755385200@maxottawa.ca
SUMMARY:Game of Moans
DESCRIPTION:It’s time for GAME OF MOANS\, the game where queer\, quippy contestants compete in sex toy themed challenges to win slutty little prizes! Come learn\, play and vibe with Juliette Schroeder and Chantalyne Beausoleil\, your dyke-ass hosts !!!  \n\n\n\nThis event is mask mandatory. 18+ \n\n\n\nCOME EARLY TO GET A SEAT! Late-comers should be prepared to stand. Email maggiemharder@icloud.com if you have access needs that require a seat be reserved for you.
URL:https://maxottawa.ca/list/game-of-moans/
LOCATION:Art House\, 555 Somerset St. West\, Ottawa\, Ontario\, K1R5K1\, Canada
CATEGORIES:Comedy,Nightlife,Ottawa,Pride,Sex positive
ORGANIZER;CN="Maggie May Harder":MAILTO:maggiemharder@icloud.com
END:VEVENT
BEGIN:VEVENT
DTSTART;TZID=America/Toronto:20250726T190000
DTEND;TZID=America/Toronto:20250726T203000
DTSTAMP:20260422T123331
CREATED:20250708T182056Z
LAST-MODIFIED:20250708T182145Z
UID:10003210-1753556400-1753561800@maxottawa.ca
SUMMARY:Field Trip: Comedy of Errors
DESCRIPTION:A new month call for a new field trip with MAX! Bring a friend\, family member\, lover\, or come solo and meet fellow queer folks for an outdoor screening of one of Shakespeare’s silliest plays\, “A Comedy of Errors”. Expect a modernized rendition with Mario Kart and video game references\, including mushrooms and colourful pipes as props.  \n\n\n\n🍄We’ll meet at 6:30PM to secure seats and settle in before showtime at 7:00PM \n\n\n\n🍿Bring some snacks and whatever else you’d like to get performance-ready \n\n\n\n👋Let us know you’re coming by filling out the form below so we know how many seats to reserve
URL:https://maxottawa.ca/list/field-trip-comedy-of-errors/
LOCATION:Stanley Park\, 183 Stanley Ave\, Ottawa\, Ontario\, K1M 1P2\, Canada
CATEGORIES:Comedy,MAX Programs,Ottawa,Social
ORGANIZER;CN="MAX Ottawa":MAILTO:info@maxottawa.ca
END:VEVENT
BEGIN:VEVENT
DTSTART;TZID=America/Toronto:20250630T190000
DTEND;TZID=America/Toronto:20250630T210000
DTSTAMP:20260422T123331
CREATED:20250624T160859Z
LAST-MODIFIED:20250624T160927Z
UID:10003180-1751310000-1751317200@maxottawa.ca
SUMMARY:Hairy Situation: A Comedy Show by ALOK
DESCRIPTION:ALOK (they/them) is an internationally acclaimed poet\, comedian\, public speaker\, and actor. ALOK’s literary works “Beyond the Gender Binary\,” “Femme in Public\,” and “Your Wound\, My Garden\,” have garnered global recognition. Their dynamic presence has captivated audiences in over 40 countries\, with sold-out shows at the Edinburgh Fringe Festival and the Netflix is a Joke Festival. ALOK’s first comedy special BIOLOGY! [alokvmenon.com] was executive produced by Christopher Guest. They are the subject of the docu-short “ALOK” executive produced by Jodie Foster and directed by Alex Hedison\, which made its debut at the Sundance Film Festival in 2024. On screen\, they can also be seen in Complicated Order\, The Trans List\, and Absolute Dominion (forthcoming). On television\, they can be seen on HBO’s Sex Lives of College Girls\, Sort Of and Random Acts of Flyness\, Hulu’s Planet Sex with Cara Delevingne\, and Netflix’s Gender Agenda Comedy Special and Getting Curious with Jonathan Van Ness.
URL:https://maxottawa.ca/list/hairy-situation-a-comedy-show-by-alok/
LOCATION:Bronson Centre\, 211 Bronson Ave.\, Ottawa\, Ontario\, K1R 5H6\, Canada
CATEGORIES:Comedy,Nightlife,Ottawa
END:VEVENT
BEGIN:VEVENT
DTSTART;TZID=America/Toronto:20250627T193000
DTEND;TZID=America/Toronto:20250627T220000
DTSTAMP:20260422T123331
CREATED:20250624T165417Z
LAST-MODIFIED:20250624T165437Z
UID:10003185-1751052600-1751061600@maxottawa.ca
SUMMARY:Sunday Service: Live Show & Community Pop-Up
DESCRIPTION:We had so much fun in April we couldn’t stay away. Come out and join you’re friendly neighbourhood Youth Group Rejects for an evening of laughter\, stories\, art and good vibes. \n\n\n\nOur comedian for the evening is @creativechristabelleAnd the full list of vendors is on its way! \n\n\n\nJune 27 @arlingtonfiveDoors + Market @ 7:30Live Show @ 8:30 \n\n\n\nSee you there!
URL:https://maxottawa.ca/list/sunday-service-live-show-community-pop-up/
LOCATION:Arlington 5\, 5 Arlington Ave.\, Ottawa\, Ontario\, K2P 1C1\, Canada
CATEGORIES:Comedy,Nightlife,Ottawa,Social
ORGANIZER;CN="Youth Group Rejects":MAILTO:ygrconfessions@gmail.com
END:VEVENT
END:VCALENDAR