BEGIN:VCALENDAR
VERSION:2.0
PRODID:-//MAX Ottawa - ECPv6.15.20//NONSGML v1.0//EN
CALSCALE:GREGORIAN
METHOD:PUBLISH
X-WR-CALNAME:MAX Ottawa
X-ORIGINAL-URL:https://maxottawa.ca
X-WR-CALDESC:Events for MAX Ottawa
REFRESH-INTERVAL;VALUE=DURATION:PT1H
X-Robots-Tag:noindex
X-PUBLISHED-TTL:PT1H
BEGIN:VTIMEZONE
TZID:America/Toronto
BEGIN:DAYLIGHT
TZOFFSETFROM:-0500
TZOFFSETTO:-0400
TZNAME:EDT
DTSTART:20250309T070000
END:DAYLIGHT
BEGIN:STANDARD
TZOFFSETFROM:-0400
TZOFFSETTO:-0500
TZNAME:EST
DTSTART:20251102T060000
END:STANDARD
BEGIN:DAYLIGHT
TZOFFSETFROM:-0500
TZOFFSETTO:-0400
TZNAME:EDT
DTSTART:20260308T070000
END:DAYLIGHT
BEGIN:STANDARD
TZOFFSETFROM:-0400
TZOFFSETTO:-0500
TZNAME:EST
DTSTART:20261101T060000
END:STANDARD
BEGIN:DAYLIGHT
TZOFFSETFROM:-0500
TZOFFSETTO:-0400
TZNAME:EDT
DTSTART:20270314T070000
END:DAYLIGHT
BEGIN:STANDARD
TZOFFSETFROM:-0400
TZOFFSETTO:-0500
TZNAME:EST
DTSTART:20271107T060000
END:STANDARD
END:VTIMEZONE
BEGIN:VEVENT
DTSTART;TZID=America/Toronto:20260116T200000
DTEND;TZID=America/Toronto:20260116T220000
DTSTAMP:20260423T170959
CREATED:20251230T211929Z
LAST-MODIFIED:20251230T211943Z
UID:10003825-1768593600-1768600800@maxottawa.ca
SUMMARY:Drag Night! At Zak's Diner Elgin
DESCRIPTION:Drag Night! is back at Zak’s Diner Elgin for 2026! Hostess Eden Moore is joined by the current reigning 2025 Ottawa Royal Court! \n\n\n\nDrag Night! is back by popular demand at Zak’s Diner Elgin – and we are kicking the year off with an unforgettable line-up! \n\n\n\nJoining fabulous hostess Eden Moore this month is none other than the current reigning 2025 Ottawa Royal Court\, which consists of the rockin’ & twisted Banshii Waylon (Mx. Capital Pride 2025)\, the sultry\, sports-sedan diva Portia Zum Zum (Ms. Capital Prider 2025)\, and the charming & charismatic Zak Zinya (Mr. Capital Pride 2025)! \n\n\n\nThis all-star cast is ready to impress with comedy\, camp\, glamour\, charisma\, high-energy performances\, & show-stopping looks- all to be enjoyed with your favorite delectable diner dishes! \n\n\n\nShow starts at 8:00pm\, with doors open at 7:30pm.
URL:https://maxottawa.ca/list/drag-night-at-zaks-diner-elgin/
LOCATION:Zak’s Diner Elgin\, 220 Elgin St.\, Ottawa\, Ontario\, K2P 1L7\, Canada
CATEGORIES:Drag & Burlesque,Nightlife,Ottawa
ORGANIZER;CN="Eden Moore":MAILTO:theedenmoore@gmail.com
END:VEVENT
END:VCALENDAR