BEGIN:VCALENDAR
VERSION:2.0
PRODID:-//MAX Ottawa - ECPv6.15.20//NONSGML v1.0//EN
CALSCALE:GREGORIAN
METHOD:PUBLISH
X-WR-CALNAME:MAX Ottawa
X-ORIGINAL-URL:https://maxottawa.ca
X-WR-CALDESC:Events for MAX Ottawa
REFRESH-INTERVAL;VALUE=DURATION:PT1H
X-Robots-Tag:noindex
X-PUBLISHED-TTL:PT1H
BEGIN:VTIMEZONE
TZID:America/Toronto
BEGIN:DAYLIGHT
TZOFFSETFROM:-0500
TZOFFSETTO:-0400
TZNAME:EDT
DTSTART:20250309T070000
END:DAYLIGHT
BEGIN:STANDARD
TZOFFSETFROM:-0400
TZOFFSETTO:-0500
TZNAME:EST
DTSTART:20251102T060000
END:STANDARD
BEGIN:DAYLIGHT
TZOFFSETFROM:-0500
TZOFFSETTO:-0400
TZNAME:EDT
DTSTART:20260308T070000
END:DAYLIGHT
BEGIN:STANDARD
TZOFFSETFROM:-0400
TZOFFSETTO:-0500
TZNAME:EST
DTSTART:20261101T060000
END:STANDARD
BEGIN:DAYLIGHT
TZOFFSETFROM:-0500
TZOFFSETTO:-0400
TZNAME:EDT
DTSTART:20270314T070000
END:DAYLIGHT
BEGIN:STANDARD
TZOFFSETFROM:-0400
TZOFFSETTO:-0500
TZNAME:EST
DTSTART:20271107T060000
END:STANDARD
END:VTIMEZONE
BEGIN:VEVENT
DTSTART;TZID=America/Toronto:20260219T203000
DTEND;TZID=America/Toronto:20260219T233000
DTSTAMP:20260423T114000
CREATED:20260217T224127Z
LAST-MODIFIED:20260217T224131Z
UID:10004759-1771533000-1771543800@maxottawa.ca
SUMMARY:Mek It Bunx Up
DESCRIPTION:Come out for a night of dancehall\, soca\, reggae and Afro beats in this special edition of Rouge Productions! \n\n\n\nCome out for a night of dancehall\, soca\, reggae and Afro beats in this special edition of rouge productions! We will be celebrating black joy this month with a pre show market\, FIRE burlesque acts\, a GoGo set that will MEK IT BUNX UP as well as a raffle and art auction in support of the Jamaican Hurricane Relief and Congo Support Aid ! \n\n\n\nDoors open at 8:30pm\, show starts at 9:30pm
URL:https://maxottawa.ca/list/mek-it-bunx-up/
LOCATION:Queen Street Fare\, 170 Queen St\, Ottawa\, ON\, K1P 5E1\, Canada
CATEGORIES:Drag & Burlesque,Nightlife,Ottawa
END:VEVENT
END:VCALENDAR