BEGIN:VCALENDAR
VERSION:2.0
PRODID:-//MAX Ottawa - ECPv6.15.20//NONSGML v1.0//EN
CALSCALE:GREGORIAN
METHOD:PUBLISH
X-WR-CALNAME:MAX Ottawa
X-ORIGINAL-URL:https://maxottawa.ca
X-WR-CALDESC:Events for MAX Ottawa
REFRESH-INTERVAL;VALUE=DURATION:PT1H
X-Robots-Tag:noindex
X-PUBLISHED-TTL:PT1H
BEGIN:VTIMEZONE
TZID:America/Toronto
BEGIN:DAYLIGHT
TZOFFSETFROM:-0500
TZOFFSETTO:-0400
TZNAME:EDT
DTSTART:20250309T070000
END:DAYLIGHT
BEGIN:STANDARD
TZOFFSETFROM:-0400
TZOFFSETTO:-0500
TZNAME:EST
DTSTART:20251102T060000
END:STANDARD
BEGIN:DAYLIGHT
TZOFFSETFROM:-0500
TZOFFSETTO:-0400
TZNAME:EDT
DTSTART:20260308T070000
END:DAYLIGHT
BEGIN:STANDARD
TZOFFSETFROM:-0400
TZOFFSETTO:-0500
TZNAME:EST
DTSTART:20261101T060000
END:STANDARD
BEGIN:DAYLIGHT
TZOFFSETFROM:-0500
TZOFFSETTO:-0400
TZNAME:EDT
DTSTART:20270314T070000
END:DAYLIGHT
BEGIN:STANDARD
TZOFFSETFROM:-0400
TZOFFSETTO:-0500
TZNAME:EST
DTSTART:20271107T060000
END:STANDARD
END:VTIMEZONE
BEGIN:VEVENT
DTSTART;TZID=America/Toronto:20260425T190000
DTEND;TZID=America/Toronto:20260425T220000
DTSTAMP:20260425T174021
CREATED:20241029T205445Z
LAST-MODIFIED:20241106T153226Z
UID:10000272-1777143600-1777154400@maxottawa.ca
SUMMARY:Bottomless Dine & Drag Dinner
DESCRIPTION:Every week\, on Saturday night\, Vanitea is the destination for the no. 1 voted drag dinner\, presented by beloved house host Devona Coe and a rotating calendar of featured local and visiting drag queens.Delivering their struts\, gag-worthy performances & all-over sass for your Saturday night pleasure\, + a fabulous 3 course tower (with meal included) and bottomless drinks!
URL:https://maxottawa.ca/list/bottomless-dine-drag-dinner/2026-04-25/
LOCATION:The Vanitea Room\, 551 Somerset St West\, Ottawa\, ON\, K1R 5J9\, Canada
CATEGORIES:Drag & Burlesque,Nightlife
END:VEVENT
BEGIN:VEVENT
DTSTART;TZID=America/Toronto:20260426T113000
DTEND;TZID=America/Toronto:20260426T140000
DTSTAMP:20260425T174021
CREATED:20241029T211828Z
LAST-MODIFIED:20241106T150829Z
UID:10000994-1777203000-1777212000@maxottawa.ca
SUMMARY:Drag Brunch
DESCRIPTION:Every last Sunday of the month (with the exception of pride week in the summer) is drag brunch. Check our calendar for details.If it’s the last Sunday of the month – its drag brunch. Seatings available at 11:30am and 2pm.Please note: that the drag brunch preset menu does NOT include bottomless mimosas – it includes one single mimosa with cuisine as indicated on the menu.Bottomless mimosas are an extra charge to your drag brunch package.
URL:https://maxottawa.ca/list/drag-brunch-2/2026-04-26/
LOCATION:The Vanitea Room\, 551 Somerset St West\, Ottawa\, ON\, K1R 5J9\, Canada
CATEGORIES:Drag & Burlesque
END:VEVENT
BEGIN:VEVENT
DTSTART;TZID=America/Toronto:20260429T200000
DTEND;TZID=America/Toronto:20260429T223000
DTSTAMP:20260425T174022
CREATED:20260421T165543Z
LAST-MODIFIED:20260421T165701Z
UID:10004988-1777492800-1777501800@maxottawa.ca
SUMMARY:The Great Drag-Kiing-Ification of Small Fish
DESCRIPTION:Small Fish is BAAACK!! Introducing the first ever @bj_stroker X @smallfishshow COLLAB! \n\n\n\nJoin us for a mystical\, magical soirée showcasing queered masculinities in all their glory. Watch as Maggie and Glenys evolve into kings for the very first time\, under the guidance of @thefrancis_coe\, @omaribjohnson_drag\, @houseofplushburlesque\, and most importantly\, their fairy drag daddy @bj_stroker 🥴🧚😻 \n\n\n\nIt’s a drag king show hosted by two comedians who are also turning into drag kings… COME CHECK IT!!! ❤️‍🔥❤️‍🔥❤️‍🔥❤️‍🔥 \n\n\n\nA comedy and variety show by and for marginalized folks. \n\n\n\nMasked event! We will have some at the door but bringing your own is encouraged! \n\n\n\nAll tickets are General Admission.  \n\n\n\nSeating is not guaranteed.  \n\n\n\nPlease come early to get a good seat. \n\n\n\n19 + after 9 PM
URL:https://maxottawa.ca/list/the-great-drag-kiing-ification-of-small-fish/
LOCATION:Irene’s Pub\, 885 Bank St.\, Ottawa\, Ontario\, K1S 3W4\, Canada
CATEGORIES:Drag & Burlesque,Nightlife,Ottawa
END:VEVENT
BEGIN:VEVENT
DTSTART;TZID=America/Toronto:20260502T190000
DTEND;TZID=America/Toronto:20260502T220000
DTSTAMP:20260425T174022
CREATED:20241029T205445Z
LAST-MODIFIED:20241106T153226Z
UID:10000273-1777748400-1777759200@maxottawa.ca
SUMMARY:Bottomless Dine & Drag Dinner
DESCRIPTION:Every week\, on Saturday night\, Vanitea is the destination for the no. 1 voted drag dinner\, presented by beloved house host Devona Coe and a rotating calendar of featured local and visiting drag queens.Delivering their struts\, gag-worthy performances & all-over sass for your Saturday night pleasure\, + a fabulous 3 course tower (with meal included) and bottomless drinks!
URL:https://maxottawa.ca/list/bottomless-dine-drag-dinner/2026-05-02/
LOCATION:The Vanitea Room\, 551 Somerset St West\, Ottawa\, ON\, K1R 5J9\, Canada
CATEGORIES:Drag & Burlesque,Nightlife
END:VEVENT
BEGIN:VEVENT
DTSTART;TZID=America/Toronto:20260509T190000
DTEND;TZID=America/Toronto:20260509T220000
DTSTAMP:20260425T174022
CREATED:20241029T205445Z
LAST-MODIFIED:20241106T153226Z
UID:10000274-1778353200-1778364000@maxottawa.ca
SUMMARY:Bottomless Dine & Drag Dinner
DESCRIPTION:Every week\, on Saturday night\, Vanitea is the destination for the no. 1 voted drag dinner\, presented by beloved house host Devona Coe and a rotating calendar of featured local and visiting drag queens.Delivering their struts\, gag-worthy performances & all-over sass for your Saturday night pleasure\, + a fabulous 3 course tower (with meal included) and bottomless drinks!
URL:https://maxottawa.ca/list/bottomless-dine-drag-dinner/2026-05-09/
LOCATION:The Vanitea Room\, 551 Somerset St West\, Ottawa\, ON\, K1R 5J9\, Canada
CATEGORIES:Drag & Burlesque,Nightlife
END:VEVENT
BEGIN:VEVENT
DTSTART;TZID=America/Toronto:20260516T190000
DTEND;TZID=America/Toronto:20260516T220000
DTSTAMP:20260425T174022
CREATED:20241029T205445Z
LAST-MODIFIED:20241106T153226Z
UID:10000275-1778958000-1778968800@maxottawa.ca
SUMMARY:Bottomless Dine & Drag Dinner
DESCRIPTION:Every week\, on Saturday night\, Vanitea is the destination for the no. 1 voted drag dinner\, presented by beloved house host Devona Coe and a rotating calendar of featured local and visiting drag queens.Delivering their struts\, gag-worthy performances & all-over sass for your Saturday night pleasure\, + a fabulous 3 course tower (with meal included) and bottomless drinks!
URL:https://maxottawa.ca/list/bottomless-dine-drag-dinner/2026-05-16/
LOCATION:The Vanitea Room\, 551 Somerset St West\, Ottawa\, ON\, K1R 5J9\, Canada
CATEGORIES:Drag & Burlesque,Nightlife
END:VEVENT
BEGIN:VEVENT
DTSTART;TZID=America/Toronto:20260523T190000
DTEND;TZID=America/Toronto:20260523T220000
DTSTAMP:20260425T174022
CREATED:20241029T205445Z
LAST-MODIFIED:20241106T153226Z
UID:10000276-1779562800-1779573600@maxottawa.ca
SUMMARY:Bottomless Dine & Drag Dinner
DESCRIPTION:Every week\, on Saturday night\, Vanitea is the destination for the no. 1 voted drag dinner\, presented by beloved house host Devona Coe and a rotating calendar of featured local and visiting drag queens.Delivering their struts\, gag-worthy performances & all-over sass for your Saturday night pleasure\, + a fabulous 3 course tower (with meal included) and bottomless drinks!
URL:https://maxottawa.ca/list/bottomless-dine-drag-dinner/2026-05-23/
LOCATION:The Vanitea Room\, 551 Somerset St West\, Ottawa\, ON\, K1R 5J9\, Canada
CATEGORIES:Drag & Burlesque,Nightlife
END:VEVENT
BEGIN:VEVENT
DTSTART;TZID=America/Toronto:20260530T190000
DTEND;TZID=America/Toronto:20260530T220000
DTSTAMP:20260425T174022
CREATED:20241029T205445Z
LAST-MODIFIED:20241106T153226Z
UID:10000277-1780167600-1780178400@maxottawa.ca
SUMMARY:Bottomless Dine & Drag Dinner
DESCRIPTION:Every week\, on Saturday night\, Vanitea is the destination for the no. 1 voted drag dinner\, presented by beloved house host Devona Coe and a rotating calendar of featured local and visiting drag queens.Delivering their struts\, gag-worthy performances & all-over sass for your Saturday night pleasure\, + a fabulous 3 course tower (with meal included) and bottomless drinks!
URL:https://maxottawa.ca/list/bottomless-dine-drag-dinner/2026-05-30/
LOCATION:The Vanitea Room\, 551 Somerset St West\, Ottawa\, ON\, K1R 5J9\, Canada
CATEGORIES:Drag & Burlesque,Nightlife
END:VEVENT
BEGIN:VEVENT
DTSTART;TZID=America/Toronto:20260531T113000
DTEND;TZID=America/Toronto:20260531T140000
DTSTAMP:20260425T174022
CREATED:20241029T211828Z
LAST-MODIFIED:20241106T150829Z
UID:10000995-1780227000-1780236000@maxottawa.ca
SUMMARY:Drag Brunch
DESCRIPTION:Every last Sunday of the month (with the exception of pride week in the summer) is drag brunch. Check our calendar for details.If it’s the last Sunday of the month – its drag brunch. Seatings available at 11:30am and 2pm.Please note: that the drag brunch preset menu does NOT include bottomless mimosas – it includes one single mimosa with cuisine as indicated on the menu.Bottomless mimosas are an extra charge to your drag brunch package.
URL:https://maxottawa.ca/list/drag-brunch-2/2026-05-31/
LOCATION:The Vanitea Room\, 551 Somerset St West\, Ottawa\, ON\, K1R 5J9\, Canada
CATEGORIES:Drag & Burlesque
END:VEVENT
BEGIN:VEVENT
DTSTART;TZID=America/Toronto:20260606T190000
DTEND;TZID=America/Toronto:20260606T220000
DTSTAMP:20260425T174022
CREATED:20241029T205445Z
LAST-MODIFIED:20241106T153226Z
UID:10000278-1780772400-1780783200@maxottawa.ca
SUMMARY:Bottomless Dine & Drag Dinner
DESCRIPTION:Every week\, on Saturday night\, Vanitea is the destination for the no. 1 voted drag dinner\, presented by beloved house host Devona Coe and a rotating calendar of featured local and visiting drag queens.Delivering their struts\, gag-worthy performances & all-over sass for your Saturday night pleasure\, + a fabulous 3 course tower (with meal included) and bottomless drinks!
URL:https://maxottawa.ca/list/bottomless-dine-drag-dinner/2026-06-06/
LOCATION:The Vanitea Room\, 551 Somerset St West\, Ottawa\, ON\, K1R 5J9\, Canada
CATEGORIES:Drag & Burlesque,Nightlife
END:VEVENT
BEGIN:VEVENT
DTSTART;TZID=America/Toronto:20260613T190000
DTEND;TZID=America/Toronto:20260613T220000
DTSTAMP:20260425T174022
CREATED:20241029T205445Z
LAST-MODIFIED:20241106T153226Z
UID:10000279-1781377200-1781388000@maxottawa.ca
SUMMARY:Bottomless Dine & Drag Dinner
DESCRIPTION:Every week\, on Saturday night\, Vanitea is the destination for the no. 1 voted drag dinner\, presented by beloved house host Devona Coe and a rotating calendar of featured local and visiting drag queens.Delivering their struts\, gag-worthy performances & all-over sass for your Saturday night pleasure\, + a fabulous 3 course tower (with meal included) and bottomless drinks!
URL:https://maxottawa.ca/list/bottomless-dine-drag-dinner/2026-06-13/
LOCATION:The Vanitea Room\, 551 Somerset St West\, Ottawa\, ON\, K1R 5J9\, Canada
CATEGORIES:Drag & Burlesque,Nightlife
END:VEVENT
BEGIN:VEVENT
DTSTART;TZID=America/Toronto:20260620T190000
DTEND;TZID=America/Toronto:20260620T220000
DTSTAMP:20260425T174022
CREATED:20241029T205445Z
LAST-MODIFIED:20241106T153226Z
UID:10000280-1781982000-1781992800@maxottawa.ca
SUMMARY:Bottomless Dine & Drag Dinner
DESCRIPTION:Every week\, on Saturday night\, Vanitea is the destination for the no. 1 voted drag dinner\, presented by beloved house host Devona Coe and a rotating calendar of featured local and visiting drag queens.Delivering their struts\, gag-worthy performances & all-over sass for your Saturday night pleasure\, + a fabulous 3 course tower (with meal included) and bottomless drinks!
URL:https://maxottawa.ca/list/bottomless-dine-drag-dinner/2026-06-20/
LOCATION:The Vanitea Room\, 551 Somerset St West\, Ottawa\, ON\, K1R 5J9\, Canada
CATEGORIES:Drag & Burlesque,Nightlife
END:VEVENT
BEGIN:VEVENT
DTSTART;TZID=America/Toronto:20260627T190000
DTEND;TZID=America/Toronto:20260627T220000
DTSTAMP:20260425T174022
CREATED:20241029T205445Z
LAST-MODIFIED:20241106T153226Z
UID:10000281-1782586800-1782597600@maxottawa.ca
SUMMARY:Bottomless Dine & Drag Dinner
DESCRIPTION:Every week\, on Saturday night\, Vanitea is the destination for the no. 1 voted drag dinner\, presented by beloved house host Devona Coe and a rotating calendar of featured local and visiting drag queens.Delivering their struts\, gag-worthy performances & all-over sass for your Saturday night pleasure\, + a fabulous 3 course tower (with meal included) and bottomless drinks!
URL:https://maxottawa.ca/list/bottomless-dine-drag-dinner/2026-06-27/
LOCATION:The Vanitea Room\, 551 Somerset St West\, Ottawa\, ON\, K1R 5J9\, Canada
CATEGORIES:Drag & Burlesque,Nightlife
END:VEVENT
BEGIN:VEVENT
DTSTART;TZID=America/Toronto:20260628T113000
DTEND;TZID=America/Toronto:20260628T140000
DTSTAMP:20260425T174022
CREATED:20241029T211828Z
LAST-MODIFIED:20241106T150829Z
UID:10000996-1782646200-1782655200@maxottawa.ca
SUMMARY:Drag Brunch
DESCRIPTION:Every last Sunday of the month (with the exception of pride week in the summer) is drag brunch. Check our calendar for details.If it’s the last Sunday of the month – its drag brunch. Seatings available at 11:30am and 2pm.Please note: that the drag brunch preset menu does NOT include bottomless mimosas – it includes one single mimosa with cuisine as indicated on the menu.Bottomless mimosas are an extra charge to your drag brunch package.
URL:https://maxottawa.ca/list/drag-brunch-2/2026-06-28/
LOCATION:The Vanitea Room\, 551 Somerset St West\, Ottawa\, ON\, K1R 5J9\, Canada
CATEGORIES:Drag & Burlesque
END:VEVENT
BEGIN:VEVENT
DTSTART;TZID=America/Toronto:20260704T190000
DTEND;TZID=America/Toronto:20260704T220000
DTSTAMP:20260425T174022
CREATED:20241029T205445Z
LAST-MODIFIED:20241106T153226Z
UID:10000282-1783191600-1783202400@maxottawa.ca
SUMMARY:Bottomless Dine & Drag Dinner
DESCRIPTION:Every week\, on Saturday night\, Vanitea is the destination for the no. 1 voted drag dinner\, presented by beloved house host Devona Coe and a rotating calendar of featured local and visiting drag queens.Delivering their struts\, gag-worthy performances & all-over sass for your Saturday night pleasure\, + a fabulous 3 course tower (with meal included) and bottomless drinks!
URL:https://maxottawa.ca/list/bottomless-dine-drag-dinner/2026-07-04/
LOCATION:The Vanitea Room\, 551 Somerset St West\, Ottawa\, ON\, K1R 5J9\, Canada
CATEGORIES:Drag & Burlesque,Nightlife
END:VEVENT
BEGIN:VEVENT
DTSTART;TZID=America/Toronto:20260711T190000
DTEND;TZID=America/Toronto:20260711T220000
DTSTAMP:20260425T174022
CREATED:20241029T205445Z
LAST-MODIFIED:20241106T153226Z
UID:10000283-1783796400-1783807200@maxottawa.ca
SUMMARY:Bottomless Dine & Drag Dinner
DESCRIPTION:Every week\, on Saturday night\, Vanitea is the destination for the no. 1 voted drag dinner\, presented by beloved house host Devona Coe and a rotating calendar of featured local and visiting drag queens.Delivering their struts\, gag-worthy performances & all-over sass for your Saturday night pleasure\, + a fabulous 3 course tower (with meal included) and bottomless drinks!
URL:https://maxottawa.ca/list/bottomless-dine-drag-dinner/2026-07-11/
LOCATION:The Vanitea Room\, 551 Somerset St West\, Ottawa\, ON\, K1R 5J9\, Canada
CATEGORIES:Drag & Burlesque,Nightlife
END:VEVENT
BEGIN:VEVENT
DTSTART;TZID=America/Toronto:20260718T190000
DTEND;TZID=America/Toronto:20260718T220000
DTSTAMP:20260425T174022
CREATED:20241029T205445Z
LAST-MODIFIED:20241106T153226Z
UID:10000284-1784401200-1784412000@maxottawa.ca
SUMMARY:Bottomless Dine & Drag Dinner
DESCRIPTION:Every week\, on Saturday night\, Vanitea is the destination for the no. 1 voted drag dinner\, presented by beloved house host Devona Coe and a rotating calendar of featured local and visiting drag queens.Delivering their struts\, gag-worthy performances & all-over sass for your Saturday night pleasure\, + a fabulous 3 course tower (with meal included) and bottomless drinks!
URL:https://maxottawa.ca/list/bottomless-dine-drag-dinner/2026-07-18/
LOCATION:The Vanitea Room\, 551 Somerset St West\, Ottawa\, ON\, K1R 5J9\, Canada
CATEGORIES:Drag & Burlesque,Nightlife
END:VEVENT
BEGIN:VEVENT
DTSTART;TZID=America/Toronto:20260725T190000
DTEND;TZID=America/Toronto:20260725T220000
DTSTAMP:20260425T174022
CREATED:20241029T205445Z
LAST-MODIFIED:20241106T153226Z
UID:10000285-1785006000-1785016800@maxottawa.ca
SUMMARY:Bottomless Dine & Drag Dinner
DESCRIPTION:Every week\, on Saturday night\, Vanitea is the destination for the no. 1 voted drag dinner\, presented by beloved house host Devona Coe and a rotating calendar of featured local and visiting drag queens.Delivering their struts\, gag-worthy performances & all-over sass for your Saturday night pleasure\, + a fabulous 3 course tower (with meal included) and bottomless drinks!
URL:https://maxottawa.ca/list/bottomless-dine-drag-dinner/2026-07-25/
LOCATION:The Vanitea Room\, 551 Somerset St West\, Ottawa\, ON\, K1R 5J9\, Canada
CATEGORIES:Drag & Burlesque,Nightlife
END:VEVENT
BEGIN:VEVENT
DTSTART;TZID=America/Toronto:20260726T113000
DTEND;TZID=America/Toronto:20260726T140000
DTSTAMP:20260425T174022
CREATED:20241029T211828Z
LAST-MODIFIED:20241106T150829Z
UID:10000997-1785065400-1785074400@maxottawa.ca
SUMMARY:Drag Brunch
DESCRIPTION:Every last Sunday of the month (with the exception of pride week in the summer) is drag brunch. Check our calendar for details.If it’s the last Sunday of the month – its drag brunch. Seatings available at 11:30am and 2pm.Please note: that the drag brunch preset menu does NOT include bottomless mimosas – it includes one single mimosa with cuisine as indicated on the menu.Bottomless mimosas are an extra charge to your drag brunch package.
URL:https://maxottawa.ca/list/drag-brunch-2/2026-07-26/
LOCATION:The Vanitea Room\, 551 Somerset St West\, Ottawa\, ON\, K1R 5J9\, Canada
CATEGORIES:Drag & Burlesque
END:VEVENT
BEGIN:VEVENT
DTSTART;TZID=America/Toronto:20260801T190000
DTEND;TZID=America/Toronto:20260801T220000
DTSTAMP:20260425T174022
CREATED:20241029T205445Z
LAST-MODIFIED:20241106T153226Z
UID:10000286-1785610800-1785621600@maxottawa.ca
SUMMARY:Bottomless Dine & Drag Dinner
DESCRIPTION:Every week\, on Saturday night\, Vanitea is the destination for the no. 1 voted drag dinner\, presented by beloved house host Devona Coe and a rotating calendar of featured local and visiting drag queens.Delivering their struts\, gag-worthy performances & all-over sass for your Saturday night pleasure\, + a fabulous 3 course tower (with meal included) and bottomless drinks!
URL:https://maxottawa.ca/list/bottomless-dine-drag-dinner/2026-08-01/
LOCATION:The Vanitea Room\, 551 Somerset St West\, Ottawa\, ON\, K1R 5J9\, Canada
CATEGORIES:Drag & Burlesque,Nightlife
END:VEVENT
BEGIN:VEVENT
DTSTART;TZID=America/Toronto:20260808T190000
DTEND;TZID=America/Toronto:20260808T220000
DTSTAMP:20260425T174022
CREATED:20241029T205445Z
LAST-MODIFIED:20241106T153226Z
UID:10000287-1786215600-1786226400@maxottawa.ca
SUMMARY:Bottomless Dine & Drag Dinner
DESCRIPTION:Every week\, on Saturday night\, Vanitea is the destination for the no. 1 voted drag dinner\, presented by beloved house host Devona Coe and a rotating calendar of featured local and visiting drag queens.Delivering their struts\, gag-worthy performances & all-over sass for your Saturday night pleasure\, + a fabulous 3 course tower (with meal included) and bottomless drinks!
URL:https://maxottawa.ca/list/bottomless-dine-drag-dinner/2026-08-08/
LOCATION:The Vanitea Room\, 551 Somerset St West\, Ottawa\, ON\, K1R 5J9\, Canada
CATEGORIES:Drag & Burlesque,Nightlife
END:VEVENT
BEGIN:VEVENT
DTSTART;TZID=America/Toronto:20260815T190000
DTEND;TZID=America/Toronto:20260815T220000
DTSTAMP:20260425T174022
CREATED:20241029T205445Z
LAST-MODIFIED:20241106T153226Z
UID:10000288-1786820400-1786831200@maxottawa.ca
SUMMARY:Bottomless Dine & Drag Dinner
DESCRIPTION:Every week\, on Saturday night\, Vanitea is the destination for the no. 1 voted drag dinner\, presented by beloved house host Devona Coe and a rotating calendar of featured local and visiting drag queens.Delivering their struts\, gag-worthy performances & all-over sass for your Saturday night pleasure\, + a fabulous 3 course tower (with meal included) and bottomless drinks!
URL:https://maxottawa.ca/list/bottomless-dine-drag-dinner/2026-08-15/
LOCATION:The Vanitea Room\, 551 Somerset St West\, Ottawa\, ON\, K1R 5J9\, Canada
CATEGORIES:Drag & Burlesque,Nightlife
END:VEVENT
BEGIN:VEVENT
DTSTART;TZID=America/Toronto:20260822T190000
DTEND;TZID=America/Toronto:20260822T220000
DTSTAMP:20260425T174022
CREATED:20241029T205445Z
LAST-MODIFIED:20241106T153226Z
UID:10000289-1787425200-1787436000@maxottawa.ca
SUMMARY:Bottomless Dine & Drag Dinner
DESCRIPTION:Every week\, on Saturday night\, Vanitea is the destination for the no. 1 voted drag dinner\, presented by beloved house host Devona Coe and a rotating calendar of featured local and visiting drag queens.Delivering their struts\, gag-worthy performances & all-over sass for your Saturday night pleasure\, + a fabulous 3 course tower (with meal included) and bottomless drinks!
URL:https://maxottawa.ca/list/bottomless-dine-drag-dinner/2026-08-22/
LOCATION:The Vanitea Room\, 551 Somerset St West\, Ottawa\, ON\, K1R 5J9\, Canada
CATEGORIES:Drag & Burlesque,Nightlife
END:VEVENT
BEGIN:VEVENT
DTSTART;TZID=America/Toronto:20260829T190000
DTEND;TZID=America/Toronto:20260829T220000
DTSTAMP:20260425T174022
CREATED:20241029T205445Z
LAST-MODIFIED:20241106T153226Z
UID:10000290-1788030000-1788040800@maxottawa.ca
SUMMARY:Bottomless Dine & Drag Dinner
DESCRIPTION:Every week\, on Saturday night\, Vanitea is the destination for the no. 1 voted drag dinner\, presented by beloved house host Devona Coe and a rotating calendar of featured local and visiting drag queens.Delivering their struts\, gag-worthy performances & all-over sass for your Saturday night pleasure\, + a fabulous 3 course tower (with meal included) and bottomless drinks!
URL:https://maxottawa.ca/list/bottomless-dine-drag-dinner/2026-08-29/
LOCATION:The Vanitea Room\, 551 Somerset St West\, Ottawa\, ON\, K1R 5J9\, Canada
CATEGORIES:Drag & Burlesque,Nightlife
END:VEVENT
BEGIN:VEVENT
DTSTART;TZID=America/Toronto:20260830T113000
DTEND;TZID=America/Toronto:20260830T140000
DTSTAMP:20260425T174022
CREATED:20241029T211828Z
LAST-MODIFIED:20241106T150829Z
UID:10000998-1788089400-1788098400@maxottawa.ca
SUMMARY:Drag Brunch
DESCRIPTION:Every last Sunday of the month (with the exception of pride week in the summer) is drag brunch. Check our calendar for details.If it’s the last Sunday of the month – its drag brunch. Seatings available at 11:30am and 2pm.Please note: that the drag brunch preset menu does NOT include bottomless mimosas – it includes one single mimosa with cuisine as indicated on the menu.Bottomless mimosas are an extra charge to your drag brunch package.
URL:https://maxottawa.ca/list/drag-brunch-2/2026-08-30/
LOCATION:The Vanitea Room\, 551 Somerset St West\, Ottawa\, ON\, K1R 5J9\, Canada
CATEGORIES:Drag & Burlesque
END:VEVENT
BEGIN:VEVENT
DTSTART;TZID=America/Toronto:20260905T190000
DTEND;TZID=America/Toronto:20260905T220000
DTSTAMP:20260425T174022
CREATED:20241029T205445Z
LAST-MODIFIED:20241106T153226Z
UID:10000291-1788634800-1788645600@maxottawa.ca
SUMMARY:Bottomless Dine & Drag Dinner
DESCRIPTION:Every week\, on Saturday night\, Vanitea is the destination for the no. 1 voted drag dinner\, presented by beloved house host Devona Coe and a rotating calendar of featured local and visiting drag queens.Delivering their struts\, gag-worthy performances & all-over sass for your Saturday night pleasure\, + a fabulous 3 course tower (with meal included) and bottomless drinks!
URL:https://maxottawa.ca/list/bottomless-dine-drag-dinner/2026-09-05/
LOCATION:The Vanitea Room\, 551 Somerset St West\, Ottawa\, ON\, K1R 5J9\, Canada
CATEGORIES:Drag & Burlesque,Nightlife
END:VEVENT
BEGIN:VEVENT
DTSTART;TZID=America/Toronto:20260912T190000
DTEND;TZID=America/Toronto:20260912T220000
DTSTAMP:20260425T174022
CREATED:20241029T205445Z
LAST-MODIFIED:20241106T153226Z
UID:10000292-1789239600-1789250400@maxottawa.ca
SUMMARY:Bottomless Dine & Drag Dinner
DESCRIPTION:Every week\, on Saturday night\, Vanitea is the destination for the no. 1 voted drag dinner\, presented by beloved house host Devona Coe and a rotating calendar of featured local and visiting drag queens.Delivering their struts\, gag-worthy performances & all-over sass for your Saturday night pleasure\, + a fabulous 3 course tower (with meal included) and bottomless drinks!
URL:https://maxottawa.ca/list/bottomless-dine-drag-dinner/2026-09-12/
LOCATION:The Vanitea Room\, 551 Somerset St West\, Ottawa\, ON\, K1R 5J9\, Canada
CATEGORIES:Drag & Burlesque,Nightlife
END:VEVENT
BEGIN:VEVENT
DTSTART;TZID=America/Toronto:20260919T190000
DTEND;TZID=America/Toronto:20260919T220000
DTSTAMP:20260425T174022
CREATED:20241029T205445Z
LAST-MODIFIED:20241106T153226Z
UID:10000293-1789844400-1789855200@maxottawa.ca
SUMMARY:Bottomless Dine & Drag Dinner
DESCRIPTION:Every week\, on Saturday night\, Vanitea is the destination for the no. 1 voted drag dinner\, presented by beloved house host Devona Coe and a rotating calendar of featured local and visiting drag queens.Delivering their struts\, gag-worthy performances & all-over sass for your Saturday night pleasure\, + a fabulous 3 course tower (with meal included) and bottomless drinks!
URL:https://maxottawa.ca/list/bottomless-dine-drag-dinner/2026-09-19/
LOCATION:The Vanitea Room\, 551 Somerset St West\, Ottawa\, ON\, K1R 5J9\, Canada
CATEGORIES:Drag & Burlesque,Nightlife
END:VEVENT
BEGIN:VEVENT
DTSTART;TZID=America/Toronto:20260926T190000
DTEND;TZID=America/Toronto:20260926T220000
DTSTAMP:20260425T174022
CREATED:20241029T205445Z
LAST-MODIFIED:20241106T153226Z
UID:10000294-1790449200-1790460000@maxottawa.ca
SUMMARY:Bottomless Dine & Drag Dinner
DESCRIPTION:Every week\, on Saturday night\, Vanitea is the destination for the no. 1 voted drag dinner\, presented by beloved house host Devona Coe and a rotating calendar of featured local and visiting drag queens.Delivering their struts\, gag-worthy performances & all-over sass for your Saturday night pleasure\, + a fabulous 3 course tower (with meal included) and bottomless drinks!
URL:https://maxottawa.ca/list/bottomless-dine-drag-dinner/2026-09-26/
LOCATION:The Vanitea Room\, 551 Somerset St West\, Ottawa\, ON\, K1R 5J9\, Canada
CATEGORIES:Drag & Burlesque,Nightlife
END:VEVENT
BEGIN:VEVENT
DTSTART;TZID=America/Toronto:20260927T113000
DTEND;TZID=America/Toronto:20260927T140000
DTSTAMP:20260425T174022
CREATED:20241029T211828Z
LAST-MODIFIED:20241106T150829Z
UID:10000999-1790508600-1790517600@maxottawa.ca
SUMMARY:Drag Brunch
DESCRIPTION:Every last Sunday of the month (with the exception of pride week in the summer) is drag brunch. Check our calendar for details.If it’s the last Sunday of the month – its drag brunch. Seatings available at 11:30am and 2pm.Please note: that the drag brunch preset menu does NOT include bottomless mimosas – it includes one single mimosa with cuisine as indicated on the menu.Bottomless mimosas are an extra charge to your drag brunch package.
URL:https://maxottawa.ca/list/drag-brunch-2/2026-09-27/
LOCATION:The Vanitea Room\, 551 Somerset St West\, Ottawa\, ON\, K1R 5J9\, Canada
CATEGORIES:Drag & Burlesque
END:VEVENT
END:VCALENDAR