BEGIN:VCALENDAR
VERSION:2.0
PRODID:-//MAX Ottawa - ECPv6.15.20//NONSGML v1.0//EN
CALSCALE:GREGORIAN
METHOD:PUBLISH
X-ORIGINAL-URL:https://maxottawa.ca
X-WR-CALDESC:Events for MAX Ottawa
REFRESH-INTERVAL;VALUE=DURATION:PT1H
X-Robots-Tag:noindex
X-PUBLISHED-TTL:PT1H
BEGIN:VTIMEZONE
TZID:America/Toronto
BEGIN:DAYLIGHT
TZOFFSETFROM:-0500
TZOFFSETTO:-0400
TZNAME:EDT
DTSTART:20250309T070000
END:DAYLIGHT
BEGIN:STANDARD
TZOFFSETFROM:-0400
TZOFFSETTO:-0500
TZNAME:EST
DTSTART:20251102T060000
END:STANDARD
BEGIN:DAYLIGHT
TZOFFSETFROM:-0500
TZOFFSETTO:-0400
TZNAME:EDT
DTSTART:20260308T070000
END:DAYLIGHT
BEGIN:STANDARD
TZOFFSETFROM:-0400
TZOFFSETTO:-0500
TZNAME:EST
DTSTART:20261101T060000
END:STANDARD
BEGIN:DAYLIGHT
TZOFFSETFROM:-0500
TZOFFSETTO:-0400
TZNAME:EDT
DTSTART:20270314T070000
END:DAYLIGHT
BEGIN:STANDARD
TZOFFSETFROM:-0400
TZOFFSETTO:-0500
TZNAME:EST
DTSTART:20271107T060000
END:STANDARD
END:VTIMEZONE
BEGIN:VEVENT
DTSTART;TZID=America/Toronto:20260424T203000
DTEND;TZID=America/Toronto:20260424T223000
DTSTAMP:20260424T003845
CREATED:20260408T185201Z
LAST-MODIFIED:20260416T134726Z
UID:10004942-1777062600-1777069800@maxottawa.ca
SUMMARY:Sapphic Night at The Lookout
DESCRIPTION:She’s back by popular demand — SAPPHIC NIGHT at The Lookout! 💋🧡🤍🩷 Tell your friends… 😉✨ \n\n\n\nHosted by Wysteria Root with performances by Mx. Tique and Toronto’s Manny Dingo! ⚡️ + DJ Roxy will be in the booth to keep you dancing all night long! \n\n\n\nPlease arrive together and on time for the show. Tables may be reseated at our sole discretion in the event that reservations have not arrived more than 15 minutes after the scheduled showtime. Refunds not granted within 48 hours of showtime. \n\n\n\nPerformer lineup subject to change; all Lookout programming is 19+.
URL:https://maxottawa.ca/list/sapphic-night-at-the-lookout-4/
LOCATION:The Lookout Bar\, 41 York Street\, 2nd Floor\, Ottawa\, ON\, K1N 5S7\, Canada
CATEGORIES:Drag & Burlesque,Nightlife,Ottawa
END:VEVENT
BEGIN:VEVENT
DTSTART;TZID=America/Toronto:20260424T233000
DTEND;TZID=America/Toronto:20260425T020000
DTSTAMP:20260424T003845
CREATED:20260408T184717Z
LAST-MODIFIED:20260416T134945Z
UID:10004941-1777073400-1777082400@maxottawa.ca
SUMMARY:Sapphic Night at The Lookout
DESCRIPTION:She’s back by popular demand — SAPPHIC NIGHT at The Lookout! 💋🧡🤍🩷 Tell your friends… 😉✨ \n\n\n\nHosted by Wysteria Root with performances by Mx. Tique and Toronto’s Manny Dingo! ⚡️ + DJ Roxy will be in the booth to keep you dancing all night long! \n\n\n\nWe’ll see you there at Ottawa’s Home for Drag! 🌈🩷🤍🧡
URL:https://maxottawa.ca/list/sapphic-night-at-the-lookout-3/
LOCATION:The Lookout Bar\, 41 York Street\, 2nd Floor\, Ottawa\, ON\, K1N 5S7\, Canada
CATEGORIES:Drag & Burlesque,Nightlife,Ottawa
END:VEVENT
END:VCALENDAR