BEGIN:VCALENDAR
VERSION:2.0
PRODID:-//MAX Ottawa - ECPv6.15.20//NONSGML v1.0//EN
CALSCALE:GREGORIAN
METHOD:PUBLISH
X-WR-CALNAME:MAX Ottawa
X-ORIGINAL-URL:https://maxottawa.ca
X-WR-CALDESC:Events for MAX Ottawa
REFRESH-INTERVAL;VALUE=DURATION:PT1H
X-Robots-Tag:noindex
X-PUBLISHED-TTL:PT1H
BEGIN:VTIMEZONE
TZID:America/Toronto
BEGIN:DAYLIGHT
TZOFFSETFROM:-0500
TZOFFSETTO:-0400
TZNAME:EDT
DTSTART:20240310T070000
END:DAYLIGHT
BEGIN:STANDARD
TZOFFSETFROM:-0400
TZOFFSETTO:-0500
TZNAME:EST
DTSTART:20241103T060000
END:STANDARD
BEGIN:DAYLIGHT
TZOFFSETFROM:-0500
TZOFFSETTO:-0400
TZNAME:EDT
DTSTART:20250309T070000
END:DAYLIGHT
BEGIN:STANDARD
TZOFFSETFROM:-0400
TZOFFSETTO:-0500
TZNAME:EST
DTSTART:20251102T060000
END:STANDARD
BEGIN:DAYLIGHT
TZOFFSETFROM:-0500
TZOFFSETTO:-0400
TZNAME:EDT
DTSTART:20260308T070000
END:DAYLIGHT
BEGIN:STANDARD
TZOFFSETFROM:-0400
TZOFFSETTO:-0500
TZNAME:EST
DTSTART:20261101T060000
END:STANDARD
END:VTIMEZONE
BEGIN:VEVENT
DTSTART;TZID=America/Toronto:20250119T133000
DTEND;TZID=America/Toronto:20250119T150000
DTSTAMP:20260421T030355
CREATED:20250109T023625Z
LAST-MODIFIED:20250109T023633Z
UID:10001586-1737293400-1737298800@maxottawa.ca
SUMMARY:Drag 101 Workshop Gr 5-9
DESCRIPTION:Local popular drag king Zak Zinya (Michelle) is offering a workshop teaching the basics of drag in “Drag 101! Drag is an art form where people create a character/persona to present gender in interesting and creative ways. In this all ages hands-on interactive workshop\, participants will learn the fun basics of drag makeup\, character development\, lip synching\, dance/movement\, costuming\, and how to build confidence and stage presence to perform drag! Come join us to develop your creativity & celebrate diversity! \n\n\n\nRoom: Glebe CC Multipurpose Room \n\n\n\nRequired age: 10 – 14 years old as of 12/31/2024 \n\n\n\nNotes: If you are at all unwell\, please do not attend GNAG activities. in the interest of protecting the health of the other participants and staff.
URL:https://maxottawa.ca/list/drag-101-workshop-gr-5-9/
LOCATION:Glebe Community Center\, 175 Third Ave.\, Ottawa\, Ontario\, K1S 2K2\, Canada
CATEGORIES:Drag & Burlesque,Family friendly
ORGANIZER;CN="Michelle Zakrison":MAILTO:michelle.zakrison@gmail.com
END:VEVENT
END:VCALENDAR