BEGIN:VCALENDAR
VERSION:2.0
PRODID:-//MAX Ottawa - ECPv6.15.20//NONSGML v1.0//EN
CALSCALE:GREGORIAN
METHOD:PUBLISH
X-WR-CALNAME:MAX Ottawa
X-ORIGINAL-URL:https://maxottawa.ca
X-WR-CALDESC:Events for MAX Ottawa
REFRESH-INTERVAL;VALUE=DURATION:PT1H
X-Robots-Tag:noindex
X-PUBLISHED-TTL:PT1H
BEGIN:VTIMEZONE
TZID:America/Toronto
BEGIN:DAYLIGHT
TZOFFSETFROM:-0500
TZOFFSETTO:-0400
TZNAME:EDT
DTSTART:20240310T070000
END:DAYLIGHT
BEGIN:STANDARD
TZOFFSETFROM:-0400
TZOFFSETTO:-0500
TZNAME:EST
DTSTART:20241103T060000
END:STANDARD
BEGIN:DAYLIGHT
TZOFFSETFROM:-0500
TZOFFSETTO:-0400
TZNAME:EDT
DTSTART:20250309T070000
END:DAYLIGHT
BEGIN:STANDARD
TZOFFSETFROM:-0400
TZOFFSETTO:-0500
TZNAME:EST
DTSTART:20251102T060000
END:STANDARD
BEGIN:DAYLIGHT
TZOFFSETFROM:-0500
TZOFFSETTO:-0400
TZNAME:EDT
DTSTART:20260308T070000
END:DAYLIGHT
BEGIN:STANDARD
TZOFFSETFROM:-0400
TZOFFSETTO:-0500
TZNAME:EST
DTSTART:20261101T060000
END:STANDARD
END:VTIMEZONE
BEGIN:VEVENT
DTSTART;TZID=America/Toronto:20250203T183000
DTEND;TZID=America/Toronto:20250203T203000
DTSTAMP:20260419T151753
CREATED:20250201T162448Z
LAST-MODIFIED:20250201T162455Z
UID:10001880-1738607400-1738614600@maxottawa.ca
SUMMARY:5-pin Bowling with OSPN
DESCRIPTION:EVERYONE is welcome (please bring your friends!) to join us for a fun evening of 5-pin bowling at the West Park Lanes bowling alley at 1205 Wellington Street West. \nWe play two games. The cost is $10.00\, including shoe rental. It’s quite informal. You don’t have to join a team\, just show up at West Park Lanes. \nPlease come to the lanes early—at least 15 minutes early.
URL:https://maxottawa.ca/list/5-pin-bowling-with-ospn/2025-02-03/
LOCATION:West Park Lanes\, 1205 Wellington St. W\, Ottawa\, Ontario\, K1Y 2Z8\, Canada
CATEGORIES:Family friendly,Regular programming,Social,Sports and recreation
ATTACH;FMTTYPE=image/png:https://maxottawa.ca/wp-content/uploads/2025/01/LIST_Bowling.png
END:VEVENT
BEGIN:VEVENT
DTSTART;TZID=America/Toronto:20250207T160000
DTEND;TZID=America/Toronto:20250207T200000
DTSTAMP:20260419T151753
CREATED:20250204T182853Z
LAST-MODIFIED:20250204T182916Z
UID:10001902-1738944000-1738958400@maxottawa.ca
SUMMARY:Winter Pride in ByWard
DESCRIPTION:Celebrate Winter Pride in the ByWard Market district with an unforgettable evening of inclusivity\, creativity and fun. \n\n\n\nProudly-Made: A Winter Pride Event (4 to 8 p.m. at 60 ByWard Market Square). Explore a curated selection of queer-owned businesses offering unique products and services. Wander through the winter village of cabins in the heart of the ByWard Market. \n\n\n\nDrag on Ice: Skating with the Stars (5 to 8 p.m. at the synthetic ice rink on William Street)Enjoy dazzling performances and skate alongside talented local drag artists in a festive\, welcoming atmosphere. Hosted by Zak Zinya\, starring Mx. Tique\, Devona Coe and Miles Zinya. \n\n\n\nDJ Del Pilar (5 to 8 p.m. at the synthetic ice rink on William Street)Groove to the beats of DJ Del Pilar\, who will keep the energy high all evening long. \n\n\n\nDo not miss this vibrant celebration of queer talent and community as part of Winterlude 2025.
URL:https://maxottawa.ca/list/winter-pride-in-byward/
LOCATION:ByWard Market Square\, Ottawa\, Ontario\, K1N 9C3\, Canada
CATEGORIES:Drag & Burlesque,Family friendly,Social
END:VEVENT
BEGIN:VEVENT
DTSTART;TZID=America/Toronto:20250210T183000
DTEND;TZID=America/Toronto:20250210T203000
DTSTAMP:20260419T151753
CREATED:20250201T162448Z
LAST-MODIFIED:20250201T162455Z
UID:10001881-1739212200-1739219400@maxottawa.ca
SUMMARY:5-pin Bowling with OSPN
DESCRIPTION:EVERYONE is welcome (please bring your friends!) to join us for a fun evening of 5-pin bowling at the West Park Lanes bowling alley at 1205 Wellington Street West. \nWe play two games. The cost is $10.00\, including shoe rental. It’s quite informal. You don’t have to join a team\, just show up at West Park Lanes. \nPlease come to the lanes early—at least 15 minutes early.
URL:https://maxottawa.ca/list/5-pin-bowling-with-ospn/2025-02-10/
LOCATION:West Park Lanes\, 1205 Wellington St. W\, Ottawa\, Ontario\, K1Y 2Z8\, Canada
CATEGORIES:Family friendly,Regular programming,Social,Sports and recreation
ATTACH;FMTTYPE=image/png:https://maxottawa.ca/wp-content/uploads/2025/01/LIST_Bowling.png
END:VEVENT
BEGIN:VEVENT
DTSTART;TZID=America/Toronto:20250217T183000
DTEND;TZID=America/Toronto:20250217T203000
DTSTAMP:20260419T151753
CREATED:20250201T162448Z
LAST-MODIFIED:20250201T162455Z
UID:10001882-1739817000-1739824200@maxottawa.ca
SUMMARY:5-pin Bowling with OSPN
DESCRIPTION:EVERYONE is welcome (please bring your friends!) to join us for a fun evening of 5-pin bowling at the West Park Lanes bowling alley at 1205 Wellington Street West. \nWe play two games. The cost is $10.00\, including shoe rental. It’s quite informal. You don’t have to join a team\, just show up at West Park Lanes. \nPlease come to the lanes early—at least 15 minutes early.
URL:https://maxottawa.ca/list/5-pin-bowling-with-ospn/2025-02-17/
LOCATION:West Park Lanes\, 1205 Wellington St. W\, Ottawa\, Ontario\, K1Y 2Z8\, Canada
CATEGORIES:Family friendly,Regular programming,Social,Sports and recreation
ATTACH;FMTTYPE=image/png:https://maxottawa.ca/wp-content/uploads/2025/01/LIST_Bowling.png
END:VEVENT
BEGIN:VEVENT
DTSTART;TZID=America/Toronto:20250219T173000
DTEND;TZID=America/Toronto:20250219T200000
DTSTAMP:20260419T151753
CREATED:20250220T030717Z
LAST-MODIFIED:20250220T030824Z
UID:10001948-1739986200-1739995200@maxottawa.ca
SUMMARY:OSPN: Pizza Night at Colonnade
DESCRIPTION:Dinner the third Wednesday of every month at Colonnade Pizza (Metcalfe & Gilmour) 5:30PM. Remember keep our group growing – tell your friends! \n\n\n\nSo that we can save you a place\, please RSVP to Claude at claude@claudejobin.com or by phone at 613.804.7979.
URL:https://maxottawa.ca/list/ospn-pizza-night-at-colonnade/2025-02-19/
LOCATION:Colonnade Pizza\, 280 Metcalfe St.\, Ottawa\, K2P 1R7
CATEGORIES:Family friendly,Social
ATTACH;FMTTYPE=image/jpeg:https://maxottawa.ca/wp-content/uploads/2025/02/LIST_Pizza.jpg
END:VEVENT
BEGIN:VEVENT
DTSTART;TZID=America/Toronto:20250222T140000
DTEND;TZID=America/Toronto:20250222T160000
DTSTAMP:20260419T151753
CREATED:20250220T021919Z
LAST-MODIFIED:20250220T021924Z
UID:10001945-1740232800-1740240000@maxottawa.ca
SUMMARY:Capital Bi's Zine Making
DESCRIPTION:Next event coming in HOT on this cold AF day. Join us on February 22 from 2-4PM at Kind Space for an afternoon of zine-making and connection with other bi* folks. \n\nEvent is PWYC (suggested $10-20 to help us cover the venue)\, any remaining funds will be donated. \n\nThis is a masked event (KN95 or equivalent required). Please bring your own mask\, a few will be provided at the door. \n\nFor more event and accessibility information\, check out the event highlight on our Instagram stories: https://www.instagram.com/capital.bis/
URL:https://maxottawa.ca/list/capital-bis-zine-making/
LOCATION:Kind Space\, 400 Cooper St. suite 9001\, Ottawa\, Ontario\, K2P 2N1\, Canada
CATEGORIES:Art,Family friendly,Social
ATTACH;FMTTYPE=image/jpeg:https://maxottawa.ca/wp-content/uploads/2025/02/IMG-20250207-WA00021.jpg
END:VEVENT
BEGIN:VEVENT
DTSTART;TZID=America/Toronto:20250224T183000
DTEND;TZID=America/Toronto:20250224T203000
DTSTAMP:20260419T151753
CREATED:20250201T162448Z
LAST-MODIFIED:20250201T162455Z
UID:10001883-1740421800-1740429000@maxottawa.ca
SUMMARY:5-pin Bowling with OSPN
DESCRIPTION:EVERYONE is welcome (please bring your friends!) to join us for a fun evening of 5-pin bowling at the West Park Lanes bowling alley at 1205 Wellington Street West. \nWe play two games. The cost is $10.00\, including shoe rental. It’s quite informal. You don’t have to join a team\, just show up at West Park Lanes. \nPlease come to the lanes early—at least 15 minutes early.
URL:https://maxottawa.ca/list/5-pin-bowling-with-ospn/2025-02-24/
LOCATION:West Park Lanes\, 1205 Wellington St. W\, Ottawa\, Ontario\, K1Y 2Z8\, Canada
CATEGORIES:Family friendly,Regular programming,Social,Sports and recreation
ATTACH;FMTTYPE=image/png:https://maxottawa.ca/wp-content/uploads/2025/01/LIST_Bowling.png
END:VEVENT
END:VCALENDAR