BEGIN:VCALENDAR
VERSION:2.0
PRODID:-//MAX Ottawa - ECPv6.15.20//NONSGML v1.0//EN
CALSCALE:GREGORIAN
METHOD:PUBLISH
X-ORIGINAL-URL:https://maxottawa.ca
X-WR-CALDESC:Events for MAX Ottawa
REFRESH-INTERVAL;VALUE=DURATION:PT1H
X-Robots-Tag:noindex
X-PUBLISHED-TTL:PT1H
BEGIN:VTIMEZONE
TZID:America/Toronto
BEGIN:DAYLIGHT
TZOFFSETFROM:-0500
TZOFFSETTO:-0400
TZNAME:EDT
DTSTART:20240310T070000
END:DAYLIGHT
BEGIN:STANDARD
TZOFFSETFROM:-0400
TZOFFSETTO:-0500
TZNAME:EST
DTSTART:20241103T060000
END:STANDARD
BEGIN:DAYLIGHT
TZOFFSETFROM:-0500
TZOFFSETTO:-0400
TZNAME:EDT
DTSTART:20250309T070000
END:DAYLIGHT
BEGIN:STANDARD
TZOFFSETFROM:-0400
TZOFFSETTO:-0500
TZNAME:EST
DTSTART:20251102T060000
END:STANDARD
BEGIN:DAYLIGHT
TZOFFSETFROM:-0500
TZOFFSETTO:-0400
TZNAME:EDT
DTSTART:20260308T070000
END:DAYLIGHT
BEGIN:STANDARD
TZOFFSETFROM:-0400
TZOFFSETTO:-0500
TZNAME:EST
DTSTART:20261101T060000
END:STANDARD
END:VTIMEZONE
BEGIN:VEVENT
DTSTART;TZID=America/Toronto:20251201T183000
DTEND;TZID=America/Toronto:20251201T200000
DTSTAMP:20260423T025323
CREATED:20250413T184756Z
LAST-MODIFIED:20260408T160622Z
UID:10003523-1764613800-1764619200@maxottawa.ca
SUMMARY:5-Pin Bowling
DESCRIPTION:EVERYONE is welcome (please bring your friends!) to join us for a fun evening of 5-pin bowling at the West Park Lanes bowling alley at 1205 Wellington Street West. We play two games. The cost is $10.00\, including shoe rental. It’s quite informal. You don’t have to join a team\, just show up at West Park Lanes. Please come to the lanes early—at least 15 minutes early.
URL:https://maxottawa.ca/list/5-pin-bowling/2025-12-01/
LOCATION:West Park Lanes\, 1205 Wellington St. W\, Ottawa\, Ontario\, K1Y 2Z8\, Canada
CATEGORIES:Family friendly,Regular programming,Social,Sports and recreation
END:VEVENT
BEGIN:VEVENT
DTSTART;TZID=America/Toronto:20251208T183000
DTEND;TZID=America/Toronto:20251208T200000
DTSTAMP:20260423T025323
CREATED:20250413T184756Z
LAST-MODIFIED:20260408T160622Z
UID:10003524-1765218600-1765224000@maxottawa.ca
SUMMARY:5-Pin Bowling
DESCRIPTION:EVERYONE is welcome (please bring your friends!) to join us for a fun evening of 5-pin bowling at the West Park Lanes bowling alley at 1205 Wellington Street West. We play two games. The cost is $10.00\, including shoe rental. It’s quite informal. You don’t have to join a team\, just show up at West Park Lanes. Please come to the lanes early—at least 15 minutes early.
URL:https://maxottawa.ca/list/5-pin-bowling/2025-12-08/
LOCATION:West Park Lanes\, 1205 Wellington St. W\, Ottawa\, Ontario\, K1Y 2Z8\, Canada
CATEGORIES:Family friendly,Regular programming,Social,Sports and recreation
END:VEVENT
BEGIN:VEVENT
DTSTART;TZID=America/Toronto:20251215T183000
DTEND;TZID=America/Toronto:20251215T200000
DTSTAMP:20260423T025323
CREATED:20250413T184756Z
LAST-MODIFIED:20260408T160622Z
UID:10003525-1765823400-1765828800@maxottawa.ca
SUMMARY:5-Pin Bowling
DESCRIPTION:EVERYONE is welcome (please bring your friends!) to join us for a fun evening of 5-pin bowling at the West Park Lanes bowling alley at 1205 Wellington Street West. We play two games. The cost is $10.00\, including shoe rental. It’s quite informal. You don’t have to join a team\, just show up at West Park Lanes. Please come to the lanes early—at least 15 minutes early.
URL:https://maxottawa.ca/list/5-pin-bowling/2025-12-15/
LOCATION:West Park Lanes\, 1205 Wellington St. W\, Ottawa\, Ontario\, K1Y 2Z8\, Canada
CATEGORIES:Family friendly,Regular programming,Social,Sports and recreation
END:VEVENT
BEGIN:VEVENT
DTSTART;TZID=America/Toronto:20251219T183000
DTEND;TZID=America/Toronto:20251219T200000
DTSTAMP:20260423T025323
CREATED:20251218T195051Z
LAST-MODIFIED:20251218T195205Z
UID:10003783-1766169000-1766174400@maxottawa.ca
SUMMARY:Holiday Lights Walk
DESCRIPTION:Last event of 2025! Join us for a gentle pace stroll through the glebe to gawk at some lights\, yap with a cutie\, and be your queer-est self before the holidays! \n\n\n\n🎄 Meet at the big ol’ tree at Lansdowne at 6:30-7PM and join us for a walk (about 2km)\, bundle up! Kids and dogs welcome! Walk will loop back to Lansdowne. \n\n\n\n☕️ Bring your own thermos for some dairy-free hot chocolate \n\n\n\n❄️ We don’t have time/capacity for a bad weather date so we will run the event in all kinds of weather and only cancel if it’s truly dismal/unsafe out \n\n\n\n⚠️ Accessability: Outdoor event\, masks welcome\, please stay home if you are sick/recently exposed\, walk is about 2km long on residential sidewalks\, we will move at a very slow pace to enjoy the company and make sure everyone is together! Route will be posted 3-5 days beforehand.
URL:https://maxottawa.ca/list/holiday-lights-walk/
CATEGORIES:Family friendly,Ottawa,Social
END:VEVENT
BEGIN:VEVENT
DTSTART;TZID=America/Toronto:20251222T183000
DTEND;TZID=America/Toronto:20251222T200000
DTSTAMP:20260423T025323
CREATED:20250413T184756Z
LAST-MODIFIED:20260408T160622Z
UID:10003801-1766428200-1766433600@maxottawa.ca
SUMMARY:5-Pin Bowling
DESCRIPTION:EVERYONE is welcome (please bring your friends!) to join us for a fun evening of 5-pin bowling at the West Park Lanes bowling alley at 1205 Wellington Street West. We play two games. The cost is $10.00\, including shoe rental. It’s quite informal. You don’t have to join a team\, just show up at West Park Lanes. Please come to the lanes early—at least 15 minutes early.
URL:https://maxottawa.ca/list/5-pin-bowling/2025-12-22/
LOCATION:West Park Lanes\, 1205 Wellington St. W\, Ottawa\, Ontario\, K1Y 2Z8\, Canada
CATEGORIES:Family friendly,Regular programming,Social,Sports and recreation
END:VEVENT
BEGIN:VEVENT
DTSTART;TZID=America/Toronto:20251229T183000
DTEND;TZID=America/Toronto:20251229T200000
DTSTAMP:20260423T025323
CREATED:20250413T184756Z
LAST-MODIFIED:20260408T160622Z
UID:10003802-1767033000-1767038400@maxottawa.ca
SUMMARY:5-Pin Bowling
DESCRIPTION:EVERYONE is welcome (please bring your friends!) to join us for a fun evening of 5-pin bowling at the West Park Lanes bowling alley at 1205 Wellington Street West. We play two games. The cost is $10.00\, including shoe rental. It’s quite informal. You don’t have to join a team\, just show up at West Park Lanes. Please come to the lanes early—at least 15 minutes early.
URL:https://maxottawa.ca/list/5-pin-bowling/2025-12-29/
LOCATION:West Park Lanes\, 1205 Wellington St. W\, Ottawa\, Ontario\, K1Y 2Z8\, Canada
CATEGORIES:Family friendly,Regular programming,Social,Sports and recreation
END:VEVENT
END:VCALENDAR