BEGIN:VCALENDAR
VERSION:2.0
PRODID:-//MAX Ottawa - ECPv6.15.20//NONSGML v1.0//EN
CALSCALE:GREGORIAN
METHOD:PUBLISH
X-WR-CALNAME:MAX Ottawa
X-ORIGINAL-URL:https://maxottawa.ca
X-WR-CALDESC:Events for MAX Ottawa
REFRESH-INTERVAL;VALUE=DURATION:PT1H
X-Robots-Tag:noindex
X-PUBLISHED-TTL:PT1H
BEGIN:VTIMEZONE
TZID:America/Toronto
BEGIN:DAYLIGHT
TZOFFSETFROM:-0500
TZOFFSETTO:-0400
TZNAME:EDT
DTSTART:20230312T070000
END:DAYLIGHT
BEGIN:STANDARD
TZOFFSETFROM:-0400
TZOFFSETTO:-0500
TZNAME:EST
DTSTART:20231105T060000
END:STANDARD
BEGIN:DAYLIGHT
TZOFFSETFROM:-0500
TZOFFSETTO:-0400
TZNAME:EDT
DTSTART:20240310T070000
END:DAYLIGHT
BEGIN:STANDARD
TZOFFSETFROM:-0400
TZOFFSETTO:-0500
TZNAME:EST
DTSTART:20241103T060000
END:STANDARD
BEGIN:DAYLIGHT
TZOFFSETFROM:-0500
TZOFFSETTO:-0400
TZNAME:EDT
DTSTART:20250309T070000
END:DAYLIGHT
BEGIN:STANDARD
TZOFFSETFROM:-0400
TZOFFSETTO:-0500
TZNAME:EST
DTSTART:20251102T060000
END:STANDARD
END:VTIMEZONE
BEGIN:VEVENT
DTSTART;TZID=America/Toronto:20241116T100000
DTEND;TZID=America/Toronto:20241116T140000
DTSTAMP:20260424T114140
CREATED:20241114T203503Z
LAST-MODIFIED:20241114T203508Z
UID:10001469-1731751200-1731765600@maxottawa.ca
SUMMARY:The Queer Christmas Craft Show
DESCRIPTION:This Saturday\, November 16th\, The Good Companions (670 Albert Street) invites you to join us for a day of shopping\, community\, and celebration at the 3rd Annual Queer Christmas Craft Show. \n\n\n\nNow more than ever\, our 2SLGBTQIA+ community needs to feel your love and support. The world may feel heavy at times\, but together\, we can be a light for each other. When allies and friends show up\, it reminds us all that love and solidarity truly shine brighter than any adversity. \n\n\n\nCome shop unique\, handcrafted treasures\, support incredible vendors\, and stay for a warm bowl of chilli with cornbread for just $6.50. With free parking and a welcoming space for all\, it’s the perfect way to show up\, spread joy\, and make a difference.Every friendly face\, every kind word\, every moment of togetherness fuels our strength and resilience. Let’s make this a day that lifts spirits and shows the world that our community is full of love and light! \n\n\n\nJoin us\, and let’s create something beautiful together. Come show the love\, bring a friend\, and help make this holiday season one to remember! We can’t wait to see you there!
URL:https://maxottawa.ca/list/the-queer-christmas-craft-show/
LOCATION:The Good Companions\, 670 Albert Street
CATEGORIES:Family friendly,Social
ORGANIZER;CN="The Good Companions":MAILTO:info@thegoodcompanions.ca
END:VEVENT
END:VCALENDAR