BEGIN:VCALENDAR
VERSION:2.0
PRODID:-//MAX Ottawa - ECPv6.15.20//NONSGML v1.0//EN
CALSCALE:GREGORIAN
METHOD:PUBLISH
X-ORIGINAL-URL:https://maxottawa.ca
X-WR-CALDESC:Events for MAX Ottawa
REFRESH-INTERVAL;VALUE=DURATION:PT1H
X-Robots-Tag:noindex
X-PUBLISHED-TTL:PT1H
BEGIN:VTIMEZONE
TZID:America/Toronto
BEGIN:DAYLIGHT
TZOFFSETFROM:-0500
TZOFFSETTO:-0400
TZNAME:EDT
DTSTART:20240310T070000
END:DAYLIGHT
BEGIN:STANDARD
TZOFFSETFROM:-0400
TZOFFSETTO:-0500
TZNAME:EST
DTSTART:20241103T060000
END:STANDARD
BEGIN:DAYLIGHT
TZOFFSETFROM:-0500
TZOFFSETTO:-0400
TZNAME:EDT
DTSTART:20250309T070000
END:DAYLIGHT
BEGIN:STANDARD
TZOFFSETFROM:-0400
TZOFFSETTO:-0500
TZNAME:EST
DTSTART:20251102T060000
END:STANDARD
BEGIN:DAYLIGHT
TZOFFSETFROM:-0500
TZOFFSETTO:-0400
TZNAME:EDT
DTSTART:20260308T070000
END:DAYLIGHT
BEGIN:STANDARD
TZOFFSETFROM:-0400
TZOFFSETTO:-0500
TZNAME:EST
DTSTART:20261101T060000
END:STANDARD
END:VTIMEZONE
BEGIN:VEVENT
DTSTART;TZID=America/Toronto:20250328T173000
DTEND;TZID=America/Toronto:20250328T193000
DTSTAMP:20260419T091354
CREATED:20250318T142758Z
LAST-MODIFIED:20250318T142805Z
UID:10002176-1743183000-1743190200@maxottawa.ca
SUMMARY:Trans About Town: Tote Bag Decorating!
DESCRIPTION:Join us to make some tote-ally awesome art! Come hang out\, create\, and connect with community! Design your own tote bag—all supplies provided! Kick back and watch a fun movie while you create. Open to trans and gender diverse youth ages 13 to 17! Families and friends are welcome too.
URL:https://maxottawa.ca/list/trans-about-town-tote-bag-decorating/
LOCATION:MAX Ottawa\, 400 Cooper St. Suite 9004\, Ottawa\, Ontario\, K2P 2H8\, Canada
CATEGORIES:Art,Family friendly,Social,Youth
END:VEVENT
BEGIN:VEVENT
DTSTART;TZID=America/Toronto:20250328T180000
DTEND;TZID=America/Toronto:20250328T210000
DTSTAMP:20260419T091354
CREATED:20250304T151205Z
LAST-MODIFIED:20250304T151215Z
UID:10002129-1743184800-1743195600@maxottawa.ca
SUMMARY:Queerly Embellish Your Clothing Night
DESCRIPTION:Do you have a jacket\, pair of pants\, or a hat that needs a little pizzazz? Come join us for an evening of embellishing your clothing or accessories! \n\n\n\nYou bring what you want embellished and we’ll have lots of embellishments available! \n\n\n\nWorried we won’t have what you want for an embellishment? Feel free to bring along your own beads\, paints and sequins! \n\n\n\nThis is a MASKED EVENT (KN95 or better). It’s also pay what you can\, but we’re asking for $20 to cover the cost of the space and the embellishments we’ll be bringing! \n\n\n\nTickets can be bought on the Grove Studio’s Eventbrite site!!! \n\n\n\nCan’t wait to see you on the 28th!
URL:https://maxottawa.ca/list/queerly-embellish-your-clothing-night/
LOCATION:The Grove\, 18 Louisa St.\, Ottawa\, Ontario\, K1R6Y6\, Canada
CATEGORIES:Art,Family friendly,Nightlife,Social
END:VEVENT
BEGIN:VEVENT
DTSTART;TZID=America/Toronto:20250328T200000
DTEND;TZID=America/Toronto:20250328T220000
DTSTAMP:20260419T091354
CREATED:20250318T145005Z
LAST-MODIFIED:20250318T145021Z
UID:10002177-1743192000-1743199200@maxottawa.ca
SUMMARY:Le Show Queer (Fr)
DESCRIPTION:Le show Queer\, c’est un spectacle qui rassemble des humoristes immensément drôles ET s’identifiant comme faisant partie de la communauté LGBTQ2S+. Simple de même! Les artistes ont carte blanche sur le sujet qu’iels choisissent\, pas de thème\, pas de limite\, juste des rires! TOUT LE MONDE est bienvenu dans ce safespace hilarant\, Queer ou pas. Si vous aimez vous dilater la rate en vous tapant sur les cuisses à gorge déployée\, vous serez comblé.e!
URL:https://maxottawa.ca/list/le-show-queer-fr/
LOCATION:Minotaure\, 3 Rue Kent\, Hull\, Quebec\, J8X 2H2\, Canada
CATEGORIES:Family friendly,Nightlife,Social
ORGANIZER;CN="LOL LOL LOL":MAILTO:INFO@LOLLOLLOL.CA
END:VEVENT
END:VCALENDAR