BEGIN:VCALENDAR
VERSION:2.0
PRODID:-//MAX Ottawa - ECPv6.15.20//NONSGML v1.0//EN
CALSCALE:GREGORIAN
METHOD:PUBLISH
X-WR-CALNAME:MAX Ottawa
X-ORIGINAL-URL:https://maxottawa.ca
X-WR-CALDESC:Events for MAX Ottawa
REFRESH-INTERVAL;VALUE=DURATION:PT1H
X-Robots-Tag:noindex
X-PUBLISHED-TTL:PT1H
BEGIN:VTIMEZONE
TZID:America/Toronto
BEGIN:DAYLIGHT
TZOFFSETFROM:-0500
TZOFFSETTO:-0400
TZNAME:EDT
DTSTART:20250309T070000
END:DAYLIGHT
BEGIN:STANDARD
TZOFFSETFROM:-0400
TZOFFSETTO:-0500
TZNAME:EST
DTSTART:20251102T060000
END:STANDARD
BEGIN:DAYLIGHT
TZOFFSETFROM:-0500
TZOFFSETTO:-0400
TZNAME:EDT
DTSTART:20260308T070000
END:DAYLIGHT
BEGIN:STANDARD
TZOFFSETFROM:-0400
TZOFFSETTO:-0500
TZNAME:EST
DTSTART:20261101T060000
END:STANDARD
BEGIN:DAYLIGHT
TZOFFSETFROM:-0500
TZOFFSETTO:-0400
TZNAME:EDT
DTSTART:20270314T070000
END:DAYLIGHT
BEGIN:STANDARD
TZOFFSETFROM:-0400
TZOFFSETTO:-0500
TZNAME:EST
DTSTART:20271107T060000
END:STANDARD
END:VTIMEZONE
BEGIN:VEVENT
DTSTART;TZID=America/Toronto:20260111T120000
DTEND;TZID=America/Toronto:20260111T143000
DTSTAMP:20260422T044741
CREATED:20260102T190609Z
LAST-MODIFIED:20260102T190624Z
UID:10004099-1768132800-1768141800@maxottawa.ca
SUMMARY:All Ages Drag King Brunch
DESCRIPTION:Capital Kingdom presents All Ages Drag King Brunch : January 2026 Edition \n\n\n\nNew year\, new kings!Are you tired of hosting family and friends during the holidays? Join us for our first brunch of the year. We’ll host\, Irene’s will cook and serve\, and you just sit back and enjoy the show! \n\n\n\n⏰ Doors at 11:30 am | Show at 12:00 pm \n\n\n\n(The venue has a ramp outside and a washroom located on the main floor. Other washrooms on the lower level.)
URL:https://maxottawa.ca/list/all-ages-drag-king-brunch/
LOCATION:Irene’s Pub\, 885 Bank St.\, Ottawa\, Ontario\, K1S 3W4\, Canada
CATEGORIES:Drag & Burlesque,Family friendly,Ottawa
END:VEVENT
END:VCALENDAR