BEGIN:VCALENDAR
VERSION:2.0
PRODID:-//MAX Ottawa - ECPv6.15.20//NONSGML v1.0//EN
CALSCALE:GREGORIAN
METHOD:PUBLISH
X-ORIGINAL-URL:https://maxottawa.ca
X-WR-CALDESC:Events for MAX Ottawa
REFRESH-INTERVAL;VALUE=DURATION:PT1H
X-Robots-Tag:noindex
X-PUBLISHED-TTL:PT1H
BEGIN:VTIMEZONE
TZID:America/Toronto
BEGIN:DAYLIGHT
TZOFFSETFROM:-0500
TZOFFSETTO:-0400
TZNAME:EDT
DTSTART:20240310T070000
END:DAYLIGHT
BEGIN:STANDARD
TZOFFSETFROM:-0400
TZOFFSETTO:-0500
TZNAME:EST
DTSTART:20241103T060000
END:STANDARD
BEGIN:DAYLIGHT
TZOFFSETFROM:-0500
TZOFFSETTO:-0400
TZNAME:EDT
DTSTART:20250309T070000
END:DAYLIGHT
BEGIN:STANDARD
TZOFFSETFROM:-0400
TZOFFSETTO:-0500
TZNAME:EST
DTSTART:20251102T060000
END:STANDARD
BEGIN:DAYLIGHT
TZOFFSETFROM:-0500
TZOFFSETTO:-0400
TZNAME:EDT
DTSTART:20260308T070000
END:DAYLIGHT
BEGIN:STANDARD
TZOFFSETFROM:-0400
TZOFFSETTO:-0500
TZNAME:EST
DTSTART:20261101T060000
END:STANDARD
END:VTIMEZONE
BEGIN:VEVENT
DTSTART;TZID=America/Toronto:20250823T210000
DTEND;TZID=America/Toronto:20250824T010000
DTSTAMP:20260420T182401
CREATED:20250811T215819Z
LAST-MODIFIED:20250811T215833Z
UID:10003380-1755982800-1755997200@maxottawa.ca
SUMMARY:Bumpah 2 Bumpah
DESCRIPTION:🔥 Get hyped for Bumpah2Bumpah hitting the TD Main Stage on August 23rd! \n\n\n\nThis annual FREE party\, brought to you in partnership with @bumpah2bumpah_ \, celebrates joy\, safety\, and QTBIPOC community vibes — featuring the incredible beats of @hug.mosh . 🎶✨ \n\n\n\nBring your best moves\, your fiercest energy\, and let’s dance the night away! \n\n\n\nAnd that’s just the start — stay tuned for even more unforgettable events coming your way! \n\n\n\n__ \n\n\n\n🔥 Préparez-vous pour Bumpah2Bumpah qui sera sur la scène principale TD le 23 août! \n\n\n\nCette fête annuelle GRATUITE\, organisée en partenariat avec @bumpah2bumpah_ \, célèbre la joie\, la sécurité et l’ambiance de la communauté QTBIPOC\, avec les rythmes incroyables de @HugMosh. 🎶✨ \n\n\n\nApportez vos pas de danse les plus élégants\, votre enthousiasme sans limites et passons une soirée de danse inoubliable! \n\n\n\nEt ce n’est que le début : restez à l’écoute pour d’autres événements inoubliables à venir!
URL:https://maxottawa.ca/list/bumpah-2-bumpah-2/
LOCATION:TD Main Stage 2025\, 236 Slater St.\, Ottawa\, Ontario\, K1P 5N7\, Canada
CATEGORIES:Live music,Nightlife,Ottawa,Parties,Pride
END:VEVENT
BEGIN:VEVENT
DTSTART;TZID=America/Toronto:20250824T180000
DTEND;TZID=America/Toronto:20250824T230000
DTSTAMP:20260420T182401
CREATED:20250811T220434Z
LAST-MODIFIED:20250811T220442Z
UID:10003381-1756058400-1756076400@maxottawa.ca
SUMMARY:T-Dance
DESCRIPTION:💃 The parade might be over\, but the party is far from done! Keep the energy going at T-Dance on the TD Main Stage from 6PM 🎶 \n\n\n\nWe’ve got beats by @slushydrag and trust us\, you’ll want to be front and centre for these sets. Let’s dance it out\, Pride-style! 🌈✨ \n\n\n\n__ \n\n\n\n💃 Le défilé est peut-être terminé\, mais la fête est loin d’être finie ! Continuez à vous déhancher au T-Dance sur la scène principale TD à partir de 18 h 🎶 \n\n\n\nNous avons prévu des rythmes endiablés avec @slushydrag et croyez-nous\, vous voudrez être au premier rang pour ces sets. Dansons jusqu’au bout de la nuit\, dans le style Fierté! 🌈✨
URL:https://maxottawa.ca/list/t-dance/
LOCATION:TD Main Stage 2025\, 236 Slater St.\, Ottawa\, Ontario\, K1P 5N7\, Canada
CATEGORIES:Live music,Nightlife,Ottawa,Parties,Pride
END:VEVENT
BEGIN:VEVENT
DTSTART;TZID=America/Toronto:20250824T200000
DTEND;TZID=America/Toronto:20250824T230000
DTSTAMP:20260420T182401
CREATED:20241029T210043Z
LAST-MODIFIED:20241106T152947Z
UID:10000540-1756065600-1756076400@maxottawa.ca
SUMMARY:Karaoke Night
DESCRIPTION:Karaoke with fellow Queers hosted by Jolene.
URL:https://maxottawa.ca/list/karaoke-night/2025-08-24/
LOCATION:T’s\, 323 Somerset Street West\, Ottawa\, ON\, 2P 0J8\, Canada
CATEGORIES:Live music,Nightlife,Regular programming
END:VEVENT
END:VCALENDAR