BEGIN:VCALENDAR
VERSION:2.0
PRODID:-//MAX Ottawa - ECPv6.15.20//NONSGML v1.0//EN
CALSCALE:GREGORIAN
METHOD:PUBLISH
X-ORIGINAL-URL:https://maxottawa.ca
X-WR-CALDESC:Events for MAX Ottawa
REFRESH-INTERVAL;VALUE=DURATION:PT1H
X-Robots-Tag:noindex
X-PUBLISHED-TTL:PT1H
BEGIN:VTIMEZONE
TZID:America/Toronto
BEGIN:DAYLIGHT
TZOFFSETFROM:-0500
TZOFFSETTO:-0400
TZNAME:EDT
DTSTART:20250309T070000
END:DAYLIGHT
BEGIN:STANDARD
TZOFFSETFROM:-0400
TZOFFSETTO:-0500
TZNAME:EST
DTSTART:20251102T060000
END:STANDARD
BEGIN:DAYLIGHT
TZOFFSETFROM:-0500
TZOFFSETTO:-0400
TZNAME:EDT
DTSTART:20260308T070000
END:DAYLIGHT
BEGIN:STANDARD
TZOFFSETFROM:-0400
TZOFFSETTO:-0500
TZNAME:EST
DTSTART:20261101T060000
END:STANDARD
BEGIN:DAYLIGHT
TZOFFSETFROM:-0500
TZOFFSETTO:-0400
TZNAME:EDT
DTSTART:20270314T070000
END:DAYLIGHT
BEGIN:STANDARD
TZOFFSETFROM:-0400
TZOFFSETTO:-0500
TZNAME:EST
DTSTART:20271107T060000
END:STANDARD
END:VTIMEZONE
BEGIN:VEVENT
DTSTART;TZID=America/Toronto:20260227T193000
DTEND;TZID=America/Toronto:20260227T233000
DTSTAMP:20260422T125451
CREATED:20260217T223257Z
LAST-MODIFIED:20260217T223304Z
UID:10004758-1772220600-1772235000@maxottawa.ca
SUMMARY:Look What the Cat Dragged In
DESCRIPTION:Meow That’s Hot and Ego & Vice Podcast proudly presents “Look What The Cat Dragged In” Ottawa Artist Showcase Series. \n\n\n\nAn up close and interactive performance showcasing the songwriting of queer Ottawa artist Hannah Vig. Followed by artist Q&A. Hosted by Ego & Vice Podcast \n\n\n\nWith special guest Eliza Rankin.
URL:https://maxottawa.ca/list/look-what-the-cat-dragged-in/
LOCATION:Meow! That’s Hot.\, 519 Bank St.\, Ottawa\, Ontario\, K2P 1Z6\, Canada
CATEGORIES:Live music,Ottawa
END:VEVENT
END:VCALENDAR