BEGIN:VCALENDAR
VERSION:2.0
PRODID:-//MAX Ottawa - ECPv6.15.20//NONSGML v1.0//EN
CALSCALE:GREGORIAN
METHOD:PUBLISH
X-WR-CALNAME:MAX Ottawa
X-ORIGINAL-URL:https://maxottawa.ca
X-WR-CALDESC:Events for MAX Ottawa
REFRESH-INTERVAL;VALUE=DURATION:PT1H
X-Robots-Tag:noindex
X-PUBLISHED-TTL:PT1H
BEGIN:VTIMEZONE
TZID:America/Toronto
BEGIN:DAYLIGHT
TZOFFSETFROM:-0500
TZOFFSETTO:-0400
TZNAME:EDT
DTSTART:20250309T070000
END:DAYLIGHT
BEGIN:STANDARD
TZOFFSETFROM:-0400
TZOFFSETTO:-0500
TZNAME:EST
DTSTART:20251102T060000
END:STANDARD
BEGIN:DAYLIGHT
TZOFFSETFROM:-0500
TZOFFSETTO:-0400
TZNAME:EDT
DTSTART:20260308T070000
END:DAYLIGHT
BEGIN:STANDARD
TZOFFSETFROM:-0400
TZOFFSETTO:-0500
TZNAME:EST
DTSTART:20261101T060000
END:STANDARD
BEGIN:DAYLIGHT
TZOFFSETFROM:-0500
TZOFFSETTO:-0400
TZNAME:EDT
DTSTART:20270314T070000
END:DAYLIGHT
BEGIN:STANDARD
TZOFFSETFROM:-0400
TZOFFSETTO:-0500
TZNAME:EST
DTSTART:20271107T060000
END:STANDARD
END:VTIMEZONE
BEGIN:VEVENT
DTSTART;TZID=America/Toronto:20260228T210000
DTEND;TZID=America/Toronto:20260228T223000
DTSTAMP:20260420T174815
CREATED:20260225T231536Z
LAST-MODIFIED:20260225T231547Z
UID:10004768-1772312400-1772317800@maxottawa.ca
SUMMARY:Colin Campbell's Cozy Caper
DESCRIPTION:A night of new songs\, oldies and hits! Join this up-and-coming songwriter for a look into the musical universe they’re crafting. Discover older\, forgotten ballads that bind peoples lives together\, and capture the energy of our newest anthems while we write our stories in real time!  \n\n\n\nIMPORTANT ACCESSIBILITY INFO  \n\n\n\nWe provide gender-neutral washrooms. We have one wheelchair accessible washroom. There is no wheelchair ramp. There is a set of 8 stairs to get into the building (7 steps\, small landing\, and then an 8th step). Once inside\, the whole cafe floor is flat\, with the exception of our small room to the side\, which is a small step down.
URL:https://maxottawa.ca/list/colin-campbells-cozy-caper/
LOCATION:Art House\, 555 Somerset St. West\, Ottawa\, Ontario\, K1R5K1\, Canada
CATEGORIES:Live music,Nightlife,Ottawa
ORGANIZER;CN="Colin Campbell":MAILTO:rccyyz@gmail.com
END:VEVENT
END:VCALENDAR