BEGIN:VCALENDAR
VERSION:2.0
PRODID:-//MAX Ottawa - ECPv6.15.20//NONSGML v1.0//EN
CALSCALE:GREGORIAN
METHOD:PUBLISH
X-WR-CALNAME:MAX Ottawa
X-ORIGINAL-URL:https://maxottawa.ca
X-WR-CALDESC:Events for MAX Ottawa
REFRESH-INTERVAL;VALUE=DURATION:PT1H
X-Robots-Tag:noindex
X-PUBLISHED-TTL:PT1H
BEGIN:VTIMEZONE
TZID:America/Toronto
BEGIN:DAYLIGHT
TZOFFSETFROM:-0500
TZOFFSETTO:-0400
TZNAME:EDT
DTSTART:20260308T070000
END:DAYLIGHT
BEGIN:STANDARD
TZOFFSETFROM:-0400
TZOFFSETTO:-0500
TZNAME:EST
DTSTART:20261101T060000
END:STANDARD
BEGIN:DAYLIGHT
TZOFFSETFROM:-0500
TZOFFSETTO:-0400
TZNAME:EDT
DTSTART:20270314T070000
END:DAYLIGHT
BEGIN:STANDARD
TZOFFSETFROM:-0400
TZOFFSETTO:-0500
TZNAME:EST
DTSTART:20271107T060000
END:STANDARD
BEGIN:DAYLIGHT
TZOFFSETFROM:-0500
TZOFFSETTO:-0400
TZNAME:EDT
DTSTART:20280312T070000
END:DAYLIGHT
BEGIN:STANDARD
TZOFFSETFROM:-0400
TZOFFSETTO:-0500
TZNAME:EST
DTSTART:20281105T060000
END:STANDARD
END:VTIMEZONE
BEGIN:VEVENT
DTSTART;TZID=America/Toronto:20270225T200000
DTEND;TZID=America/Toronto:20270225T230000
DTSTAMP:20260419T061501
CREATED:20241029T210043Z
LAST-MODIFIED:20241106T152947Z
UID:10000697-1803585600-1803596400@maxottawa.ca
SUMMARY:Karaoke Night
DESCRIPTION:Karaoke with fellow Queers hosted by Jolene.
URL:https://maxottawa.ca/list/karaoke-night/2027-02-25/
LOCATION:T’s\, 323 Somerset Street West\, Ottawa\, ON\, 2P 0J8\, Canada
CATEGORIES:Live music,Nightlife,Regular programming
END:VEVENT
BEGIN:VEVENT
DTSTART;TZID=America/Toronto:20270228T200000
DTEND;TZID=America/Toronto:20270228T230000
DTSTAMP:20260419T061501
CREATED:20241029T210043Z
LAST-MODIFIED:20241106T152947Z
UID:10000698-1803844800-1803855600@maxottawa.ca
SUMMARY:Karaoke Night
DESCRIPTION:Karaoke with fellow Queers hosted by Jolene.
URL:https://maxottawa.ca/list/karaoke-night/2027-02-28/
LOCATION:T’s\, 323 Somerset Street West\, Ottawa\, ON\, 2P 0J8\, Canada
CATEGORIES:Live music,Nightlife,Regular programming
END:VEVENT
BEGIN:VEVENT
DTSTART;TZID=America/Toronto:20270304T200000
DTEND;TZID=America/Toronto:20270304T230000
DTSTAMP:20260419T061501
CREATED:20241029T210043Z
LAST-MODIFIED:20241106T152947Z
UID:10000699-1804190400-1804201200@maxottawa.ca
SUMMARY:Karaoke Night
DESCRIPTION:Karaoke with fellow Queers hosted by Jolene.
URL:https://maxottawa.ca/list/karaoke-night/2027-03-04/
LOCATION:T’s\, 323 Somerset Street West\, Ottawa\, ON\, 2P 0J8\, Canada
CATEGORIES:Live music,Nightlife,Regular programming
END:VEVENT
BEGIN:VEVENT
DTSTART;TZID=America/Toronto:20270307T200000
DTEND;TZID=America/Toronto:20270307T230000
DTSTAMP:20260419T061501
CREATED:20241029T210043Z
LAST-MODIFIED:20241106T152947Z
UID:10000700-1804449600-1804460400@maxottawa.ca
SUMMARY:Karaoke Night
DESCRIPTION:Karaoke with fellow Queers hosted by Jolene.
URL:https://maxottawa.ca/list/karaoke-night/2027-03-07/
LOCATION:T’s\, 323 Somerset Street West\, Ottawa\, ON\, 2P 0J8\, Canada
CATEGORIES:Live music,Nightlife,Regular programming
END:VEVENT
BEGIN:VEVENT
DTSTART;TZID=America/Toronto:20270311T200000
DTEND;TZID=America/Toronto:20270311T230000
DTSTAMP:20260419T061501
CREATED:20241029T210043Z
LAST-MODIFIED:20241106T152947Z
UID:10000701-1804795200-1804806000@maxottawa.ca
SUMMARY:Karaoke Night
DESCRIPTION:Karaoke with fellow Queers hosted by Jolene.
URL:https://maxottawa.ca/list/karaoke-night/2027-03-11/
LOCATION:T’s\, 323 Somerset Street West\, Ottawa\, ON\, 2P 0J8\, Canada
CATEGORIES:Live music,Nightlife,Regular programming
END:VEVENT
BEGIN:VEVENT
DTSTART;TZID=America/Toronto:20270314T200000
DTEND;TZID=America/Toronto:20270314T230000
DTSTAMP:20260419T061501
CREATED:20241029T210043Z
LAST-MODIFIED:20241106T152947Z
UID:10000702-1805054400-1805065200@maxottawa.ca
SUMMARY:Karaoke Night
DESCRIPTION:Karaoke with fellow Queers hosted by Jolene.
URL:https://maxottawa.ca/list/karaoke-night/2027-03-14/
LOCATION:T’s\, 323 Somerset Street West\, Ottawa\, ON\, 2P 0J8\, Canada
CATEGORIES:Live music,Nightlife,Regular programming
END:VEVENT
BEGIN:VEVENT
DTSTART;TZID=America/Toronto:20270318T200000
DTEND;TZID=America/Toronto:20270318T230000
DTSTAMP:20260419T061501
CREATED:20241029T210043Z
LAST-MODIFIED:20241106T152947Z
UID:10000703-1805400000-1805410800@maxottawa.ca
SUMMARY:Karaoke Night
DESCRIPTION:Karaoke with fellow Queers hosted by Jolene.
URL:https://maxottawa.ca/list/karaoke-night/2027-03-18/
LOCATION:T’s\, 323 Somerset Street West\, Ottawa\, ON\, 2P 0J8\, Canada
CATEGORIES:Live music,Nightlife,Regular programming
END:VEVENT
BEGIN:VEVENT
DTSTART;TZID=America/Toronto:20270321T200000
DTEND;TZID=America/Toronto:20270321T230000
DTSTAMP:20260419T061501
CREATED:20241029T210043Z
LAST-MODIFIED:20241106T152947Z
UID:10000704-1805659200-1805670000@maxottawa.ca
SUMMARY:Karaoke Night
DESCRIPTION:Karaoke with fellow Queers hosted by Jolene.
URL:https://maxottawa.ca/list/karaoke-night/2027-03-21/
LOCATION:T’s\, 323 Somerset Street West\, Ottawa\, ON\, 2P 0J8\, Canada
CATEGORIES:Live music,Nightlife,Regular programming
END:VEVENT
BEGIN:VEVENT
DTSTART;TZID=America/Toronto:20270325T200000
DTEND;TZID=America/Toronto:20270325T230000
DTSTAMP:20260419T061502
CREATED:20241029T210043Z
LAST-MODIFIED:20241106T152947Z
UID:10000705-1806004800-1806015600@maxottawa.ca
SUMMARY:Karaoke Night
DESCRIPTION:Karaoke with fellow Queers hosted by Jolene.
URL:https://maxottawa.ca/list/karaoke-night/2027-03-25/
LOCATION:T’s\, 323 Somerset Street West\, Ottawa\, ON\, 2P 0J8\, Canada
CATEGORIES:Live music,Nightlife,Regular programming
END:VEVENT
BEGIN:VEVENT
DTSTART;TZID=America/Toronto:20270328T200000
DTEND;TZID=America/Toronto:20270328T230000
DTSTAMP:20260419T061502
CREATED:20241029T210043Z
LAST-MODIFIED:20241106T152947Z
UID:10000706-1806264000-1806274800@maxottawa.ca
SUMMARY:Karaoke Night
DESCRIPTION:Karaoke with fellow Queers hosted by Jolene.
URL:https://maxottawa.ca/list/karaoke-night/2027-03-28/
LOCATION:T’s\, 323 Somerset Street West\, Ottawa\, ON\, 2P 0J8\, Canada
CATEGORIES:Live music,Nightlife,Regular programming
END:VEVENT
BEGIN:VEVENT
DTSTART;TZID=America/Toronto:20270401T200000
DTEND;TZID=America/Toronto:20270401T230000
DTSTAMP:20260419T061502
CREATED:20241029T210043Z
LAST-MODIFIED:20241106T152947Z
UID:10000707-1806609600-1806620400@maxottawa.ca
SUMMARY:Karaoke Night
DESCRIPTION:Karaoke with fellow Queers hosted by Jolene.
URL:https://maxottawa.ca/list/karaoke-night/2027-04-01/
LOCATION:T’s\, 323 Somerset Street West\, Ottawa\, ON\, 2P 0J8\, Canada
CATEGORIES:Live music,Nightlife,Regular programming
END:VEVENT
BEGIN:VEVENT
DTSTART;TZID=America/Toronto:20270404T200000
DTEND;TZID=America/Toronto:20270404T230000
DTSTAMP:20260419T061502
CREATED:20241029T210043Z
LAST-MODIFIED:20241106T152947Z
UID:10000708-1806868800-1806879600@maxottawa.ca
SUMMARY:Karaoke Night
DESCRIPTION:Karaoke with fellow Queers hosted by Jolene.
URL:https://maxottawa.ca/list/karaoke-night/2027-04-04/
LOCATION:T’s\, 323 Somerset Street West\, Ottawa\, ON\, 2P 0J8\, Canada
CATEGORIES:Live music,Nightlife,Regular programming
END:VEVENT
BEGIN:VEVENT
DTSTART;TZID=America/Toronto:20270408T200000
DTEND;TZID=America/Toronto:20270408T230000
DTSTAMP:20260419T061502
CREATED:20241029T210043Z
LAST-MODIFIED:20241106T152947Z
UID:10000709-1807214400-1807225200@maxottawa.ca
SUMMARY:Karaoke Night
DESCRIPTION:Karaoke with fellow Queers hosted by Jolene.
URL:https://maxottawa.ca/list/karaoke-night/2027-04-08/
LOCATION:T’s\, 323 Somerset Street West\, Ottawa\, ON\, 2P 0J8\, Canada
CATEGORIES:Live music,Nightlife,Regular programming
END:VEVENT
BEGIN:VEVENT
DTSTART;TZID=America/Toronto:20270411T200000
DTEND;TZID=America/Toronto:20270411T230000
DTSTAMP:20260419T061502
CREATED:20241029T210043Z
LAST-MODIFIED:20241106T152947Z
UID:10000710-1807473600-1807484400@maxottawa.ca
SUMMARY:Karaoke Night
DESCRIPTION:Karaoke with fellow Queers hosted by Jolene.
URL:https://maxottawa.ca/list/karaoke-night/2027-04-11/
LOCATION:T’s\, 323 Somerset Street West\, Ottawa\, ON\, 2P 0J8\, Canada
CATEGORIES:Live music,Nightlife,Regular programming
END:VEVENT
BEGIN:VEVENT
DTSTART;TZID=America/Toronto:20270415T200000
DTEND;TZID=America/Toronto:20270415T230000
DTSTAMP:20260419T061502
CREATED:20241029T210043Z
LAST-MODIFIED:20241106T152947Z
UID:10000711-1807819200-1807830000@maxottawa.ca
SUMMARY:Karaoke Night
DESCRIPTION:Karaoke with fellow Queers hosted by Jolene.
URL:https://maxottawa.ca/list/karaoke-night/2027-04-15/
LOCATION:T’s\, 323 Somerset Street West\, Ottawa\, ON\, 2P 0J8\, Canada
CATEGORIES:Live music,Nightlife,Regular programming
END:VEVENT
BEGIN:VEVENT
DTSTART;TZID=America/Toronto:20270418T200000
DTEND;TZID=America/Toronto:20270418T230000
DTSTAMP:20260419T061502
CREATED:20241029T210043Z
LAST-MODIFIED:20241106T152947Z
UID:10000712-1808078400-1808089200@maxottawa.ca
SUMMARY:Karaoke Night
DESCRIPTION:Karaoke with fellow Queers hosted by Jolene.
URL:https://maxottawa.ca/list/karaoke-night/2027-04-18/
LOCATION:T’s\, 323 Somerset Street West\, Ottawa\, ON\, 2P 0J8\, Canada
CATEGORIES:Live music,Nightlife,Regular programming
END:VEVENT
BEGIN:VEVENT
DTSTART;TZID=America/Toronto:20270422T200000
DTEND;TZID=America/Toronto:20270422T230000
DTSTAMP:20260419T061502
CREATED:20241029T210043Z
LAST-MODIFIED:20241106T152947Z
UID:10000713-1808424000-1808434800@maxottawa.ca
SUMMARY:Karaoke Night
DESCRIPTION:Karaoke with fellow Queers hosted by Jolene.
URL:https://maxottawa.ca/list/karaoke-night/2027-04-22/
LOCATION:T’s\, 323 Somerset Street West\, Ottawa\, ON\, 2P 0J8\, Canada
CATEGORIES:Live music,Nightlife,Regular programming
END:VEVENT
BEGIN:VEVENT
DTSTART;TZID=America/Toronto:20270425T200000
DTEND;TZID=America/Toronto:20270425T230000
DTSTAMP:20260419T061502
CREATED:20241029T210043Z
LAST-MODIFIED:20241106T152947Z
UID:10000714-1808683200-1808694000@maxottawa.ca
SUMMARY:Karaoke Night
DESCRIPTION:Karaoke with fellow Queers hosted by Jolene.
URL:https://maxottawa.ca/list/karaoke-night/2027-04-25/
LOCATION:T’s\, 323 Somerset Street West\, Ottawa\, ON\, 2P 0J8\, Canada
CATEGORIES:Live music,Nightlife,Regular programming
END:VEVENT
BEGIN:VEVENT
DTSTART;TZID=America/Toronto:20270429T200000
DTEND;TZID=America/Toronto:20270429T230000
DTSTAMP:20260419T061502
CREATED:20241029T210043Z
LAST-MODIFIED:20241106T152947Z
UID:10000715-1809028800-1809039600@maxottawa.ca
SUMMARY:Karaoke Night
DESCRIPTION:Karaoke with fellow Queers hosted by Jolene.
URL:https://maxottawa.ca/list/karaoke-night/2027-04-29/
LOCATION:T’s\, 323 Somerset Street West\, Ottawa\, ON\, 2P 0J8\, Canada
CATEGORIES:Live music,Nightlife,Regular programming
END:VEVENT
BEGIN:VEVENT
DTSTART;TZID=America/Toronto:20270502T200000
DTEND;TZID=America/Toronto:20270502T230000
DTSTAMP:20260419T061502
CREATED:20241029T210043Z
LAST-MODIFIED:20241106T152947Z
UID:10000716-1809288000-1809298800@maxottawa.ca
SUMMARY:Karaoke Night
DESCRIPTION:Karaoke with fellow Queers hosted by Jolene.
URL:https://maxottawa.ca/list/karaoke-night/2027-05-02/
LOCATION:T’s\, 323 Somerset Street West\, Ottawa\, ON\, 2P 0J8\, Canada
CATEGORIES:Live music,Nightlife,Regular programming
END:VEVENT
BEGIN:VEVENT
DTSTART;TZID=America/Toronto:20270506T200000
DTEND;TZID=America/Toronto:20270506T230000
DTSTAMP:20260419T061502
CREATED:20241029T210043Z
LAST-MODIFIED:20241106T152947Z
UID:10000717-1809633600-1809644400@maxottawa.ca
SUMMARY:Karaoke Night
DESCRIPTION:Karaoke with fellow Queers hosted by Jolene.
URL:https://maxottawa.ca/list/karaoke-night/2027-05-06/
LOCATION:T’s\, 323 Somerset Street West\, Ottawa\, ON\, 2P 0J8\, Canada
CATEGORIES:Live music,Nightlife,Regular programming
END:VEVENT
BEGIN:VEVENT
DTSTART;TZID=America/Toronto:20270509T200000
DTEND;TZID=America/Toronto:20270509T230000
DTSTAMP:20260419T061502
CREATED:20241029T210043Z
LAST-MODIFIED:20241106T152947Z
UID:10000718-1809892800-1809903600@maxottawa.ca
SUMMARY:Karaoke Night
DESCRIPTION:Karaoke with fellow Queers hosted by Jolene.
URL:https://maxottawa.ca/list/karaoke-night/2027-05-09/
LOCATION:T’s\, 323 Somerset Street West\, Ottawa\, ON\, 2P 0J8\, Canada
CATEGORIES:Live music,Nightlife,Regular programming
END:VEVENT
BEGIN:VEVENT
DTSTART;TZID=America/Toronto:20270513T200000
DTEND;TZID=America/Toronto:20270513T230000
DTSTAMP:20260419T061502
CREATED:20241029T210043Z
LAST-MODIFIED:20241106T152947Z
UID:10000719-1810238400-1810249200@maxottawa.ca
SUMMARY:Karaoke Night
DESCRIPTION:Karaoke with fellow Queers hosted by Jolene.
URL:https://maxottawa.ca/list/karaoke-night/2027-05-13/
LOCATION:T’s\, 323 Somerset Street West\, Ottawa\, ON\, 2P 0J8\, Canada
CATEGORIES:Live music,Nightlife,Regular programming
END:VEVENT
BEGIN:VEVENT
DTSTART;TZID=America/Toronto:20270516T200000
DTEND;TZID=America/Toronto:20270516T230000
DTSTAMP:20260419T061502
CREATED:20241029T210043Z
LAST-MODIFIED:20241106T152947Z
UID:10000720-1810497600-1810508400@maxottawa.ca
SUMMARY:Karaoke Night
DESCRIPTION:Karaoke with fellow Queers hosted by Jolene.
URL:https://maxottawa.ca/list/karaoke-night/2027-05-16/
LOCATION:T’s\, 323 Somerset Street West\, Ottawa\, ON\, 2P 0J8\, Canada
CATEGORIES:Live music,Nightlife,Regular programming
END:VEVENT
BEGIN:VEVENT
DTSTART;TZID=America/Toronto:20270520T200000
DTEND;TZID=America/Toronto:20270520T230000
DTSTAMP:20260419T061502
CREATED:20241029T210043Z
LAST-MODIFIED:20241106T152947Z
UID:10000721-1810843200-1810854000@maxottawa.ca
SUMMARY:Karaoke Night
DESCRIPTION:Karaoke with fellow Queers hosted by Jolene.
URL:https://maxottawa.ca/list/karaoke-night/2027-05-20/
LOCATION:T’s\, 323 Somerset Street West\, Ottawa\, ON\, 2P 0J8\, Canada
CATEGORIES:Live music,Nightlife,Regular programming
END:VEVENT
BEGIN:VEVENT
DTSTART;TZID=America/Toronto:20270523T200000
DTEND;TZID=America/Toronto:20270523T230000
DTSTAMP:20260419T061502
CREATED:20241029T210043Z
LAST-MODIFIED:20241106T152947Z
UID:10000722-1811102400-1811113200@maxottawa.ca
SUMMARY:Karaoke Night
DESCRIPTION:Karaoke with fellow Queers hosted by Jolene.
URL:https://maxottawa.ca/list/karaoke-night/2027-05-23/
LOCATION:T’s\, 323 Somerset Street West\, Ottawa\, ON\, 2P 0J8\, Canada
CATEGORIES:Live music,Nightlife,Regular programming
END:VEVENT
BEGIN:VEVENT
DTSTART;TZID=America/Toronto:20270527T200000
DTEND;TZID=America/Toronto:20270527T230000
DTSTAMP:20260419T061502
CREATED:20241029T210043Z
LAST-MODIFIED:20241106T152947Z
UID:10000723-1811448000-1811458800@maxottawa.ca
SUMMARY:Karaoke Night
DESCRIPTION:Karaoke with fellow Queers hosted by Jolene.
URL:https://maxottawa.ca/list/karaoke-night/2027-05-27/
LOCATION:T’s\, 323 Somerset Street West\, Ottawa\, ON\, 2P 0J8\, Canada
CATEGORIES:Live music,Nightlife,Regular programming
END:VEVENT
BEGIN:VEVENT
DTSTART;TZID=America/Toronto:20270530T200000
DTEND;TZID=America/Toronto:20270530T230000
DTSTAMP:20260419T061502
CREATED:20241029T210043Z
LAST-MODIFIED:20241106T152947Z
UID:10000724-1811707200-1811718000@maxottawa.ca
SUMMARY:Karaoke Night
DESCRIPTION:Karaoke with fellow Queers hosted by Jolene.
URL:https://maxottawa.ca/list/karaoke-night/2027-05-30/
LOCATION:T’s\, 323 Somerset Street West\, Ottawa\, ON\, 2P 0J8\, Canada
CATEGORIES:Live music,Nightlife,Regular programming
END:VEVENT
BEGIN:VEVENT
DTSTART;TZID=America/Toronto:20270603T200000
DTEND;TZID=America/Toronto:20270603T230000
DTSTAMP:20260419T061502
CREATED:20241029T210043Z
LAST-MODIFIED:20241106T152947Z
UID:10000725-1812052800-1812063600@maxottawa.ca
SUMMARY:Karaoke Night
DESCRIPTION:Karaoke with fellow Queers hosted by Jolene.
URL:https://maxottawa.ca/list/karaoke-night/2027-06-03/
LOCATION:T’s\, 323 Somerset Street West\, Ottawa\, ON\, 2P 0J8\, Canada
CATEGORIES:Live music,Nightlife,Regular programming
END:VEVENT
BEGIN:VEVENT
DTSTART;TZID=America/Toronto:20270606T200000
DTEND;TZID=America/Toronto:20270606T230000
DTSTAMP:20260419T061502
CREATED:20241029T210043Z
LAST-MODIFIED:20241106T152947Z
UID:10000726-1812312000-1812322800@maxottawa.ca
SUMMARY:Karaoke Night
DESCRIPTION:Karaoke with fellow Queers hosted by Jolene.
URL:https://maxottawa.ca/list/karaoke-night/2027-06-06/
LOCATION:T’s\, 323 Somerset Street West\, Ottawa\, ON\, 2P 0J8\, Canada
CATEGORIES:Live music,Nightlife,Regular programming
END:VEVENT
END:VCALENDAR