BEGIN:VCALENDAR
VERSION:2.0
PRODID:-//MAX Ottawa - ECPv6.15.20//NONSGML v1.0//EN
CALSCALE:GREGORIAN
METHOD:PUBLISH
X-ORIGINAL-URL:https://maxottawa.ca
X-WR-CALDESC:Events for MAX Ottawa
REFRESH-INTERVAL;VALUE=DURATION:PT1H
X-Robots-Tag:noindex
X-PUBLISHED-TTL:PT1H
BEGIN:VTIMEZONE
TZID:America/Toronto
BEGIN:DAYLIGHT
TZOFFSETFROM:-0500
TZOFFSETTO:-0400
TZNAME:EDT
DTSTART:20270314T070000
END:DAYLIGHT
BEGIN:STANDARD
TZOFFSETFROM:-0400
TZOFFSETTO:-0500
TZNAME:EST
DTSTART:20271107T060000
END:STANDARD
BEGIN:DAYLIGHT
TZOFFSETFROM:-0500
TZOFFSETTO:-0400
TZNAME:EDT
DTSTART:20280312T070000
END:DAYLIGHT
BEGIN:STANDARD
TZOFFSETFROM:-0400
TZOFFSETTO:-0500
TZNAME:EST
DTSTART:20281105T060000
END:STANDARD
BEGIN:DAYLIGHT
TZOFFSETFROM:-0500
TZOFFSETTO:-0400
TZNAME:EDT
DTSTART:20290311T070000
END:DAYLIGHT
BEGIN:STANDARD
TZOFFSETFROM:-0400
TZOFFSETTO:-0500
TZNAME:EST
DTSTART:20291104T060000
END:STANDARD
BEGIN:DAYLIGHT
TZOFFSETFROM:-0500
TZOFFSETTO:-0400
TZNAME:EDT
DTSTART:20300310T070000
END:DAYLIGHT
BEGIN:STANDARD
TZOFFSETFROM:-0400
TZOFFSETTO:-0500
TZNAME:EST
DTSTART:20301103T060000
END:STANDARD
END:VTIMEZONE
BEGIN:VEVENT
DTSTART;TZID=America/Toronto:20281019T200000
DTEND;TZID=America/Toronto:20281019T230000
DTSTAMP:20260422T105429
CREATED:20241029T210043Z
LAST-MODIFIED:20241106T152947Z
UID:10000869-1855598400-1855609200@maxottawa.ca
SUMMARY:Karaoke Night
DESCRIPTION:Karaoke with fellow Queers hosted by Jolene.
URL:https://maxottawa.ca/list/karaoke-night/2028-10-19/
LOCATION:T’s\, 323 Somerset Street West\, Ottawa\, ON\, 2P 0J8\, Canada
CATEGORIES:Live music,Nightlife,Regular programming
END:VEVENT
BEGIN:VEVENT
DTSTART;TZID=America/Toronto:20281022T200000
DTEND;TZID=America/Toronto:20281022T230000
DTSTAMP:20260422T105429
CREATED:20241029T210043Z
LAST-MODIFIED:20241106T152947Z
UID:10000870-1855857600-1855868400@maxottawa.ca
SUMMARY:Karaoke Night
DESCRIPTION:Karaoke with fellow Queers hosted by Jolene.
URL:https://maxottawa.ca/list/karaoke-night/2028-10-22/
LOCATION:T’s\, 323 Somerset Street West\, Ottawa\, ON\, 2P 0J8\, Canada
CATEGORIES:Live music,Nightlife,Regular programming
END:VEVENT
BEGIN:VEVENT
DTSTART;TZID=America/Toronto:20281026T200000
DTEND;TZID=America/Toronto:20281026T230000
DTSTAMP:20260422T105429
CREATED:20241029T210043Z
LAST-MODIFIED:20241106T152947Z
UID:10000871-1856203200-1856214000@maxottawa.ca
SUMMARY:Karaoke Night
DESCRIPTION:Karaoke with fellow Queers hosted by Jolene.
URL:https://maxottawa.ca/list/karaoke-night/2028-10-26/
LOCATION:T’s\, 323 Somerset Street West\, Ottawa\, ON\, 2P 0J8\, Canada
CATEGORIES:Live music,Nightlife,Regular programming
END:VEVENT
BEGIN:VEVENT
DTSTART;TZID=America/Toronto:20281029T200000
DTEND;TZID=America/Toronto:20281029T230000
DTSTAMP:20260422T105429
CREATED:20241029T210043Z
LAST-MODIFIED:20241106T152947Z
UID:10000872-1856462400-1856473200@maxottawa.ca
SUMMARY:Karaoke Night
DESCRIPTION:Karaoke with fellow Queers hosted by Jolene.
URL:https://maxottawa.ca/list/karaoke-night/2028-10-29/
LOCATION:T’s\, 323 Somerset Street West\, Ottawa\, ON\, 2P 0J8\, Canada
CATEGORIES:Live music,Nightlife,Regular programming
END:VEVENT
BEGIN:VEVENT
DTSTART;TZID=America/Toronto:20281102T200000
DTEND;TZID=America/Toronto:20281102T230000
DTSTAMP:20260422T105429
CREATED:20241029T210043Z
LAST-MODIFIED:20241106T152947Z
UID:10000873-1856808000-1856818800@maxottawa.ca
SUMMARY:Karaoke Night
DESCRIPTION:Karaoke with fellow Queers hosted by Jolene.
URL:https://maxottawa.ca/list/karaoke-night/2028-11-02/
LOCATION:T’s\, 323 Somerset Street West\, Ottawa\, ON\, 2P 0J8\, Canada
CATEGORIES:Live music,Nightlife,Regular programming
END:VEVENT
BEGIN:VEVENT
DTSTART;TZID=America/Toronto:20281105T200000
DTEND;TZID=America/Toronto:20281105T230000
DTSTAMP:20260422T105429
CREATED:20241029T210043Z
LAST-MODIFIED:20241106T152947Z
UID:10000874-1857067200-1857078000@maxottawa.ca
SUMMARY:Karaoke Night
DESCRIPTION:Karaoke with fellow Queers hosted by Jolene.
URL:https://maxottawa.ca/list/karaoke-night/2028-11-05/
LOCATION:T’s\, 323 Somerset Street West\, Ottawa\, ON\, 2P 0J8\, Canada
CATEGORIES:Live music,Nightlife,Regular programming
END:VEVENT
BEGIN:VEVENT
DTSTART;TZID=America/Toronto:20281109T200000
DTEND;TZID=America/Toronto:20281109T230000
DTSTAMP:20260422T105429
CREATED:20241029T210043Z
LAST-MODIFIED:20241106T152947Z
UID:10000875-1857412800-1857423600@maxottawa.ca
SUMMARY:Karaoke Night
DESCRIPTION:Karaoke with fellow Queers hosted by Jolene.
URL:https://maxottawa.ca/list/karaoke-night/2028-11-09/
LOCATION:T’s\, 323 Somerset Street West\, Ottawa\, ON\, 2P 0J8\, Canada
CATEGORIES:Live music,Nightlife,Regular programming
END:VEVENT
BEGIN:VEVENT
DTSTART;TZID=America/Toronto:20281112T200000
DTEND;TZID=America/Toronto:20281112T230000
DTSTAMP:20260422T105429
CREATED:20241029T210043Z
LAST-MODIFIED:20241106T152947Z
UID:10000876-1857672000-1857682800@maxottawa.ca
SUMMARY:Karaoke Night
DESCRIPTION:Karaoke with fellow Queers hosted by Jolene.
URL:https://maxottawa.ca/list/karaoke-night/2028-11-12/
LOCATION:T’s\, 323 Somerset Street West\, Ottawa\, ON\, 2P 0J8\, Canada
CATEGORIES:Live music,Nightlife,Regular programming
END:VEVENT
BEGIN:VEVENT
DTSTART;TZID=America/Toronto:20281116T200000
DTEND;TZID=America/Toronto:20281116T230000
DTSTAMP:20260422T105429
CREATED:20241029T210043Z
LAST-MODIFIED:20241106T152947Z
UID:10000877-1858017600-1858028400@maxottawa.ca
SUMMARY:Karaoke Night
DESCRIPTION:Karaoke with fellow Queers hosted by Jolene.
URL:https://maxottawa.ca/list/karaoke-night/2028-11-16/
LOCATION:T’s\, 323 Somerset Street West\, Ottawa\, ON\, 2P 0J8\, Canada
CATEGORIES:Live music,Nightlife,Regular programming
END:VEVENT
BEGIN:VEVENT
DTSTART;TZID=America/Toronto:20281119T200000
DTEND;TZID=America/Toronto:20281119T230000
DTSTAMP:20260422T105429
CREATED:20241029T210043Z
LAST-MODIFIED:20241106T152947Z
UID:10000878-1858276800-1858287600@maxottawa.ca
SUMMARY:Karaoke Night
DESCRIPTION:Karaoke with fellow Queers hosted by Jolene.
URL:https://maxottawa.ca/list/karaoke-night/2028-11-19/
LOCATION:T’s\, 323 Somerset Street West\, Ottawa\, ON\, 2P 0J8\, Canada
CATEGORIES:Live music,Nightlife,Regular programming
END:VEVENT
BEGIN:VEVENT
DTSTART;TZID=America/Toronto:20281123T200000
DTEND;TZID=America/Toronto:20281123T230000
DTSTAMP:20260422T105429
CREATED:20241029T210043Z
LAST-MODIFIED:20241106T152947Z
UID:10000879-1858622400-1858633200@maxottawa.ca
SUMMARY:Karaoke Night
DESCRIPTION:Karaoke with fellow Queers hosted by Jolene.
URL:https://maxottawa.ca/list/karaoke-night/2028-11-23/
LOCATION:T’s\, 323 Somerset Street West\, Ottawa\, ON\, 2P 0J8\, Canada
CATEGORIES:Live music,Nightlife,Regular programming
END:VEVENT
BEGIN:VEVENT
DTSTART;TZID=America/Toronto:20281126T200000
DTEND;TZID=America/Toronto:20281126T230000
DTSTAMP:20260422T105429
CREATED:20241029T210043Z
LAST-MODIFIED:20241106T152947Z
UID:10000880-1858881600-1858892400@maxottawa.ca
SUMMARY:Karaoke Night
DESCRIPTION:Karaoke with fellow Queers hosted by Jolene.
URL:https://maxottawa.ca/list/karaoke-night/2028-11-26/
LOCATION:T’s\, 323 Somerset Street West\, Ottawa\, ON\, 2P 0J8\, Canada
CATEGORIES:Live music,Nightlife,Regular programming
END:VEVENT
BEGIN:VEVENT
DTSTART;TZID=America/Toronto:20281130T200000
DTEND;TZID=America/Toronto:20281130T230000
DTSTAMP:20260422T105429
CREATED:20241029T210043Z
LAST-MODIFIED:20241106T152947Z
UID:10000881-1859227200-1859238000@maxottawa.ca
SUMMARY:Karaoke Night
DESCRIPTION:Karaoke with fellow Queers hosted by Jolene.
URL:https://maxottawa.ca/list/karaoke-night/2028-11-30/
LOCATION:T’s\, 323 Somerset Street West\, Ottawa\, ON\, 2P 0J8\, Canada
CATEGORIES:Live music,Nightlife,Regular programming
END:VEVENT
BEGIN:VEVENT
DTSTART;TZID=America/Toronto:20281203T200000
DTEND;TZID=America/Toronto:20281203T230000
DTSTAMP:20260422T105429
CREATED:20241029T210043Z
LAST-MODIFIED:20241106T152947Z
UID:10000882-1859486400-1859497200@maxottawa.ca
SUMMARY:Karaoke Night
DESCRIPTION:Karaoke with fellow Queers hosted by Jolene.
URL:https://maxottawa.ca/list/karaoke-night/2028-12-03/
LOCATION:T’s\, 323 Somerset Street West\, Ottawa\, ON\, 2P 0J8\, Canada
CATEGORIES:Live music,Nightlife,Regular programming
END:VEVENT
BEGIN:VEVENT
DTSTART;TZID=America/Toronto:20281207T200000
DTEND;TZID=America/Toronto:20281207T230000
DTSTAMP:20260422T105429
CREATED:20241029T210043Z
LAST-MODIFIED:20241106T152947Z
UID:10000883-1859832000-1859842800@maxottawa.ca
SUMMARY:Karaoke Night
DESCRIPTION:Karaoke with fellow Queers hosted by Jolene.
URL:https://maxottawa.ca/list/karaoke-night/2028-12-07/
LOCATION:T’s\, 323 Somerset Street West\, Ottawa\, ON\, 2P 0J8\, Canada
CATEGORIES:Live music,Nightlife,Regular programming
END:VEVENT
BEGIN:VEVENT
DTSTART;TZID=America/Toronto:20281210T200000
DTEND;TZID=America/Toronto:20281210T230000
DTSTAMP:20260422T105429
CREATED:20241029T210043Z
LAST-MODIFIED:20241106T152947Z
UID:10000884-1860091200-1860102000@maxottawa.ca
SUMMARY:Karaoke Night
DESCRIPTION:Karaoke with fellow Queers hosted by Jolene.
URL:https://maxottawa.ca/list/karaoke-night/2028-12-10/
LOCATION:T’s\, 323 Somerset Street West\, Ottawa\, ON\, 2P 0J8\, Canada
CATEGORIES:Live music,Nightlife,Regular programming
END:VEVENT
BEGIN:VEVENT
DTSTART;TZID=America/Toronto:20281214T200000
DTEND;TZID=America/Toronto:20281214T230000
DTSTAMP:20260422T105429
CREATED:20241029T210043Z
LAST-MODIFIED:20241106T152947Z
UID:10000885-1860436800-1860447600@maxottawa.ca
SUMMARY:Karaoke Night
DESCRIPTION:Karaoke with fellow Queers hosted by Jolene.
URL:https://maxottawa.ca/list/karaoke-night/2028-12-14/
LOCATION:T’s\, 323 Somerset Street West\, Ottawa\, ON\, 2P 0J8\, Canada
CATEGORIES:Live music,Nightlife,Regular programming
END:VEVENT
BEGIN:VEVENT
DTSTART;TZID=America/Toronto:20281217T200000
DTEND;TZID=America/Toronto:20281217T230000
DTSTAMP:20260422T105429
CREATED:20241029T210043Z
LAST-MODIFIED:20241106T152947Z
UID:10000886-1860696000-1860706800@maxottawa.ca
SUMMARY:Karaoke Night
DESCRIPTION:Karaoke with fellow Queers hosted by Jolene.
URL:https://maxottawa.ca/list/karaoke-night/2028-12-17/
LOCATION:T’s\, 323 Somerset Street West\, Ottawa\, ON\, 2P 0J8\, Canada
CATEGORIES:Live music,Nightlife,Regular programming
END:VEVENT
BEGIN:VEVENT
DTSTART;TZID=America/Toronto:20281221T200000
DTEND;TZID=America/Toronto:20281221T230000
DTSTAMP:20260422T105429
CREATED:20241029T210043Z
LAST-MODIFIED:20241106T152947Z
UID:10000887-1861041600-1861052400@maxottawa.ca
SUMMARY:Karaoke Night
DESCRIPTION:Karaoke with fellow Queers hosted by Jolene.
URL:https://maxottawa.ca/list/karaoke-night/2028-12-21/
LOCATION:T’s\, 323 Somerset Street West\, Ottawa\, ON\, 2P 0J8\, Canada
CATEGORIES:Live music,Nightlife,Regular programming
END:VEVENT
BEGIN:VEVENT
DTSTART;TZID=America/Toronto:20281224T200000
DTEND;TZID=America/Toronto:20281224T230000
DTSTAMP:20260422T105429
CREATED:20241029T210043Z
LAST-MODIFIED:20241106T152947Z
UID:10000888-1861300800-1861311600@maxottawa.ca
SUMMARY:Karaoke Night
DESCRIPTION:Karaoke with fellow Queers hosted by Jolene.
URL:https://maxottawa.ca/list/karaoke-night/2028-12-24/
LOCATION:T’s\, 323 Somerset Street West\, Ottawa\, ON\, 2P 0J8\, Canada
CATEGORIES:Live music,Nightlife,Regular programming
END:VEVENT
BEGIN:VEVENT
DTSTART;TZID=America/Toronto:20281228T200000
DTEND;TZID=America/Toronto:20281228T230000
DTSTAMP:20260422T105429
CREATED:20241029T210043Z
LAST-MODIFIED:20241106T152947Z
UID:10000889-1861646400-1861657200@maxottawa.ca
SUMMARY:Karaoke Night
DESCRIPTION:Karaoke with fellow Queers hosted by Jolene.
URL:https://maxottawa.ca/list/karaoke-night/2028-12-28/
LOCATION:T’s\, 323 Somerset Street West\, Ottawa\, ON\, 2P 0J8\, Canada
CATEGORIES:Live music,Nightlife,Regular programming
END:VEVENT
BEGIN:VEVENT
DTSTART;TZID=America/Toronto:20281231T200000
DTEND;TZID=America/Toronto:20281231T230000
DTSTAMP:20260422T105429
CREATED:20241029T210043Z
LAST-MODIFIED:20241106T152947Z
UID:10000890-1861905600-1861916400@maxottawa.ca
SUMMARY:Karaoke Night
DESCRIPTION:Karaoke with fellow Queers hosted by Jolene.
URL:https://maxottawa.ca/list/karaoke-night/2028-12-31/
LOCATION:T’s\, 323 Somerset Street West\, Ottawa\, ON\, 2P 0J8\, Canada
CATEGORIES:Live music,Nightlife,Regular programming
END:VEVENT
BEGIN:VEVENT
DTSTART;TZID=America/Toronto:20290104T200000
DTEND;TZID=America/Toronto:20290104T230000
DTSTAMP:20260422T105429
CREATED:20241029T210043Z
LAST-MODIFIED:20241106T152947Z
UID:10000891-1862251200-1862262000@maxottawa.ca
SUMMARY:Karaoke Night
DESCRIPTION:Karaoke with fellow Queers hosted by Jolene.
URL:https://maxottawa.ca/list/karaoke-night/2029-01-04/
LOCATION:T’s\, 323 Somerset Street West\, Ottawa\, ON\, 2P 0J8\, Canada
CATEGORIES:Live music,Nightlife,Regular programming
END:VEVENT
BEGIN:VEVENT
DTSTART;TZID=America/Toronto:20290107T200000
DTEND;TZID=America/Toronto:20290107T230000
DTSTAMP:20260422T105429
CREATED:20241029T210043Z
LAST-MODIFIED:20241106T152947Z
UID:10000892-1862510400-1862521200@maxottawa.ca
SUMMARY:Karaoke Night
DESCRIPTION:Karaoke with fellow Queers hosted by Jolene.
URL:https://maxottawa.ca/list/karaoke-night/2029-01-07/
LOCATION:T’s\, 323 Somerset Street West\, Ottawa\, ON\, 2P 0J8\, Canada
CATEGORIES:Live music,Nightlife,Regular programming
END:VEVENT
BEGIN:VEVENT
DTSTART;TZID=America/Toronto:20290111T200000
DTEND;TZID=America/Toronto:20290111T230000
DTSTAMP:20260422T105429
CREATED:20241029T210043Z
LAST-MODIFIED:20241106T152947Z
UID:10000893-1862856000-1862866800@maxottawa.ca
SUMMARY:Karaoke Night
DESCRIPTION:Karaoke with fellow Queers hosted by Jolene.
URL:https://maxottawa.ca/list/karaoke-night/2029-01-11/
LOCATION:T’s\, 323 Somerset Street West\, Ottawa\, ON\, 2P 0J8\, Canada
CATEGORIES:Live music,Nightlife,Regular programming
END:VEVENT
BEGIN:VEVENT
DTSTART;TZID=America/Toronto:20290114T200000
DTEND;TZID=America/Toronto:20290114T230000
DTSTAMP:20260422T105429
CREATED:20241029T210043Z
LAST-MODIFIED:20241106T152947Z
UID:10000894-1863115200-1863126000@maxottawa.ca
SUMMARY:Karaoke Night
DESCRIPTION:Karaoke with fellow Queers hosted by Jolene.
URL:https://maxottawa.ca/list/karaoke-night/2029-01-14/
LOCATION:T’s\, 323 Somerset Street West\, Ottawa\, ON\, 2P 0J8\, Canada
CATEGORIES:Live music,Nightlife,Regular programming
END:VEVENT
BEGIN:VEVENT
DTSTART;TZID=America/Toronto:20290118T200000
DTEND;TZID=America/Toronto:20290118T230000
DTSTAMP:20260422T105429
CREATED:20241029T210043Z
LAST-MODIFIED:20241106T152947Z
UID:10000895-1863460800-1863471600@maxottawa.ca
SUMMARY:Karaoke Night
DESCRIPTION:Karaoke with fellow Queers hosted by Jolene.
URL:https://maxottawa.ca/list/karaoke-night/2029-01-18/
LOCATION:T’s\, 323 Somerset Street West\, Ottawa\, ON\, 2P 0J8\, Canada
CATEGORIES:Live music,Nightlife,Regular programming
END:VEVENT
BEGIN:VEVENT
DTSTART;TZID=America/Toronto:20290121T200000
DTEND;TZID=America/Toronto:20290121T230000
DTSTAMP:20260422T105429
CREATED:20241029T210043Z
LAST-MODIFIED:20241106T152947Z
UID:10000896-1863720000-1863730800@maxottawa.ca
SUMMARY:Karaoke Night
DESCRIPTION:Karaoke with fellow Queers hosted by Jolene.
URL:https://maxottawa.ca/list/karaoke-night/2029-01-21/
LOCATION:T’s\, 323 Somerset Street West\, Ottawa\, ON\, 2P 0J8\, Canada
CATEGORIES:Live music,Nightlife,Regular programming
END:VEVENT
BEGIN:VEVENT
DTSTART;TZID=America/Toronto:20290125T200000
DTEND;TZID=America/Toronto:20290125T230000
DTSTAMP:20260422T105429
CREATED:20241029T210043Z
LAST-MODIFIED:20241106T152947Z
UID:10000897-1864065600-1864076400@maxottawa.ca
SUMMARY:Karaoke Night
DESCRIPTION:Karaoke with fellow Queers hosted by Jolene.
URL:https://maxottawa.ca/list/karaoke-night/2029-01-25/
LOCATION:T’s\, 323 Somerset Street West\, Ottawa\, ON\, 2P 0J8\, Canada
CATEGORIES:Live music,Nightlife,Regular programming
END:VEVENT
BEGIN:VEVENT
DTSTART;TZID=America/Toronto:20290128T200000
DTEND;TZID=America/Toronto:20290128T230000
DTSTAMP:20260422T105429
CREATED:20241029T210043Z
LAST-MODIFIED:20241106T152947Z
UID:10000898-1864324800-1864335600@maxottawa.ca
SUMMARY:Karaoke Night
DESCRIPTION:Karaoke with fellow Queers hosted by Jolene.
URL:https://maxottawa.ca/list/karaoke-night/2029-01-28/
LOCATION:T’s\, 323 Somerset Street West\, Ottawa\, ON\, 2P 0J8\, Canada
CATEGORIES:Live music,Nightlife,Regular programming
END:VEVENT
END:VCALENDAR