BEGIN:VCALENDAR
VERSION:2.0
PRODID:-//MAX Ottawa - ECPv6.15.20//NONSGML v1.0//EN
CALSCALE:GREGORIAN
METHOD:PUBLISH
X-WR-CALNAME:MAX Ottawa
X-ORIGINAL-URL:https://maxottawa.ca
X-WR-CALDESC:Events for MAX Ottawa
REFRESH-INTERVAL;VALUE=DURATION:PT1H
X-Robots-Tag:noindex
X-PUBLISHED-TTL:PT1H
BEGIN:VTIMEZONE
TZID:America/Toronto
BEGIN:DAYLIGHT
TZOFFSETFROM:-0500
TZOFFSETTO:-0400
TZNAME:EDT
DTSTART:20240310T070000
END:DAYLIGHT
BEGIN:STANDARD
TZOFFSETFROM:-0400
TZOFFSETTO:-0500
TZNAME:EST
DTSTART:20241103T060000
END:STANDARD
BEGIN:DAYLIGHT
TZOFFSETFROM:-0500
TZOFFSETTO:-0400
TZNAME:EDT
DTSTART:20250309T070000
END:DAYLIGHT
BEGIN:STANDARD
TZOFFSETFROM:-0400
TZOFFSETTO:-0500
TZNAME:EST
DTSTART:20251102T060000
END:STANDARD
BEGIN:DAYLIGHT
TZOFFSETFROM:-0500
TZOFFSETTO:-0400
TZNAME:EDT
DTSTART:20260308T070000
END:DAYLIGHT
BEGIN:STANDARD
TZOFFSETFROM:-0400
TZOFFSETTO:-0500
TZNAME:EST
DTSTART:20261101T060000
END:STANDARD
END:VTIMEZONE
BEGIN:VEVENT
DTSTART;TZID=America/Toronto:20251128T180000
DTEND;TZID=America/Toronto:20251128T200000
DTSTAMP:20260421T015757
CREATED:20251101T191337Z
LAST-MODIFIED:20251101T191402Z
UID:10003605-1764352800-1764360000@maxottawa.ca
SUMMARY:K1 en français : Argent\, survie & solidarité
DESCRIPTION:L’argent\, c’est souvent un sujet tabou — surtout dans nos communautés queer\, racisées et migrantes. Entre précarité\, loyer trop cher\, études\, santé mentale et transition\, beaucoup d’entre nous jonglent avec le stress financier au quotidien. \n\n\n\nMais parlons-en. Sans honte\, sans jugement — juste de façon honnête\, bienveillante et solidaire. \n\n\n\nRejoins-nous pour une discussion de pairs ouverte\, concrète et communautaire\, où on explorera : \n\n\n\n💬 Comment nos identités influencent notre rapport à l’argent \n\n\n\n💭 Les défis financiers dans nos parcours queer et racisés \n\n\n\n🤝 Les astuces\, ressources et soutiens disponibles à Ottawa \n\n\n\n💡 Comment bâtir une sécurité financière… même à petits pas \n\n\n\nQue tu sois étudiant·e\, en emploi\, nouvellement arrivé·e ou simplement curieux·se — cet espace t’appartient. \n\n\n\nOn va rire\, partager\, et surtout se rappeler qu’on n’est pas seul·e dans cette réalité. Viens comme tu es\, avec tes réalités\, tes questions ou tes idées — on construit ensemble. Inscrivez-vous selon le formulaire :
URL:https://maxottawa.ca/list/k1-en-francais-argent-survie-solidarite/
LOCATION:MAX Ottawa\, 400 Cooper St. Suite 9004\, Ottawa\, Ontario\, K2P 2H8\, Canada
CATEGORIES:Advocacy & empowerment,En français,MAX Programs,Ottawa,Regular programming,Social
ORGANIZER;CN="MAX Ottawa":MAILTO:info@maxottawa.ca
END:VEVENT
END:VCALENDAR