BEGIN:VCALENDAR
VERSION:2.0
PRODID:-//MAX Ottawa - ECPv6.15.20//NONSGML v1.0//EN
CALSCALE:GREGORIAN
METHOD:PUBLISH
X-ORIGINAL-URL:https://maxottawa.ca
X-WR-CALDESC:Events for MAX Ottawa
REFRESH-INTERVAL;VALUE=DURATION:PT1H
X-Robots-Tag:noindex
X-PUBLISHED-TTL:PT1H
BEGIN:VTIMEZONE
TZID:America/Toronto
BEGIN:DAYLIGHT
TZOFFSETFROM:-0500
TZOFFSETTO:-0400
TZNAME:EDT
DTSTART:20250309T070000
END:DAYLIGHT
BEGIN:STANDARD
TZOFFSETFROM:-0400
TZOFFSETTO:-0500
TZNAME:EST
DTSTART:20251102T060000
END:STANDARD
BEGIN:DAYLIGHT
TZOFFSETFROM:-0500
TZOFFSETTO:-0400
TZNAME:EDT
DTSTART:20260308T070000
END:DAYLIGHT
BEGIN:STANDARD
TZOFFSETFROM:-0400
TZOFFSETTO:-0500
TZNAME:EST
DTSTART:20261101T060000
END:STANDARD
BEGIN:DAYLIGHT
TZOFFSETFROM:-0500
TZOFFSETTO:-0400
TZNAME:EDT
DTSTART:20270314T070000
END:DAYLIGHT
BEGIN:STANDARD
TZOFFSETFROM:-0400
TZOFFSETTO:-0500
TZNAME:EST
DTSTART:20271107T060000
END:STANDARD
END:VTIMEZONE
BEGIN:VEVENT
DTSTART;TZID=America/Toronto:20260211T183000
DTEND;TZID=America/Toronto:20260211T203000
DTSTAMP:20260420T004307
CREATED:20260130T205426Z
LAST-MODIFIED:20260130T213547Z
UID:10004703-1770834600-1770841800@maxottawa.ca
SUMMARY:Now What?
DESCRIPTION:Join MAX for an evening conversation about the relationships that shape us as partners\, friends\, chosen family\, and everything in between. \n\n\n\nWe’ll talk about how connection changes over time\, what intimacy and companionship can look like at different stages of life\, and the kinds of relationships that help us feel grounded and supported.  \n\n\n\nPlease RSVP to let us know you’re coming through the form below! \n\n\n\nNow What? is MAX Ottawa’s monthly peer discussion group for MSM 50+. \n\n\n\n\n\n\n\n\n\n\n\n\n\n\n\n\n\n\n\nNotes on Accessibility\n\n\n\n\nOur building has three elevators\, and our office is fully wheelchair accessible. There is a gender neutral and wheelchair accessible washroom just outside of our office. Please let us know in advance if you require any additional accommodations.\n\n\n\nOur office is right around the corner from bus stops for the 6\, 7\, and 11. We’re about a 5-minute walk from the nearest stop for the 14\, and a 10-minute walk from Parliament Station (Line 1 of the O-train). There are also several paid parking lots and garages within walking distance. If transit is a barrier for you to attend a session\, let us know and we’ll help you out!\n\n\n\nIf you get here after 6:30 pm\, the doors and elevator will be locked. Don’t worry — just press the MAX buzzer on the side of the door or give us a call at 613‑701‑6555 or 343‑307‑0494. (You can also reach us on WhatsApp!)\n\n\n\nSigned up for a session but can no longer make it? No problem — just shoot us an email at a.wilson@maxottawa.ca as soon as you can.
URL:https://maxottawa.ca/list/now-what-2/
LOCATION:MAX Ottawa\, 400 Cooper St. Suite 9004\, Ottawa\, Ontario\, K2P 2H8\, Canada
CATEGORIES:MAX Programs,Ottawa,Social
ORGANIZER;CN="MAX Ottawa":MAILTO:info@maxottawa.ca
END:VEVENT
END:VCALENDAR