BEGIN:VCALENDAR
VERSION:2.0
PRODID:-//MAX Ottawa - ECPv6.15.20//NONSGML v1.0//EN
CALSCALE:GREGORIAN
METHOD:PUBLISH
X-WR-CALNAME:MAX Ottawa
X-ORIGINAL-URL:https://maxottawa.ca
X-WR-CALDESC:Events for MAX Ottawa
REFRESH-INTERVAL;VALUE=DURATION:PT1H
X-Robots-Tag:noindex
X-PUBLISHED-TTL:PT1H
BEGIN:VTIMEZONE
TZID:America/Toronto
BEGIN:DAYLIGHT
TZOFFSETFROM:-0500
TZOFFSETTO:-0400
TZNAME:EDT
DTSTART:20250309T070000
END:DAYLIGHT
BEGIN:STANDARD
TZOFFSETFROM:-0400
TZOFFSETTO:-0500
TZNAME:EST
DTSTART:20251102T060000
END:STANDARD
BEGIN:DAYLIGHT
TZOFFSETFROM:-0500
TZOFFSETTO:-0400
TZNAME:EDT
DTSTART:20260308T070000
END:DAYLIGHT
BEGIN:STANDARD
TZOFFSETFROM:-0400
TZOFFSETTO:-0500
TZNAME:EST
DTSTART:20261101T060000
END:STANDARD
BEGIN:DAYLIGHT
TZOFFSETFROM:-0500
TZOFFSETTO:-0400
TZNAME:EDT
DTSTART:20270314T070000
END:DAYLIGHT
BEGIN:STANDARD
TZOFFSETFROM:-0400
TZOFFSETTO:-0500
TZNAME:EST
DTSTART:20271107T060000
END:STANDARD
END:VTIMEZONE
BEGIN:VEVENT
DTSTART;TZID=America/Toronto:20260220T183000
DTEND;TZID=America/Toronto:20260220T203000
DTSTAMP:20260420T044646
CREATED:20260130T202711Z
LAST-MODIFIED:20260130T202716Z
UID:10004701-1771612200-1771619400@maxottawa.ca
SUMMARY:Queerspora: Love\, Friendship\, and Family
DESCRIPTION:Join fellow queer newcomers for a discussion about building connection and belonging across distance\, culture\, and community.  \n\n\n\nFor our February session\, we’re connecting online and exploring love\, friendship\, family\, long-distance closeness\, and the relationships that sustain us through change. We’ll reflect on what it means to feel held\, supported\, and connected as queer people navigating diaspora and community-building. \n\n\n\nNOTE: This event is held virtually (over Google Meet). The meeting link will be emailed to those who registered prior to the event.  \n\n\n\nPlease RSVP through the form below
URL:https://maxottawa.ca/list/queerspora-love-friendship-and-family/
LOCATION:https://maxottawa.ca/list/queerspora-love-friendship-and-family/
CATEGORIES:MAX Programs,Social,Virtual event
ORGANIZER;CN="MAX Ottawa":MAILTO:info@maxottawa.ca
END:VEVENT
END:VCALENDAR