BEGIN:VCALENDAR
VERSION:2.0
PRODID:-//MAX Ottawa - ECPv6.15.20//NONSGML v1.0//EN
CALSCALE:GREGORIAN
METHOD:PUBLISH
X-ORIGINAL-URL:https://maxottawa.ca
X-WR-CALDESC:Events for MAX Ottawa
REFRESH-INTERVAL;VALUE=DURATION:PT1H
X-Robots-Tag:noindex
X-PUBLISHED-TTL:PT1H
BEGIN:VTIMEZONE
TZID:America/Toronto
BEGIN:DAYLIGHT
TZOFFSETFROM:-0500
TZOFFSETTO:-0400
TZNAME:EDT
DTSTART:20230312T070000
END:DAYLIGHT
BEGIN:STANDARD
TZOFFSETFROM:-0400
TZOFFSETTO:-0500
TZNAME:EST
DTSTART:20231105T060000
END:STANDARD
BEGIN:DAYLIGHT
TZOFFSETFROM:-0500
TZOFFSETTO:-0400
TZNAME:EDT
DTSTART:20240310T070000
END:DAYLIGHT
BEGIN:STANDARD
TZOFFSETFROM:-0400
TZOFFSETTO:-0500
TZNAME:EST
DTSTART:20241103T060000
END:STANDARD
BEGIN:DAYLIGHT
TZOFFSETFROM:-0500
TZOFFSETTO:-0400
TZNAME:EDT
DTSTART:20250309T070000
END:DAYLIGHT
BEGIN:STANDARD
TZOFFSETFROM:-0400
TZOFFSETTO:-0500
TZNAME:EST
DTSTART:20251102T060000
END:STANDARD
BEGIN:DAYLIGHT
TZOFFSETFROM:-0500
TZOFFSETTO:-0400
TZNAME:EDT
DTSTART:20260308T070000
END:DAYLIGHT
BEGIN:STANDARD
TZOFFSETFROM:-0400
TZOFFSETTO:-0500
TZNAME:EST
DTSTART:20261101T060000
END:STANDARD
END:VTIMEZONE
BEGIN:VEVENT
DTSTART;TZID=America/Toronto:20241231T200000
DTEND;TZID=America/Toronto:20241231T223000
DTSTAMP:20260422T085949
CREATED:20241203T191323Z
LAST-MODIFIED:20241203T192050Z
UID:10001536-1735675200-1735684200@maxottawa.ca
SUMMARY:NYE with Saltina Shaker\, Sunshine Glitterchild and Karamilk
DESCRIPTION:Ring in the NY with Karamilk\, Sunshine and Saltina serving amazing drag performances.
URL:https://maxottawa.ca/list/nye-with-saltina-shaker-sunshine-glitterchild-and-karamilk/
LOCATION:The Lookout Bar\, 41 York Street\, 2nd Floor\, Ottawa\, ON\, K1N 5S7\, Canada
CATEGORIES:Drag & Burlesque,Nightlife
END:VEVENT
BEGIN:VEVENT
DTSTART;TZID=America/Toronto:20241231T200000
DTEND;TZID=America/Toronto:20250101T020000
DTSTAMP:20260422T085949
CREATED:20241203T190437Z
LAST-MODIFIED:20241203T190445Z
UID:10001535-1735675200-1735696800@maxottawa.ca
SUMMARY:Glitch: Y2K NYE
DESCRIPTION:get ready to party like it’s 1999 at GLITCH: Y2K NYE! 💿 👾 join us at Club SAW for a night of early 2000s nostalgia with an incredible lineup of queer talent and ring in the new year Y2K style 💫 \n\n\n\njam out to beats by DJs Torin\, Hug Mosh\, and Sweet Morgane\, spinning the hits that defined a generation 💎🎧 maybe you’ll find your Y2K cutie under the neon lights and share a midnight kiss that’s\, like… totally hot 😉 \n\n\n\n🌟 brace your mainframe for pixel-perfect drag performances from Denim (Canada’s Drag Race season 4)\, Mx. Capital Pride Edith Puthie\, Peter Packer\, Mx. Tique\, and Karen Lisgays! along with the incredible drag\, Torin will also be giving us a mesmermizing hula hooping performance to help end the year with a bang <3 \n\n\n\n& step into our Y2K marketplace and browse an amazing selection of queer treasures! Featuring: Sage & Steel\, Victaurus’ Cottage\, A. J. L. Y. Artistry\, [Insert Girl Name]\, and C Slack Design — offering everything hand-crafted brilliance!! upgrade your vibe and take home something iconic 🙂 \n\n\n\nso Ottawa\, break out your velour tracksuits\, frosted tips\, and glittery flip phones\, and log into 2025! 💾💿 💻 GLITCH is the queer millennium fantasy: Y2K glam\, throwback hits with a modern twist\, and drag so good it’ll crash your system 🌐💅 don’t let your New Year buffer—this is the party you can’t miss!! see you on the dance floor\, cyber cuties xo 💋🪩 \n\n\n\n**there is a discount code for trans and BIPOC community members. if you are part of these communities\, you can use the codes ‘trans’ and ‘bipoc’ at checkout. Note: these discounts do not combine. \n\n\n\n*if price is a barrier for attending\, please reach out! \n\n\n\n<3 We would like to thank our incredible local sponsors that helped make this event possible. A massive thank you to Rideau Rollers\, Le Poisson Bleu\, Wilf and Ada’s\, and Spark Beer <3 \n\n\n\nSAW is a physically accessible space. \n\n\n\nMasking is recommended but not mandatory. There will be air purifiers running throughout the event. There will be masks and ear plugs available at the event. \n\n\n\nThis event is 19+.
URL:https://maxottawa.ca/list/glitch-y2k-nye/
LOCATION:SAW\, 67 Nicholas St\, Ottawa\, ON\, K1N 7B9\, Canada
CATEGORIES:Drag & Burlesque,Nightlife
ORGANIZER;CN="Be Proud Productions":MAILTO:beproud.prods@gmail.com
END:VEVENT
BEGIN:VEVENT
DTSTART;TZID=America/Toronto:20241231T223000
DTEND;TZID=America/Toronto:20250101T020000
DTSTAMP:20260422T085949
CREATED:20241203T191848Z
LAST-MODIFIED:20241203T191855Z
UID:10001537-1735684200-1735696800@maxottawa.ca
SUMMARY:NYE with Saltina Shaker\, Sunshine Glitterchild and Karamilk
DESCRIPTION:Ring in the New year with an amazing lineup of Queens to get 2025 started! Featuring ONDS winner Karamilk with her amazing dance skills! Sunshine Glitterchild\, the Queen of joy and wonder and Saltina Shaker … the sexy vixen of Ottawa. \n\n\n\nThis ticket comes with some amazing treats\, such as party favours and a midnight toast! We are open till 3:00 AM to keep the party going and we hope you will join us at your favourite spot in the Market to ring in 2025!!!! See you there!!! \n\n\n\nDoors open upon conclusion of the prior show\, at approx. 10:30 pm. This ticket ensures priority entry to the venue up until showtime of 10:30pm. After the show begins\, entry is subject to capacity requirements. \n\n\n\nThis performance is in a nightclub format\, and does not include seat assignments. The dance floor is open\, and customer dancing with a live DJ is invited in between drag sets\, as well as after the show until close. Refunds not granted within 48 hours of showtime. \n\n\n\n19+
URL:https://maxottawa.ca/list/nye-with-saltina-shaker-sunshine-glitterchild-and-karamilk-2/
LOCATION:The Lookout Bar\, 41 York Street\, 2nd Floor\, Ottawa\, ON\, K1N 5S7\, Canada
CATEGORIES:Drag & Burlesque,Nightlife
END:VEVENT
END:VCALENDAR