BEGIN:VCALENDAR
VERSION:2.0
PRODID:-//MAX Ottawa - ECPv6.15.20//NONSGML v1.0//EN
CALSCALE:GREGORIAN
METHOD:PUBLISH
X-ORIGINAL-URL:https://maxottawa.ca
X-WR-CALDESC:Events for MAX Ottawa
REFRESH-INTERVAL;VALUE=DURATION:PT1H
X-Robots-Tag:noindex
X-PUBLISHED-TTL:PT1H
BEGIN:VTIMEZONE
TZID:America/Toronto
BEGIN:DAYLIGHT
TZOFFSETFROM:-0500
TZOFFSETTO:-0400
TZNAME:EDT
DTSTART:20240310T070000
END:DAYLIGHT
BEGIN:STANDARD
TZOFFSETFROM:-0400
TZOFFSETTO:-0500
TZNAME:EST
DTSTART:20241103T060000
END:STANDARD
BEGIN:DAYLIGHT
TZOFFSETFROM:-0500
TZOFFSETTO:-0400
TZNAME:EDT
DTSTART:20250309T070000
END:DAYLIGHT
BEGIN:STANDARD
TZOFFSETFROM:-0400
TZOFFSETTO:-0500
TZNAME:EST
DTSTART:20251102T060000
END:STANDARD
BEGIN:DAYLIGHT
TZOFFSETFROM:-0500
TZOFFSETTO:-0400
TZNAME:EDT
DTSTART:20260308T070000
END:DAYLIGHT
BEGIN:STANDARD
TZOFFSETFROM:-0400
TZOFFSETTO:-0500
TZNAME:EST
DTSTART:20261101T060000
END:STANDARD
END:VTIMEZONE
BEGIN:VEVENT
DTSTART;TZID=America/Toronto:20250207T213000
DTEND;TZID=America/Toronto:20250208T013000
DTSTAMP:20260420T133431
CREATED:20250204T174608Z
LAST-MODIFIED:20250204T174617Z
UID:10001900-1738963800-1738978200@maxottawa.ca
SUMMARY:CAKE: Sugar Heart Disco
DESCRIPTION:This V-Day is all about the sugar!! Come out to CAKE: Sugar Heart Disco to get some sweetmeat\, find your sweetheart\, or just enjoy the vibes if you’re sweet enough solo! No matter how to you slice it\, CAKE has your valentine’s plans covered 💕 \n\n\n\nCAKE’s very own Ahmed will be making their DJ K’N4FEH debut and keep your hearts racing with beats sure to melt the iciest February night 💖 then we’ll have DJ Jayel bring you songs that will make you feel loved up\, whether you’re there with your boo\, your friends or just yourself! 🥰 \n\n\n\nThe incredible @a.j.l.y.artistry is returning to create stunning body art that’ll have you looking as sweet as candy! \n\n\n\nNeed a place to stash your layers while you dance the night away? We’ve got a coat check to keep things easy and breezy. \n\n\n\nThis event is 19+Club SAW is fully wheelchair accessible\, including washrooms.There are discounts for trans and BIPOC community members! Use the codes ‘trans’ or ‘BIPOC’ at checkout to claim your discount. Note: these discounts cannot be combined.
URL:https://maxottawa.ca/list/cake-sugar-heart-disco/
LOCATION:SAW\, 67 Nicholas St\, Ottawa\, ON\, K1N 7B9\, Canada
CATEGORIES:Nightlife,Social
ORGANIZER;CN="Be Proud Productions":MAILTO:beproud.prods@gmail.com
END:VEVENT
END:VCALENDAR